Workbook

Sheet Oferta total
A1: 3.- Asignación Docente del Profesorado Activo por asignatura y grupo- Créditos por idioma. Totes les titulacions
A3: Páginas:
A4: Curso Académico: 2026
A6: Indicadores | B6: Centro de Asignatura | D6: Idioma Asignatura | E6: Total | F6: ALEMANY | G6: CASTELLÀ | H6: FRANCÈS | I6: ANGLÈS | J6: ITALIÀ | K6: VALENCIÀ
A7: Créditos impartidos por grupo | E7: 37365.92 | F7: 163.5 | G7: 31682.02 | H7: 138 | I7: 3005.97 | J7: 31.5 | K7: 2344.96
B8: Total | E8: 37365.92 | F8: =SUM(F9:F22) -> 163.5 | G8: =SUM(G9:G22) -> 31682.025 | H8: =SUM(H9:H22) -> 138 | I8: =SUM(I9:I22) -> 3005.965 | J8: =SUM(J9:J22) -> 31.5 | K8: =SUM(K9:K22) -> 2344.96
B9: J | C9: E. POLITÉCNICA SUPERIOR DE ALCOY | E9: 3432.235 | F9: 31.5 | G9: 2968.54 | H9: 31.5 | I9: 200.75 | J9: 0 | K9: 199.95
B10: B | C10: E.T.S. DE ARQUITECTURA | E10: 4702.615 | F10: 0 | G10: 3546.59 | H10: 0 | I10: 478.09 | J10: 0 | K10: 677.94
B11: H | C11: E.T.S. DE INGENIERÍA DE EDIFICACIÓN | E11: 1110.485 | F11: 0 | G11: 1001.39 | H11: 0 | I11: 76.1 | J11: 0 | K11: 33
B12: E | C12: E.T.S. DE INGENIERIA DEL DISEÑO | E12: 4565.23 | F12: 0 | G12: 3817.31 | H12: 0 | I12: 596.53 | J12: 0 | K12: 151.39
B13: R | C13: E.T.S. DE INGENIERÍA INFORMÁTICA | E13: 3484.756 | F13: 0 | G13: 2829.73 | H13: 0 | I13: 389.2 | J13: 0 | K13: 265.83
B14: S | C14: E.T.S.I. AGRONÓMICA Y DEL MEDIO NATURAL | E14: 3046.439 | F14: 0 | G14: 2748.78 | H14: 0 | I14: 107.06 | J14: 0 | K14: 190.6
B15: C | C15: E.T.S.I. CAMINOS, CANALES Y PUERTOS | E15: 1764.266 | F15: 0 | G15: 1686.67 | H15: 0 | I15: 77.6 | J15: 0 | K15: 0
B16: T | C16: E.T.S.I. DE TELECOMUNICACIÓN | E16: 2371.107 | F16: 0 | G16: 2232.28 | H16: 0 | I16: 138.83 | J16: 0 | K16: 0
B17: G | C17: E.T.S.I. GEODESICA, CARTOGRAFICA Y TOP. | E17: 503.74 | F17: 0 | G17: 495.99 | H17: 0 | I17: 7.75 | J17: 0 | K17: 0
B18: D | C18: E.T.S.I. INDUSTRIALES | E18: 5557.486 | F18: 0 | G18: 4633.655 | H18: 0 | I18: 559.455 | J18: 0 | K18: 364.38
B19: Q | C19: ESCUELA POLITECNICA SUPERIOR DE GANDIA | E19: 1871.61 | F19: 16.5 | G19: 1597.76 | H19: 12 | I19: 119.65 | J19: 0 | K19: 125.7
B20: M | C20: FACULTAD DE ADMINISTRACIÓN Y DIRECCIÓN DE EMPRESAS | E20: 1547.447 | F20: 0 | G20: 1236.3 | H20: 0 | I20: 217.45 | J20: 0 | K20: 93.7
... B22: U | C22: U.P.V. | E22: 433.5 | F22: 115.5 | G22: 130.5 | H22: 94.5 | I22: 0 | J22: 31.5 | K22: 61.5
A23: Porcentaje del total por columnas (Créditos impartidos por grupo) | E23: 100,00% | F23: 100,00% | G23: 100,00% | H23: 100,00% | I23: 100,00% | J23: 100,00% | K23: 100,00%
B24: Total | E24: 100,00% | F24: =F8/$E8 -> 0.004375645 | G24: =G8/$E8 -> 0.84788559 | H24: =H8/$E8 -> 0.0036932049 | I24: =I8/$E8 -> 0.080446701 | J24: =J8/$E8 -> 0.00084301417 | K24: =K8/$E8 -> 0.062756651
B25: J | C25: EPSA | E25: 9,20% | F25: =F9/$E9 -> 0.0091776933 | G25: =G9/$E9 -> 0.86489998 | H25: =H9/$E9 -> 0.0091776933 | I25: =I9/$E9 -> 0.058489585 | J25: =J9/$E9 -> 0 | K25: =K9/$E9 -> 0.058256501
B26: B | C26: ETSA | E26: 11,98% | F26: =F10/$E10 -> 0 | G26: =G10/$E10 -> 0.75417401 | H26: =H10/$E10 -> 0 | I26: =I10/$E10 -> 0.10166471 | J26: =J10/$E10 -> 0 | K26: =K10/$E10 -> 0.14416234
B27: H | C27: ETSEE | E27: 2,56% | F27: =F11/$E11 -> 0 | G27: =G11/$E11 -> 0.90175914 | H27: =H11/$E11 -> 0 | I27: =I11/$E11 -> 0.068528616 | J27: =J11/$E11 -> 0 | K27: =K11/$E11 -> 0.029716745
B28: E | C28: ETSEADI | E28: 12,93% | F28: =F12/$E12 -> 0 | G28: =G12/$E12 -> 0.83617036 | H28: =H12/$E12 -> 0 | I28: =I12/$E12 -> 0.13066812 | J28: =J12/$E12 -> 0 | K28: =K12/$E12 -> 0.033161527
B29: R | C29: ETSEInf | E29: 9,80% | F29: =F13/$E13 -> 0 | G29: =G13/$E13 -> 0.81203103 | H29: =H13/$E13 -> 0 | I29: =I13/$E13 -> 0.11168644 | J29: =J13/$E13 -> 0 | K29: =K13/$E13 -> 0.076283677
B30: S | C30: ETSEAMN | E30: 7,52% | F30: =F14/$E14 -> 0 | G30: =G14/$E14 -> 0.90229281 | H30: =H14/$E14 -> 0 | I30: =I14/$E14 -> 0.03514267 | J30: =J14/$E14 -> 0 | K30: =K14/$E14 -> 0.06256485
B31: C | C31: ETSCCP | E31: 4,03% | F31: =F15/$E15 -> 0 | G31: =G15/$E15 -> 0.95601797 | H31: =H15/$E15 -> 0 | I31: =I15/$E15 -> 0.043984297 | J31: =J15/$E15 -> 0 | K31: =K15/$E15 -> 0
B32: T | C32: ETSET | E32: 7,43% | F32: =F16/$E16 -> 0 | G32: =G16/$E16 -> 0.94145055 | H32: =H16/$E16 -> 0 | I32: =I16/$E16 -> 0.058550711 | J32: =J16/$E16 -> 0 | K32: =K16/$E16 -> 0
B33: G | C33: ETSGCT | E33: 1,44% | F33: =F17/$E17 -> 0 | G33: =G17/$E17 -> 0.98461508 | H33: =H17/$E17 -> 0 | I33: =I17/$E17 -> 0.015384921 | J33: =J17/$E17 -> 0 | K33: =K17/$E17 -> 0
B34: D | C34: ETSEInd | E34: 13,16% | F34: =F18/$E18 -> 0 | G34: =G18/$E18 -> 0.83376818 | H34: =H18/$E18 -> 0 | I34: =I18/$E18 -> 0.10066692 | J34: =J18/$E18 -> 0 | K34: =K18/$E18 -> 0.065565617
B35: Q | C35: EPSG | E35: 5,98% | F35: =F19/$E19 -> 0.0088159392 | G35: =G19/$E19 -> 0.85368212 | H35: =H19/$E19 -> 0.0064115922 | I35: =I19/$E19 -> 0.063928917 | J35: =J19/$E19 -> 0 | K35: =K19/$E19 -> 0.067161428
B36: M | C36: F. ADE | E36: 4,88% | F36: =F20/$E20 -> 0 | G36: =G20/$E20 -> 0.79892882 | H36: =H20/$E20 -> 0 | I36: =I20/$E20 -> 0.14052178 | J36: =J20/$E20 -> 0 | K36: =K20/$E20 -> 0.060551347
... B38: U | C38: U.P.V. | E38: 1,76% | F38: =F22/$E22 -> 0.26643599 | G38: =G22/$E22 -> 0.30103806 | H38: =H22/$E22 -> 0.21799308 | I38: =I22/$E22 -> 0 | J38: =J22/$E22 -> 0.07266436 | K38: =K22/$E22 -> 0.14186851

Sheet Per centre 
A1: 3.- Asignación Docente del Profesorado Activo por asignatura y grupo- Créditos por idioma. Todas las titulaciones
A3: Páginas:
A4: Curso Académico: 2026
A7: Centro de Asignatura | B7: Idioma Asignatura | C7: Indicadores | D7: Créditos impartidos por grupo | E7: Porcentaje del total por columnas (Créditos impartidos por grupo)
A8: Total | D8: 39450.306 | E8: 1
A9: E. POLITÈCNICA SUPERIOR D'ALCOI | D9: 3432.235 | E9: =D9/D8 -> 0.08700148
B10: ALEMÀ | D10: 31.5 | E10: =F10*$E$9 -> 0.00079847289 | F10: =D10/$D$9 -> 0.0091776933
B11: CASTELLÀ | D11: 2968.54 | E11: =F11*$E$9 -> 0.075247579 | F11: =D11/$D$9 -> 0.86489998
B12: FRANCÈS | D12: 31.5 | E12: =F12*$E$9 -> 0.00079847289 | F12: =D12/$D$9 -> 0.0091776933
B13: ANGLÈS | D13: 200.75 | E13: =F13*$E$9 -> 0.0050886804 | F13: =D13/$D$9 -> 0.058489585
B14: VALENCIÀ | D14: 199.95 | E14: =F14*$E$9 -> 0.0050684018 | F14: =D14/$D$9 -> 0.058256501
A15: E.T.S. D'ARQUITECTURA | D15: 4702.615 | E15: =D15/D8 -> 0.11920351
B16: CASTELLÀ | D16: 3546.59 | E16: =F16*$E$15 -> 0.08990019 | F16: =D16/$D$15 -> 0.75417401
B17: ANGLÈS | D17: 478.09 | E17: =F17*$E$15 -> 0.012118791 | F17: =D17/$D$15 -> 0.10166471
B18: VALENCIÀ | D18: 677.94 | E18: =F18*$E$15 -> 0.017184658 | F18: =D18/$D$15 -> 0.14416234
A19: E.T.S. D'ENG. D'EDIFICACIÓ | D19: 1110.485 | E19: =D19/D8 -> 0.028148958
B20: CASTELLÀ | D20: 1001.39 | E20: =F20*$E$19 -> 0.02538358 | F20: =D20/$D$19 -> 0.90175914
B21: ANGLÈS | D21: 76.1 | E21: =F21*$E$19 -> 0.0019290091 | F21: =D21/$D$19 -> 0.068528616
B22: VALENCIÀ | D22: 33 | E22: =F22*$E$19 -> 0.00083649541 | F22: =D22/$D$19 -> 0.029716745
A23: E.T.S. D'ENG. DEL DISSENY | D23: 4565.23 | E23: =D23/D8 -> 0.11572103
B24: CASTELLÀ | D24: 3871.31 | E24: =F24*$E$23 -> 0.098131305 | F24: =D24/$D$23 -> 0.8479989
B25: INGLÉS | D25: 596.53 | E25: =F25*$E$23 -> 0.015121049 | F25: =D25/$D$23 -> 0.13066812
B26: VALENCIANO | D26: 151.39 | E26: =F26*$E$23 -> 0.0038374861 | F26: =D26/$D$23 -> 0.033161527
A27: E.T.S. D'ENG. INFORMÀTICA | D27: 3484.756 | E27: =D27/D8 -> 0.0883328
B28: CASTELLÀ | D28: 2829.73 | E28: =F28*$E$27 -> 0.071728975 | F28: =D28/D$27 -> 0.81203103
B29: INGLÉS | D29: 389.2 | E29: =F29*$E$27 -> 0.0098655762 | F29: =D29/D$27 -> 0.11168644
B30: VALENCIANO | D30: 265.83 | E30: =F30*$E$27 -> 0.0067383508 | F30: =D30/D$27 -> 0.076283677
A31: E.T.S.E. AGRONÒMICA I DEL MEDI NATURAL | D31: 3046.439 | E31: =D31/D8 -> 0.077222189
B32: CASTELLÀ | D32: 2748.78 | E32: =F32*$E$31 -> 0.069677026 | F32: =D32/D$31 -> 0.90229281
B33: INGLÉS | D33: 107.06 | E33: =F33*$E$31 -> 0.0027137939 | F33: =D33/D$31 -> 0.03514267
B34: VALENCIANO | D34: 190.6 | E34: =F34*$E$31 -> 0.0048313947 | F34: =D34/D$31 -> 0.06256485
A35: E.T.S.E. CAMINS, CANALS I PORTS | D35: 1764.266 | E35: =D35/D8 -> 0.044721225
B36: CASTELLÀ | D36: 1686.67 | E36: =F36*$E$35 -> 0.042754294 | F36: =D36/$D$35 -> 0.95601797
B37: INGLÉS | D37: 77.6 | E37: =F37*$E$35 -> 0.0019670316 | F37: =D37/$D$35 -> 0.043984297
A38: E.T.S.E. DE TELECOMUNICACIÓ | D38: 2371.107 | E38: =D38/D8 -> 0.06010364
B39: CASTELLÀ | D39: 2232.28 | E39: =F39*E38 -> 0.056584605 | F39: =D39/$D$38 -> 0.94145055
B40: INGLÉS | D40: 138.83 | E40: =F40*E38 -> 0.0035191109 | F40: =D40/$D$38 -> 0.058550711
A41: E.T.S.E. GEODESICA, CARTOGRAFICA Y TOP. | D41: 503.74 | E41: =D41/D8 -> 0.012768976
B42: CASTELLÀ | D42: 495.99 | E42: =F42*E41 -> 0.012572526 | F42: =D42/$D$41 -> 0.98461508
B43: INGLÉS | D43: 7.75 | E43: =F43*E41 -> 0.00019644968 | F43: =D43/$D$41 -> 0.015384921
A44: E.T.S.E. INDUSTRIALS | D44: 5557.486 | E44: =D44/$D$8 -> 0.14087308
B45: CASTELLÀ | D45: 4633.65 | E45: =F45*E44 -> 0.11745536 | F45: =D45/$D$44 -> 0.83376728
B46: INGLÉS | D46: 559.45 | E46: =F46*E44 -> 0.014181132 | F46: =D46/$D$44 -> 0.10066602
B47: VALENCIANO | D47: 364.38 | E47: =F47*E44 -> 0.0092364303 | F47: =D47/$D$44 -> 0.065565617
A48: E. POLITÈCNICA SUPERIOR DE GANDIA | D48: 1871.61 | E48: =D48/$D$8 -> 0.047442218
B49: ALEMÁN | D49: 16.5 | E49: =F49*E48 -> 0.00041824771 | F49: =D49/$D$48 -> 0.0088159392
B50: CASTELLÀ | D50: 1597.76 | E50: =F50*E48 -> 0.040500573 | F50: =D50/$D$48 -> 0.85368212
B51: FRANCÉS | D51: 12 | E51: =F51*E48 -> 0.00030418015 | F51: =D51/$D$48 -> 0.0064115922
B52: INGLÉS | D52: 119.65 | E52: =F52*E48 -> 0.0030329296 | F52: =D52/$D$48 -> 0.063928917
B53: VALENCIANO | D53: 125.7 | E53: =F53*E48 -> 0.0031862871 | F53: =D53/$D$48 -> 0.067161428
A54: FACULTAT D'ADMINISTRACIÓ I DIRECCIÓ D'EMPRESAS | D54: 1547.447 | E54: =D54/$D$8 -> 0.039225222
B55: CASTELLANO | D55: 1236.3 | E55: =F55*E54 -> 0.03133816 | F55: =D55/$D$54 -> 0.79892882
B56: INGLÉS | D56: 217.45 | E56: =F56*E54 -> 0.0055119978 | F56: =D56/$D$54 -> 0.14052178
B57: VALENCIANO | D57: 93.7 | E57: =F57*E54 -> 0.00237514 | F57: =D57/$D$54 -> 0.060551347
A58: FACULTAT DE BELLES ARTS | D58: 2975 | E58: =D58/$D$8 -> 0.075411329
B59: CASTELLANO | D59: 2756.53 | E59: =F59*E58 -> 0.069873476 | F59: =D59/D$58 -> 0.92656471
B60: INGLÉS | D60: 37.5 | E60: =F60*E58 -> 0.00095056297 | F60: =D60/D$58 -> 0.012605042
B61: VALENCIANO | D61: 180.97 | E61: =F61*E58 -> 0.0045872901 | F61: =D61/D$58 -> 0.060830252
A62: U.P.V. | D62: 433.5 | E62: =D62/$D$8 -> 0.010988508
B63: ALEMÁN | D63: 115.5 | E63: =F63*E62 -> 0.0029277339 | F63: =D63/$D$62 -> 0.26643599
B64: CASTELLANO | D64: 130.5 | E64: =F64*E62 -> 0.0033079591 | F64: =D64/$D$62 -> 0.30103806
B65: FRANCÉS | D65: 94.5 | E65: =F65*E62 -> 0.0023954187 | F65: =D65/$D$62 -> 0.21799308
B66: ITALIANO | D66: 31.5 | E66: =F66*E62 -> 0.00079847289 | F66: =D66/$D$62 -> 0.07266436
B67: VALENCIANO | D67: 61.5 | E67: =F67*E62 -> 0.0015589233 | F67: =D67/$D$62 -> 0.14186851
A69: VERA | B69: ALEMÀ | D69: =SUM('[2]TOTAL UPV'!F9:F22)-'[2]TOTAL UPV'!F19-'[2]TOTAL UPV'!F9 -> 115.5 | E69: =D69/$A$71 -> 0.0036023869 | H69: =SUM('[2]TOTAL UPV'!J10:J22)-'[2]TOTAL UPV'!J19 -> 31.5 | I69: =SUM('[2]TOTAL UPV'!K10:K22)-'[2]TOTAL UPV'!K19 -> 2019.31
A70: Total | B70: CASTELLÀ | D70: =SUM('[2]TOTAL UPV'!G9:G22)-'[2]TOTAL UPV'!G9-'[2]TOTAL UPV'!G19 -> 27115.725 | E70: =D70/$A$71 -> 0.84572583 | H70: =H69/$D$69 -> 0.27272727 | I70: =I69/$D$69 -> 17.483203
A71: ='[2]TOTAL UPV'!E8-'[2]TOTAL UPV'!E9-'[2]TOTAL UPV'!E19 -> 32062.075 | B71: FRANCÈS | D71: =SUM('[2]TOTAL UPV'!H9:H22)-'[2]TOTAL UPV'!H9-'[2]TOTAL UPV'!H19 -> 94.5 | E71: =D71/$A$71 -> 0.0029474075
B72: ANGLÈS | D72: =SUM('[2]TOTAL UPV'!I9:I22)-'[2]TOTAL UPV'!I9-'[2]TOTAL UPV'!I19 -> 2685.565 | E72: =D72/$A$71 -> 0.083761422
B73: VALENCIÀ | D73: =SUM('[2]TOTAL UPV'!K9:K22)-'[2]TOTAL UPV'!K9-'[2]TOTAL UPV'!K19 -> 2019.31 | E73: =D73/$A$71 -> 0.062981264

Sheet Per graus
A1: 2.- Asignación Docente del Profesorado Activo por asignatura y grupo- Créditos por idioma. Titulaciones de grado | T1: EPSA | Y1: ETSA | AD1: ETSED | AI1: ETSEAMN | AN1: ETSECCP | AS1: ETSET | AX1: EPSG
A3: Páginas:
A4: Curso Académico: 2026
A5: Ciclo Asignatura: Grado
A6: Créditos impartidos por grupo
A7: Indicadores | B7: Centro de Asignatura | C7: Titulación Asignatura | D7: Idioma Asignatura | E7: Total | F7: ALEMÀ | G7: CASTELLÀ | H7: FRANCÈS | I7: ANGLÈS | J7: ITALIÀ | K7: VALENCIÀ | L7: Total | M7: ALEMÀ | N7: CASTELLÀ | O7: FRANCÈS | P7: ANGLÈS | Q7: ITALIÀ | R7: VALENCIÀ
B8: Total | E8: 30568.334 | F8: 200.5 | G8: 27095.776 | H8: 175.5 | I8: 2441.51 | J8: 31.5 | K8: 2215.941 | L8: 100,00% | M8: =F8/$E$8 -> 0.0065590752 | N8: =G8/$E$8 -> 0.88640016 | O8: =H8/$E$8 -> 0.0057412354 | P8: =I8/$E$8 -> 0.079870561 | Q8: =J8/$E$8 -> 0.0010304781 | R8: =K8/$E$8 -> 0.072491389
B9: E. POLITÉCNICA SUPERIOR DE ALCOY | E9: 3070.235 | F9: =SUM(F10:F19) -> 31.5 | G9: =SUM(G10:G19) -> 2653.04 | H9: =SUM(H10:H19) -> 31.5 | I9: =SUM(I10:I19) -> 154.25 | J9: =SUM(J10:J19) -> 0 | K9: =SUM(K10:K19) -> 199.95 | L9: =E9/$E$8 -> 0.10043841 | M9: =F9/$E$9 -> 0.010259801 | N9: =G9/$E$9 -> 0.86411626 | O9: =H9/$E$9 -> 0.010259801 | P9: =I9/$E$9 -> 0.050240454 | Q9: =J9/$E$9 -> 0 | R9: =K9/$E$9 -> 0.065125308
A10: OK | C10: Grado en Ingeniería en Diseño Industrial y Desarrollo de Productos | E10: 424.15 | F10: 6 | G10: 388.7 | H10: 6 | I10: 17.25 | J10: 0 | K10: 6.2 | L10: =E10/$E$8 -> 0.01387547 | M10: =F10/$E10 -> 0.014145939 | N10: =G10/$E10 -> 0.91642108 | O10: =H10/$E10 -> 0.014145939 | P10: =I10/$E10 -> 0.040669574 | Q10: =J10/$E10 -> 0 | R10: =K10/$E10 -> 0.01461747
A11: OK | C11: Grado en Ingeniería Informática | E11: 480.2 | F11: 4.5 | G11: 379.2 | H11: 4.5 | I11: 54 | J11: 0 | K11: 38 | L11: =E11/$E$8 -> 0.015709067 | M11: =F11/$E11 -> 0.0093710954 | N11: =G11/$E11 -> 0.78967097 | O11: =H11/$E11 -> 0.0093710954 | P11: =I11/$E11 -> 0.11245314 | Q11: =J11/$E11 -> 0 | R11: =K11/$E11 -> 0.079133694
A12: OK | C12: Grado en Administración y Dirección de Empresas | E12: 425.2 | F12: 4.5 | G12: 347.7 | H12: 4.5 | I12: 41 | J12: 0 | K12: 27.5 | L12: =E12/$E$8 -> 0.013909819 | M12: =F12/$E12 -> 0.010583255 | N12: =G12/$E12 -> 0.81773283 | O12: =H12/$E12 -> 0.010583255 | P12: =I12/$E12 -> 0.096425212 | Q12: =J12/$E12 -> 0 | R12: =K12/$E12 -> 0.064675447
A13: OK | C13: Grado en Ingeniería Eléctrica | E13: 320.9 | F13: 6 | G13: 284.9 | H13: 6 | I13: 9 | J13: 0 | K13: 15 | L13: =E13/$E$8 -> 0.010497792 | M13: =F13/$E13 -> 0.018697414 | N13: =G13/$E13 -> 0.88781552 | O13: =H13/$E13 -> 0.018697414 | P13: =I13/$E13 -> 0.02804612 | Q13: =J13/$E13 -> 0 | R13: =K13/$E13 -> 0.046743534
A14: OK | C14: Grado en Ingeniería Mecánica | E14: 662.35 | F14: 6 | G14: 587 | H14: 6 | I14: 15 | J14: 0 | K14: 48.35 | L14: =E14/$E$8 -> 0.021667848 | M14: =F14/$E14 -> 0.0090586548 | N14: =G14/$E14 -> 0.88623839 | O14: =H14/$E14 -> 0.0090586548 | P14: =I14/$E14 -> 0.022646637 | Q14: =J14/$E14 -> 0 | R14: =K14/$E14 -> 0.07299766
A15: OK | C15: Grado en Ingeniería Química | E15: 259.55 | F15: 4.5 | G15: 217.3 | H15: 4.5 | I15: 9 | J15: 0 | K15: 24.25 | L15: =E15/$E$8 -> 0.0084908127 | M15: =F15/$E15 -> 0.0173377 | N15: =G15/$E15 -> 0.83721826 | O15: =H15/$E15 -> 0.0173377 | P15: =I15/$E15 -> 0.0346754 | Q15: =J15/$E15 -> 0 | R15: =K15/$E15 -> 0.093430938
A16: OK | C16: Grado en Informática Industrial y Robótica | E16: 277.5 | F16: 0 | G16: 232.5 | H16: 0 | I16: 9 | J16: 0 | K16: 36 | L16: =E16/$E$8 -> 0.0090780217 | M16: =F16/$E16 -> 0 | N16: =G16/$E16 -> 0.83783784 | O16: =H16/$E16 -> 0 | P16: =I16/$E16 -> 0.032432432 | Q16: =J16/$E16 -> 0 | R16: =K16/$E16 -> 0.12972973
A17: OK | C17: Grado en Inteligencia Artificial | E17: 117.3 | F17: 0 | G17: 115.8 | H17: 0 | I17: 0 | J17: 0 | K17: 1.5 | L17: =E17/$E$8 -> 0.0038373043 | M17: =F17/$E17 -> 0 | N17: =G17/$E17 -> 0.98721228 | O17: =H17/$E17 -> 0 | P17: =I17/$E17 -> 0 | Q17: =J17/$E17 -> 0 | R17: =K17/$E17 -> 0.012787724
A18: OK | C18: Grado en Ingeniería de Tecnología y Diseño Textil | E18: 20.585 | F18: 0 | G18: 20.59 | H18: 0 | I18: 0 | J18: 0 | K18: 0 | L18: =E18/$E$8 -> 0.00067340929 | M18: =F18/$E18 -> 0 | N18: =G18/$E18 -> 1.0002429 | O18: =H18/$E18 -> 0 | P18: =I18/$E18 -> 0 | Q18: =J18/$E18 -> 0 | R18: =K18/$E18 -> 0
A19: OK | C19: Grado en Ingeniería Química | E19: 82.5 | F19: 0 | G19: 79.35 | H19: 0 | I19: 0 | J19: 0 | K19: 3.15 | L19: =E19/$E$8 -> 0.0026988713 | M19: =F19/$E19 -> 0 | N19: =G19/$E19 -> 0.96181818 | O19: =H19/$E19 -> 0 | P19: =I19/$E19 -> 0 | Q19: =J19/$E19 -> 0 | R19: =K19/$E19 -> 0.038181818
B20: E.T.S. DE ARQUITECTURA | E20: 3714.385 | F20: =SUM(F21:F22) -> 0 | G20: =SUM(G21:G22) -> 2665 | H20: =SUM(H21:H22) -> 0 | I20: =SUM(I21:I22) -> 418.94 | J20: =SUM(J21:J22) -> 0 | K20: =SUM(K21:K22) -> 630.45 | L20: =E20/$E$8 -> 0.12151087 | M20: =F20/$E20 -> 0 | N20: =G20/$E20 -> 0.71748082 | O20: =H20/$E20 -> 0 | P20: =I20/$E20 -> 0.11278852 | Q20: =J20/$E20 -> 0 | R20: =K20/$E20 -> 0.169732
A21: OK | C21: Grado en Fundamentos de la Arquitectura | E21: 2693.36 | F21: 0 | G21: 1935.8 | H21: 0 | I21: 364.9 | J21: 0 | K21: 392.66 | L21: =E21/$E$8 -> 0.08810948 | M21: =F21/$E21 -> 0 | N21: =G21/$E21 -> 0.71873051 | O21: =H21/$E21 -> 0 | P21: =I21/$E21 -> 0.13548133 | Q21: =J21/$E21 -> 0 | R21: =K21/$E21 -> 0.14578816
A22: OK | C22: Grado en Diseño Arquitectónico de Interiores | E22: 1021.025 | F22: 0 | G22: 729.2 | H22: 0 | I22: 54.04 | J22: 0 | K22: 237.79 | L22: =E22/$E$8 -> 0.033401395 | M22: =F22/$E22 -> 0 | N22: =G22/$E22 -> 0.71418428 | O22: =H22/$E22 -> 0 | P22: =I22/$E22 -> 0.052927206 | Q22: =J22/$E22 -> 0 | R22: =K22/$E22 -> 0.23289342
B23: E.T.S. DE INGENIERÍA DE EDIFICACIÓN | E23: 978.385 | F23: =F24 -> 0 | G23: =G24 -> 869.29 | H23: =H24 -> 0 | I23: =I24 -> 76.1 | J23: =J24 -> 0 | K23: =K24 -> 33 | L23: =E23/$E$8 -> 0.032006487 | M23: =F23/$E23 -> 0 | N23: =G23/$E23 -> 0.88849482 | O23: =H23/$E23 -> 0 | P23: =I23/$E23 -> 0.077781242 | Q23: =J23/$E23 -> 0 | R23: =K23/$E23 -> 0.033729053
A24: OK | C24: Grado en Arquitectura Técnica | E24: 978.385 | F24: 0 | G24: =497.71+371.58 -> 869.29 | H24: 0 | I24: 76.1 | J24: 0 | K24: =12+21 -> 33 | L24: =E24/$E$8 -> 0.032006487 | M24: =F24/$E24 -> 0 | N24: =G24/$E24 -> 0.88849482 | O24: =H24/$E24 -> 0 | P24: =I24/$E24 -> 0.077781242 | Q24: =J24/$E24 -> 0 | R24: =K24/$E24 -> 0.033729053
B25: E.T.S. DE INGENIERIA DEL DISEÑO | E25: 3709.02 | F25: =SUM(F26:F30) -> 0 | G25: =SUM(G26:G30) -> 3204.05 | H25: =SUM(H26:H30) -> 0 | I25: =SUM(I26:I30) -> 394.67 | J25: =SUM(J26:J30) -> 0 | K25: =SUM(K26:K30) -> 151.39 | L25: =E25/$E$8 -> 0.12133537 | M25: =F25/$E25 -> 0 | N25: =G25/$E25 -> 0.86385352 | O25: =H25/$E25 -> 0 | P25: =I25/$E25 -> 0.10640816 | Q25: =J25/$E25 -> 0 | R25: =K25/$E25 -> 0.040816712
A26: OK | C26: Grado en Ingeniería en Diseño Industrial y Desarrollo de Productos | E26: 852.03 | F26: 0 | G26: 771.38 | H26: 0 | I26: 17.6 | J26: 0 | K26: 63.05 | L26: =E26/$E$8 -> 0.027872962 | M26: =F26/$E26 -> 0 | N26: =G26/$E26 -> 0.90534371 | O26: =H26/$E26 -> 0 | P26: =I26/$E26 -> 0.02065655 | Q26: =J26/$E26 -> 0 | R26: =K26/$E26 -> 0.073999742
A27: OK | C27: Grado en Ingeniería Aeroespacial | E27: =230.6+552.68 -> 783.28 | F27: 0 | G27: =97.4+392.55 -> 489.95 | H27: 0 | I27: =115.44+150.23 -> 265.67 | J27: 0 | K27: =17.65+9.9 -> 27.55 | L27: =E27/$E$8 -> 0.025623902 | M27: =F27/$E27 -> 0 | N27: =G27/$E27 -> 0.62551067 | O27: =H27/$E27 -> 0 | P27: =I27/$E27 -> 0.33917628 | Q27: =J27/$E27 -> 0 | R27: =K27/$E27 -> 0.035172607
A28: OK | C28: Grado en Ingeniería Eléctrica | E28: 398.15 | F28: 0 | G28: 359.3 | H28: 0 | I28: 20.25 | J28: 0 | K28: 18.6 | L28: =E28/$E$8 -> 0.013024917 | M28: =F28/$E28 -> 0 | N28: =G28/$E28 -> 0.90242371 | O28: =H28/$E28 -> 0 | P28: =I28/$E28 -> 0.050860229 | Q28: =J28/$E28 -> 0 | R28: =K28/$E28 -> 0.046716062
A29: OK | C29: Grado en Ingeniería Electrónica Industrial y Automática | E29: 853.01 | F29: 0 | G29: 760.87 | H29: 0 | I29: 68.65 | J29: 0 | K29: 23.49 | L29: =E29/$E$8 -> 0.027905021 | M29: =F29/$E29 -> 0 | N29: =G29/$E29 -> 0.89198251 | O29: =H29/$E29 -> 0 | P29: =I29/$E29 -> 0.080479713 | Q29: =J29/$E29 -> 0 | R29: =K29/$E29 -> 0.027537778
A30: OK | C30: Grado en Ingeniería Mecánica | E30: 893.051 | F30: 0 | G30: 822.55 | H30: 0 | I30: 22.5 | J30: 0 | K30: 18.7 | L30: =E30/$E$8 -> 0.029214906 | M30: =F30/$E30 -> 0 | N30: =G30/$E30 -> 0.92105602 | O30: =H30/$E30 -> 0 | P30: =I30/$E30 -> 0.02519453 | Q30: =J30/$E30 -> 0 | R30: =K30/$E30 -> 0.020939454
B31: E.T.S. DE INGENIERÍA INFORMÁTICA | E31: 3282.876 | F31: =SUM(F32:F35) -> 0 | G31: =SUM(G32:G35) -> 2632.35 | H31: =SUM(H32:H35) -> 0 | I31: =SUM(I32:I35) -> 383.2 | J31: =SUM(J32:J35) -> 0 | K31: =SUM(K32:K35) -> 267.33 | L31: =E31/$E$8 -> 0.10739467 | M31: =F31/$E31 -> 0 | N31: =G31/$E31 -> 0.80184265 | O31: =H31/$E31 -> 0 | P31: =I31/$E31 -> 0.11672692 | Q31: =J31/$E31 -> 0 | R31: =K31/$E31 -> 0.081431647
A32: OK | C32: Grado en Ingeniería Informática | E32: 2249.376 | F32: 0 | G32: 1716.55 | H32: 0 | I32: 270 | J32: 0 | K32: 262.83 | L32: =E32/$E$8 -> 0.073585168 | M32: =F32/$E32 -> 0 | N32: =G32/$E32 -> 0.76312275 | O32: =H32/$E32 -> 0 | P32: =I32/$E32 -> 0.12003329 | Q32: =J32/$E32 -> 0 | R32: =K32/$E32 -> 0.11684574
A33: OK | C33: Grado en Ciencia de Datos | E33: =412.75+186 -> 598.75 | F33: 0 | G33: =307.05+178.5 -> 485.55 | H33: 0 | I33: =105.7+7.5 -> 113.2 | J33: 0 | K33: 0 | L33: =E33/$E$8 -> 0.019587263 | M33: =F33/$E33 -> 0 | N33: =G33/$E33 -> 0.81093946 | O33: =H33/$E33 -> 0 | P33: =I33/$E33 -> 0.18906054 | Q33: =J33/$E33 -> 0 | R33: =K33/$E33 -> 0
A34: OK | C34: Grado en Informática Industrial y Robótica | E34: 286.25 | F34: 0 | G34: 281.75 | H34: 0 | I34: 0 | J34: 0 | K34: 4.5 | L34: =E34/$E$8 -> 0.0093642656 | M34: =F34/$E34 -> 0 | N34: =G34/$E34 -> 0.98427948 | O34: =H34/$E34 -> 0 | P34: =I34/$E34 -> 0 | Q34: =J34/$E34 -> 0 | R34: =K34/$E34 -> 0.015720524
A35: OK | C35: Grado en Inteligencia Artificial | E35: 148.5 | F35: 0 | G35: 148.5 | H35: 0 | I35: 0 | J35: 0 | K35: 0 | L35: =E35/$E$8 -> 0.0048579684 | M35: =F35/$E35 -> 0 | N35: =G35/$E35 -> 1 | O35: =H35/$E35 -> 0 | P35: =I35/$E35 -> 0 | Q35: =J35/$E35 -> 0 | R35: =K35/$E35 -> 0
B36: E.T.S.I. AGRONÓMICA Y DEL MEDIO NATURAL | E36: 2423.779 | F36: =SUM(F37:F40) -> 0 | G36: =SUM(G37:G40) -> 2102.627 | H36: =SUM(H37:H40) -> 0 | I36: =SUM(I37:I40) -> 107.06 | J36: =SUM(J37:J40) -> 0 | K36: =SUM(K37:K40) -> 181.1 | L36: =E36/$E$8 -> 0.079290517 | M36: =F36/$E36 -> 0 | N36: =G36/$E36 -> 0.86749947 | O36: =H36/$E36 -> 0 | P36: =I36/$E36 -> 0.044170694 | Q36: =J36/$E36 -> 0 | R36: =K36/$E36 -> 0.074718033
A37: OK | C37: Grado en Ingeniería Agroalimentaria y del Medio Rural | E37: 808.409 | F37: 0 | G37: 722.33 | H37: 0 | I37: 12 | J37: 0 | K37: 74.08 | L37: =E37/$E$8 -> 0.026445962 | M37: =F37/$E37 -> 0 | N37: =G37/$E37 -> 0.89352048 | O37: =H37/$E37 -> 0 | P37: =I37/$E37 -> 0.014843971 | Q37: =J37/$E37 -> 0 | R37: =K37/$E37 -> 0.091636783 | Y37: ETSEE | AS37: ETSEInd
A38: OK | C38: Grado en Ingeniería Forestal y del Medio Natural | E38: 360.73 | F38: 0 | G38: 346.01 | H38: 0 | I38: 6 | J38: 0 | K38: 8.72 | L38: =E38/$E$8 -> 0.011800774 | M38: =F38/$E38 -> 0 | N38: =G38/$E38 -> 0.95919386 | O38: =H38/$E38 -> 0 | P38: =I38/$E38 -> 0.016632939 | Q38: =J38/$E38 -> 0 | R38: =K38/$E38 -> 0.024173204
A39: OK | C39: Grado en Biotecnología | E39: 695.12 | F39: 0 | G39: 540.66 | H39: 0 | I39: 83.06 | J39: 0 | K39: 71.4 | L39: =E39/$E$8 -> 0.022739872 | M39: =F39/$E39 -> 0 | N39: =G39/$E39 -> 0.77779376 | O39: =H39/$E39 -> 0 | P39: =I39/$E39 -> 0.11949016 | Q39: =J39/$E39 -> 0 | R39: =K39/$E39 -> 0.10271608
A40: OK | C40: Grado en Ciencia y Tecnología de los Alimentos | E40: =351.51+175.01 -> 526.52 | F40: 0 | G40: =335.467+158.16 -> 493.627 | H40: 0 | I40: 6 | J40: 0 | K40: =10.05+16.85 -> 26.9 | L40: =E40/$E$8 -> 0.01722436 | M40: =F40/$E40 -> 0 | N40: =G40/$E40 -> 0.93752754 | O40: =H40/$E40 -> 0 | P40: =I40/$E40 -> 0.011395579 | Q40: =J40/$E40 -> 0 | R40: =K40/$E40 -> 0.051090177
A41: OK | C41: Grado en Química | E41: 33 | F41: 0 | G41: 33 | H41: 0 | I41: 0 | J41: 0 | K41: 0 | L41: =E41/$E$8 -> 0.0010795485 | M41: =F41/$E41 -> 0 | N41: =G41/$E41 -> 1 | O41: =H41/$E41 -> 0 | P41: =I41/$E41 -> 0 | Q41: =J41/$E41 -> 0 | R41: =K41/$E41 -> 0
B42: E.T.S.I. CAMINOS, CANALES Y PUERTOS | E42: 1181.475 | F42: =SUM(F43:F45) -> 0 | G42: =SUM(G43:G45) -> 1141.48 | H42: =SUM(H43:H45) -> 0 | I42: =SUM(I43:I45) -> 40 | J42: =SUM(J43:J45) -> 0 | K42: =SUM(K43:K45) -> 0 | L42: =E42/$E$8 -> 0.038650291 | M42: =F42/$E42 -> 0 | N42: =G42/$E42 -> 0.96614825 | O42: =H42/$E42 -> 0 | P42: =I42/$E42 -> 0.033855985 | Q42: =J42/$E42 -> 0 | R42: =K42/$E42 -> 0
A43: OK | C43: Grado en Ingeniería Civil | E43: =15.88+703 -> 718.88 | F43: 0 | G43: =15.88+694 -> 709.88 | H43: 0 | I43: 9 | J43: 0 | K43: 0 | L43: =E43/$E$8 -> 0.023517147 | M43: =F43/$E43 -> 0 | N43: =G43/$E43 -> 0.98748053 | O43: =H43/$E43 -> 0 | P43: =I43/$E43 -> 0.012519475 | Q43: =J43/$E43 -> 0 | R43: =K43/$E43 -> 0
A44: OK | C44: Grado en Gestión del Transporte y la Logística | E44: 343.5 | F44: 0 | G44: 312.5 | H44: 0 | I44: 31 | J44: 0 | K44: 0 | L44: =E44/$E$8 -> 0.011237119 | M44: =F44/$E44 -> 0 | N44: =G44/$E44 -> 0.90975255 | O44: =H44/$E44 -> 0 | P44: =I44/$E44 -> 0.090247453 | Q44: =J44/$E44 -> 0 | R44: =K44/$E44 -> 0
A45: NO | C45: Grado en Ingeniería Ambiental | E45: 119.1 | F45: 0 | G45: 119.1 | H45: 0 | I45: 0 | J45: 0 | K45: 0 | L45: =E45/$E$8 -> 0.0038961888 | M45: =F45/$E45 -> 0 | N45: =G45/$E45 -> 1 | O45: =H45/$E45 -> 0 | P45: =I45/$E45 -> 0 | Q45: =J45/$E45 -> 0 | R45: =K45/$E45 -> 0
B46: E.T.S.I. DE TELECOMUNICACIÓN | E46: 2102.577 | F46: =SUM(F47:F50) -> 0 | G46: =SUM(G47:G50) -> 2071.08 | H46: =SUM(H47:H50) -> 0 | I46: =SUM(I47:I50) -> 31.5 | J46: =SUM(J47:J50) -> 0 | K46: =SUM(K47:K50) -> 0 | L46: =E46/$E$8 -> 0.068782846 | M46: =F46/$E46 -> 0 | N46: =G46/$E46 -> 0.98501981 | O46: =H46/$E46 -> 0 | P46: =I46/$E46 -> 0.014981615 | Q46: =J46/$E46 -> 0 | R46: =K46/$E46 -> 0
A47: OK | C47: Grado en Ingeniería de Tecnologías y Servicios de Telecomunicación | E47: =307.4+821.589 -> 1128.989 | F47: 0 | G47: =790.09+307.4 -> 1097.49 | H47: 0 | I47: 31.5 | J47: 0 | K47: 0 | L47: =E47/$E$8 -> 0.036933285 | M47: =F47/$E47 -> 0 | N47: =G47/$E47 -> 0.97209982 | O47: =H47/$E47 -> 0 | P47: =I47/$E47 -> 0.027901069 | Q47: =J47/$E47 -> 0 | R47: =K47/$E47 -> 0
A48: OK | C48: Grado en Tecnología Digital y Multimedia | E48: 357.6 | F48: 0 | G48: 357.6 | H48: 0 | I48: 0 | J48: 0 | K48: 0 | L48: =E48/$E$8 -> 0.01169838 | M48: =F48/$E48 -> 0 | N48: =G48/$E48 -> 1 | O48: =H48/$E48 -> 0 | P48: =I48/$E48 -> 0 | Q48: =J48/$E48 -> 0 | R48: =K48/$E48 -> 0
C49: Grado en Matemáticas | E49: 277.25 | F49: 0 | G49: 277.25 | H49: 0 | I49: 0 | J49: 0 | K49: 0 | L49: =E49/$E$8 -> 0.0090698433 | M49: =F49/$E49 -> 0 | N49: =G49/$E49 -> 1 | O49: =H49/$E49 -> 0 | P49: =I49/$E49 -> 0 | Q49: =J49/$E49 -> 0 | R49: =K49/$E49 -> 0
C50: Grado en Ingeniería Física | E50: 338.738 | F50: 0 | G50: 338.74 | H50: 0 | I50: 0 | J50: 0 | K50: 0 | L50: =E50/$E$8 -> 0.011081337 | M50: =F50/$E50 -> 0 | N50: =G50/$E50 -> 1.0000059 | O50: =H50/$E50 -> 0 | P50: =I50/$E50 -> 0 | Q50: =J50/$E50 -> 0 | R50: =K50/$E50 -> 0
B51: E.T.S.I. GEODESICA, CARTOGRAFICA Y TOP. | E51: 415.74 | F51: 0 | G51: 407.99 | H51: 0 | I51: 7.55 | J51: 0 | K51: 0 | L51: =E51/$E$8 -> 0.013600349 | M51: =F51/$E51 -> 0 | N51: =G51/$E51 -> 0.98135854 | O51: =H51/$E51 -> 0 | P51: =I51/$E51 -> 0.018160389 | Q51: =J51/$E51 -> 0 | R51: =K51/$E51 -> 0
A52: OK | C52: Grado en Ingeniería Geomática y Topografía | E52: 415.74 | F52: 0 | G52: 407.99 | H52: 0 | I52: 7.55 | J52: 0 | K52: 0 | L52: =E52/$E$8 -> 0.013600349 | M52: =F52/$E52 -> 0 | N52: =G52/$E52 -> 0.98135854 | O52: =H52/$E52 -> 0 | P52: =I52/$E52 -> 0.018160389 | Q52: =J52/$E52 -> 0 | R52: =K52/$E52 -> 0
B53: E.T.S.I. INDUSTRIALES | E53: 3598.905 | F53: =SUM(F54:F59) -> 0 | G53: =SUM(G54:G59) -> 2938.357 | H53: =SUM(H54:H59) -> 0 | I53: =SUM(I54:I59) -> 361.55 | J53: =SUM(J54:J59) -> 0 | K53: =SUM(K54:K59) -> 305 | L53: =E53/$E$8 -> 0.11773311 | M53: =F53/$E53 -> 0 | N53: =G53/$E53 -> 0.81645862 | O53: =H53/$E53 -> 0 | P53: =I53/$E53 -> 0.10046111 | Q53: =J53/$E53 -> 0 | R53: =K53/$E53 -> 0.084748 | AN53: F BBAA
A54: NO | C54: Grado en Ingeniería Biomédica (Complementos Formación MUIng. Biomédica) | E54: 12 | F54: 0 | G54: 12 | H54: 0 | I54: 0 | J54: 0 | K54: 0 | L54: =E54/$E$8 -> 0.0003925631 | M54: =F54/$E54 -> 0 | N54: =G54/$E54 -> 1 | O54: =H54/$E54 -> 0 | P54: =I54/$E54 -> 0 | Q54: =J54/$E54 -> 0 | R54: =K54/$E54 -> 0 | Y54: ETSEI
A55: OK | C55: Grado en Ingeniería en Tecnologías Industriales | E55: 1559.097 | F55: 0 | G55: 1081.197 | H55: 0 | I55: 277.55 | J55: 0 | K55: 200.35 | L55: =E55/$E$8 -> 0.051003663 | M55: =F55/$E55 -> 0 | N55: =G55/$E55 -> 0.69347642 | O55: =H55/$E55 -> 0 | P55: =I55/$E55 -> 0.17801971 | Q55: =J55/$E55 -> 0 | R55: =K55/$E55 -> 0.12850387
A56: OK | C56: Grado en Ingeniería de Organización Industrial | E56: 610.275 | F56: 0 | G56: 574.275 | H56: 0 | I56: 36 | J56: 0 | K56: 0 | L56: =E56/$E$8 -> 0.019964287 | M56: =F56/$E56 -> 0 | N56: =G56/$E56 -> 0.9410102 | O56: =H56/$E56 -> 0 | P56: =I56/$E56 -> 0.0589898 | Q56: =J56/$E56 -> 0 | R56: =K56/$E56 -> 0
A57: OK | C57: Grado en Ingeniería de la Energía | E57: 400.125 | F57: 0 | G57: 346.125 | H57: 0 | I57: 13.5 | J57: 0 | K57: 40.5 | L57: =E57/$E$8 -> 0.013089526 | M57: =F57/$E57 -> 0 | N57: =G57/$E57 -> 0.86504217 | O57: =H57/$E57 -> 0 | P57: =I57/$E57 -> 0.033739456 | Q57: =J57/$E57 -> 0 | R57: =K57/$E57 -> 0.10121837
A58: OK | C58: Grado en Ingeniería Biomédica | E58: =343.7+154.5 -> 498.2 | F58: 0 | G58: 498.2 | H58: 0 | I58: 6 | J58: 0 | K58: 0 | L58: =E58/$E$8 -> 0.016297911 | M58: =F58/$E58 -> 0 | N58: =G58/$E58 -> 1 | O58: =H58/$E58 -> 0 | P58: =I58/$E58 -> 0.012043356 | Q58: =J58/$E58 -> 0 | R58: =K58/$E58 -> 0
A59: OK | C59: Grado en Ingeniería Química | E59: =377.92+141.29 -> 519.21 | F59: 0 | G59: =335.22+91.34 -> 426.56 | H59: 0 | I59: 28.5 | J59: 0 | K59: =14.2+49.95 -> 64.15 | L59: =E59/$E$8 -> 0.016985224 | M59: =F59/$E59 -> 0 | N59: =G59/$E59 -> 0.82155583 | O59: =H59/$E59 -> 0 | P59: =I59/$E59 -> 0.054891085 | Q59: =J59/$E59 -> 0 | R59: =K59/$E59 -> 0.12355309
B60: ESCUELA POLITECNICA SUPERIOR DE GANDIA | E60: 1533.21 | F60: =SUM(F61:F68) -> 16.5 | G60: =SUM(G61:G68) -> 1279.76 | H60: =SUM(H61:H68) -> 12 | I60: =SUM(I61:I68) -> 105.65 | J60: =SUM(J61:J68) -> 0 | K60: =SUM(K61:K68) -> 113 | L60: =E60/$E$8 -> 0.050156806 | M60: =F60/$E60 -> 0.010761735 | N60: =G60/$E60 -> 0.83469323 | O60: =H60/$E60 -> 0.0078267165 | P60: =I60/$E60 -> 0.068907716 | Q60: =J60/$E60 -> 0 | R60: =K60/$E60 -> 0.07370158
A61: OK | C61: Grado en Ciencias Ambientales | E61: 279.5 | F61: 0 | G61: 235.45 | H61: 0 | I61: 27 | J61: 0 | K61: 17.05 | L61: =E61/$E$8 -> 0.0091434489 | M61: =F61/$E61 -> 0 | N61: =G61/$E61 -> 0.84239714 | O61: =H61/$E61 -> 0 | P61: =I61/$E61 -> 0.096601073 | Q61: =J61/$E61 -> 0 | R61: =K61/$E61 -> 0.061001789
A62: OK | C62: Grado en Turismo | E62: 219.8 | F62: 12 | G62: 154.25 | H62: 12 | I62: 36.95 | J62: 0 | K62: 4.6 | L62: =E62/$E$8 -> 0.0071904475 | M62: =F62/$E62 -> 0.054595086 | N62: =G62/$E62 -> 0.70177434 | O62: =H62/$E62 -> 0.054595086 | P62: =I62/$E62 -> 0.16810737 | Q62: =J62/$E62 -> 0 | R62: =K62/$E62 -> 0.020928116
A63: OK | C63: Grado en Comunicación Audiovisual | E63: 161.5 | F63: 0 | G63: 140.75 | H63: 0 | I63: 13.5 | J63: 0 | K63: 7.25 | L63: =E63/$E$8 -> 0.0052832451 | M63: =F63/$E63 -> 0 | N63: =G63/$E63 -> 0.87151703 | O63: =H63/$E63 -> 0 | P63: =I63/$E63 -> 0.083591331 | Q63: =J63/$E63 -> 0 | R63: =K63/$E63 -> 0.044891641
A64: OK | C64: Grado en Ingeniería de Sistemas de Telecomunicación, Sonido e Imagen | E64: =82+208.5 -> 290.5 | F64: 4.5 | G64: =191.4+70 -> 261.4 | H64: 0 | I64: 6.7 | J64: 0 | K64: =5.9+12 -> 17.9 | L64: =E64/$E$8 -> 0.0095032984 | M64: =F64/$E64 -> 0.015490534 | N64: =G64/$E64 -> 0.89982788 | O64: =H64/$E64 -> 0 | P64: =I64/$E64 -> 0.023063683 | Q64: =J64/$E64 -> 0 | R64: =K64/$E64 -> 0.0616179
A65: OK | C65: Grado en Tecnologías Interactivas | E65: 232.05 | F65: 0 | G65: 198.55 | H65: 0 | I65: 4.5 | J65: 0 | K65: 29 | L65: =E65/$E$8 -> 0.007591189 | M65: =F65/$E65 -> 0 | N65: =G65/$E65 -> 0.85563456 | O65: =H65/$E65 -> 0 | P65: =I65/$E65 -> 0.019392372 | Q65: =J65/$E65 -> 0 | R65: =K65/$E65 -> 0.12497307
A66: OK | C66: Grado en Comunicación Audiovisual | E66: 274.66 | F66: 0 | G66: 222.36 | H66: 0 | I66: 8.5 | J66: 0 | K66: 29 | L66: =E66/$E$8 -> 0.0089851151 | M66: =F66/$E66 -> 0 | N66: =G66/$E66 -> 0.80958276 | O66: =H66/$E66 -> 0 | P66: =I66/$E66 -> 0.030947353 | Q66: =J66/$E66 -> 0 | R66: =K66/$E66 -> 0.10558509
A67: OK | C67: Grado en Ciencias y Tecnologías del Mar | E67: 12 | F67: 0 | G67: 12 | H67: 0 | I67: 0 | J67: 0 | K67: 0 | L67: =E67/$E$8 -> 0.0003925631 | M67: =F67/$E67 -> 0 | N67: =G67/$E67 -> 1 | O67: =H67/$E67 -> 0 | P67: =I67/$E67 -> 0 | Q67: =J67/$E67 -> 0 | R67: =K67/$E67 -> 0
A68: OK | C68: Grado en Empresa y Tecnología Digital | E68: 63.2 | F68: 0 | G68: 55 | H68: 0 | I68: 8.5 | J68: 0 | K68: 8.2 | L68: =E68/$E$8 -> 0.002067499 | M68: =F68/$E68 -> 0 | N68: =G68/$E68 -> 0.87025316 | O68: =H68/$E68 -> 0 | P68: =I68/$E68 -> 0.13449367 | Q68: =J68/$E68 -> 0 | R68: =K68/$E68 -> 0.12974684
B69: FACULTAD DE ADMINISTRACIÓN Y DIRECCIÓN DE EMPRESAS | E69: 1352.247 | F69: =SUM(F70:F72) -> 0 | G69: =SUM(G70:G72) -> 1221.1 | H69: =SUM(H70:H72) -> 0 | I69: =SUM(I70:I72) -> 213.5 | J69: =SUM(J70:J72) -> 0 | K69: =SUM(K70:K72) -> 104.6 | L69: =E69/$E$8 -> 0.044236856 | M69: =F69/$E69 -> 0 | N69: =G69/$E69 -> 0.9030155 | O69: =H69/$E69 -> 0 | P69: =I69/$E69 -> 0.15788536 | Q69: =J69/$E69 -> 0 | R69: =K69/$E69 -> 0.077352732
A70: OK | C70: Grado en Gestión y Administración Pública | E70: 219.4 | F70: 0 | G70: 246.8 | H70: 0 | I70: 13 | J70: 0 | K70: 0 | L70: =E70/$E$8 -> 0.007177362 | M70: =F70/$E70 -> 0 | N70: =G70/$E70 -> 1.1248861 | O70: =H70/$E70 -> 0 | P70: =I70/$E70 -> 0.059252507 | Q70: =J70/$E70 -> 0 | R70: =K70/$E70 -> 0
A71: OK | C71: Grado en Administración y Dirección de Empresas | E71: 1076.748 | F71: 0 | G71: 925.2 | H71: 0 | I71: 193.5 | J71: 0 | K71: 104.6 | L71: =E71/$E$8 -> 0.035224295 | M71: =F71/$E71 -> 0 | N71: =G71/$E71 -> 0.85925398 | O71: =H71/$E71 -> 0 | P71: =I71/$E71 -> 0.17970779 | Q71: =J71/$E71 -> 0 | R71: =K71/$E71 -> 0.097144364 | AI71: FADE
A72: OK | C72: Grado en Empresa y Tecnología Digital | E72: 56.099 | F72: 0 | G72: 49.1 | H72: 0 | I72: 7 | J72: 0 | K72: 0 | L72: =E72/$E$8 -> 0.0018351998 | M72: =F72/$E72 -> 0 | N72: =G72/$E72 -> 0.87523842 | O72: =H72/$E72 -> 0 | P72: =I72/$E72 -> 0.12477941 | Q72: =J72/$E72 -> 0 | R72: =K72/$E72 -> 0
B73: FACULTAD DE BELLAS ARTES | E73: 2772 | F73: =SUM(F74:F76) -> 0 | G73: =SUM(G74:G76) -> 2553.53 | H73: =SUM(H74:H76) -> 0 | I73: =SUM(I74:I76) -> 37.5 | J73: =SUM(J74:J76) -> 0 | K73: =SUM(K74:K76) -> 180.97 | L73: =E73/$E$8 -> 0.090682076 | M73: =F73/$E73 -> 0 | N73: =G73/$E73 -> 0.92118687 | O73: =H73/$E73 -> 0 | P73: =I73/$E73 -> 0.013528139 | Q73: =J73/$E73 -> 0 | R73: =K73/$E73 -> 0.065284993
A74: OK | C74: Grado en Bellas Artes | E74: 1720.5 | F74: 0 | G74: 1524.53 | H74: 0 | I74: 19.5 | J74: 0 | K74: 176.47 | L74: =E74/$E$8 -> 0.056283735 | M74: =F74/$E74 -> 0 | N74: =G74/$E74 -> 0.88609706 | O74: =H74/$E74 -> 0 | P74: =I74/$E74 -> 0.011333915 | Q74: =J74/$E74 -> 0 | R74: =K74/$E74 -> 0.10256902
A75: ok | C75: Grado en Diseño y Tecnologías Creativas | E75: 545.5 | F75: 0 | G75: 539.5 | H75: 0 | I75: 6 | J75: 0 | K75: 0
A76: OK | C76: Grado en Conservación y Restauración de Bienes Culturales | E76: 506 | F76: 0 | G76: 489.5 | H76: 0 | I76: 12 | J76: 0 | K76: 4.5 | L76: =E76/$E$8 -> 0.016553077 | M76: =F76/$E76 -> 0 | N76: =G76/$E76 -> 0.9673913 | O76: =H76/$E76 -> 0 | P76: =I76/$E76 -> 0.023715415 | Q76: =J76/$E76 -> 0 | R76: =K76/$E76 -> 0.0088932806
B78: U.P.V. | E78: 433.5 | F78: =F79 -> 115.5 | G78: =G80 -> 130.5 | H78: =H79 -> 130.5 | I78: =I79 -> 0 | J78: =J79 -> 31.5 | K78: =K79 -> 61.5 | L78: =E78/$E$8 -> 0.014181342 | M78: =F78/$E78 -> 0.26643599 | N78: =G78/$E78 -> 0.30103806 | O78: =H78/$E78 -> 0.30103806 | P78: =I78/$E78 -> 0 | Q78: =J78/$E78 -> 0.07266436 | R78: =K78/$E78 -> 0.14186851
A79: NO | C79: Idiomas Transversales | E79: 303 | F79: 115.5 | G79: 0 | H79: 130.5 | I79: 0 | J79: 31.5 | K79: 61.5 | L79: =E79/$E$8 -> 0.0099122183 | M79: =F79/$E79 -> 0.38118812 | N79: =G79/$E79 -> 0 | O79: =H79/$E79 -> 0.43069307 | P79: =I79/$E79 -> 0 | Q79: =J79/$E79 -> 0.1039604 | R79: =K79/$E79 -> 0.2029703
A80: NO | C80: Titulación UPV | E80: 130.5 | F80: 0 | G80: 130.5 | H80: 0 | I80: 0 | J80: 0 | K80: 0 | L80: =E80/$E$8 -> 0.0042691237 | M80: =F80/$E80 -> 0 | N80: =G80/$E80 -> 1 | O80: =H80/$E80 -> 0 | P80: =I80/$E80 -> 0 | Q80: =J80/$E80 -> 0 | R80: =K80/$E80 -> 0
AD88: ETSEGCT

Sheet Per depart
A1: 2.- Oferta de crèdits per llengua (tit. de grau per departaments)
A3: Páginas:
A4: Curso Académico: 2026
A5: Ciclo Asignatura: Grado
A7: Indicadores | B7: Departamento de Adscripción | D7: Total | E7: ALEMÁN | F7: CASTELLANO | G7: FRANCÉS | H7: INGLÉS | I7: ITALIANO | J7: VALENCIANO
A8: Créditos impartidos por grupo | D8: . | E8: 163.5 | F8: 25717.724 | G8: 138 | H8: 2285.425 | I8: 31.5 | J8: 2232.185
B9: Total | D9: 30568.334 | E9: 163.5 | F9: 25717.724 | G9: 138 | H9: 2285.425 | I9: 31.5 | J9: 2232.185 | K9: Total | L9: ALEMÁN | M9: CASTELLANO | N9: FRANCÉS | O9: INGLÉS | P9: ITALIANO | Q9: VALENCIANO
B10: 02 | C10: BIOTECNOLOGÍA | D10: 554.04 | E10: 0 | F10: 458.44 | G10: 0 | H10: 44.5 | I10: 0 | J10: 51.1 | L10: =E10/$D10 -> 0 | M10: =F10/$D10 -> 0.82744928 | N10: =G10/$D10 -> 0 | O10: =H10/$D$10 -> 0.080319111 | P10: =I10/$D$10 -> 0 | Q10: =J10/$D$10 -> 0.092231608
B11: 03 | C11: CIENCIA ANIMAL | D11: 136.1 | E11: 0 | F11: 115.9 | G11: 0 | H11: 4.8 | I11: 0 | J11: 15.4 | L11: =E11/$D11 -> 0 | M11: =F11/$D11 -> 0.85157972 | N11: =G11/$D11 -> 0 | O11: =H11/$D11 -> 0.035268185 | P11: =I11/$D11 -> 0 | Q11: =J11/$D11 -> 0.11315209
B12: 04 | C12: COMPOSICIÓN ARQUITECTÓNICA | D12: 329.915 | E12: 0 | F12: 223.9 | G12: 0 | H12: 42.39 | I12: 0 | J12: 63.625 | L12: =E12/$D12 -> 0 | M12: =F12/$D12 -> 0.67865965 | N12: =G12/$D12 -> 0 | O12: =H12/$D12 -> 0.12848764 | P12: =I12/$D12 -> 0 | Q12: =J12/$D12 -> 0.1928527
B13: 35 | C13: COMUNICACIÓN AUDIOVISUAL, DOCUMENTACIÓN E HISTORIA DEL ARTE | D13: 685.36 | E13: 0 | F13: 622.98 | G13: 0 | H13: 13.5 | I13: 0 | J13: 48.88 | L13: =E13/$D13 -> 0 | M13: =F13/$D13 -> 0.90898214 | N13: =G13/$D13 -> 0 | O13: =H13/$D13 -> 0.019697677 | P13: =I13/$D13 -> 0 | Q13: =J13/$D13 -> 0.071320182
B14: 39 | C14: COMUNICACIONES | D14: 1102.13 | E14: 0 | F14: 1087.83 | G14: 0 | H14: 4.5 | I14: 0 | J14: 9.8 | L14: =E14/$D14 -> 0 | M14: =F14/$D14 -> 0.98702512 | N14: =G14/$D14 -> 0 | O14: =H14/$D14 -> 0.0040830029 | P14: =I14/$D14 -> 0 | Q14: =J14/$D14 -> 0.008891873
B15: 37 | C15: CONSERVACIÓN Y RESTAURACIÓN DE BIENES CULTURALES | D15: 328.49 | E15: 0 | F15: 322.49 | G15: 0 | H15: 6 | I15: 0 | J15: 0 | L15: =E15/$D15 -> 0 | M15: =F15/$D15 -> 0.9817346 | N15: =G15/$D15 -> 0 | O15: =H15/$D15 -> 0.018265396 | P15: =I15/$D15 -> 0 | Q15: =J15/$D15 -> 0
B16: 05 | C16: CONSTRUCCIONES ARQUITECTÓNICAS | D16: 1020.45 | E16: 0 | F16: 786.95 | G16: 0 | H16: 123.15 | I16: 0 | J16: 110.35 | L16: =E16/$D16 -> 0 | M16: =F16/$D16 -> 0.77117938 | N16: =G16/$D16 -> 0 | O16: =H16/$D16 -> 0.12068205 | P16: =I16/$D16 -> 0 | Q16: =J16/$D16 -> 0.10813857
B17: 98 | C17: DEPARTAMENTOS DE OTRAS UNIVERSIDADES | D17: 68.8 | E17: 0 | F17: 68.8 | G17: 0 | H17: 0 | I17: 0 | J17: 0 | L17: =E17/$D17 -> 0 | M17: =F17/$D17 -> 1 | N17: =G17/$D17 -> 0 | O17: =H17/$D17 -> 0 | P17: =I17/$D17 -> 0 | Q17: =J17/$D17 -> 0
B18: 06 | C18: DIBUJO | D18: 1001.56 | E18: 0 | F18: 910.22 | G18: 0 | H18: 9.1 | I18: 0 | J18: 82.24 | L18: =E18/$D18 -> 0 | M18: =F18/$D18 -> 0.90880227 | N18: =G18/$D18 -> 0 | O18: =H18/$D18 -> 0.0090858261 | P18: =I18/$D18 -> 0 | Q18: =J18/$D18 -> 0.082111905
B19: 07 | C19: ECONOMÍA Y CIENCIAS SOCIALES | D19: 1264.4 | E19: 0 | F19: 1135.25 | G19: 0 | H19: 85.4 | I19: 0 | J19: 43.75 | L19: =E19/$D19 -> 0 | M19: =F19/$D19 -> 0.89785669 | N19: =G19/$D19 -> 0 | O19: =H19/$D19 -> 0.067541917 | P19: =I19/$D19 -> 0 | Q19: =J19/$D19 -> 0.034601392
B20: 44 | C20: ECOSISTEMAS AGROFORESTALES | D20: 149.75 | E20: 0 | F20: 130.8 | G20: 0 | H20: 6 | I20: 0 | J20: 12.95 | L20: =E20/$D20 -> 0 | M20: =F20/$D20 -> 0.87345576 | N20: =G20/$D20 -> 0 | O20: =H20/$D20 -> 0.040066778 | P20: =I20/$D20 -> 0 | Q20: =J20/$D20 -> 0.086477462
B21: 08 | C21: ESCULTURA | D21: 578.61 | E21: 0 | F21: 534.69 | G21: 0 | H21: 6 | I21: 0 | J21: 37.92 | L21: =E21/$D21 -> 0 | M21: =F21/$D21 -> 0.92409395 | N21: =G21/$D21 -> 0 | O21: =H21/$D21 -> 0.010369679 | P21: =I21/$D21 -> 0 | Q21: =J21/$D21 -> 0.065536372
B22: 09 | C22: ESTADÍSTICA E INVESTIGACIÓN OPERATIVA APLICADAS Y CALIDAD | D22: 970.879 | E22: 0 | F22: 832.151 | G22: 0 | H22: 64.548 | I22: 0 | J22: 74.18 | L22: =E22/$D22 -> 0 | M22: =F22/$D22 -> 0.85711093 | N22: =G22/$D22 -> 0 | O22: =H22/$D22 -> 0.066484083 | P22: =I22/$D22 -> 0 | Q22: =J22/$D22 -> 0.07640499
... B51: 34 | C51: URBANISMO | D51: 583.36 | E51: 0 | F51: 472.58 | G51: 0 | H51: 40.44 | I51: 0 | J51: 70.34 | L51: =E51/$D51 -> 0 | M51: =F51/$D51 -> 0.81010011 | N51: =G51/$D51 -> 0 | O51: =H51/$D51 -> 0.069322545 | P51: =I51/$D51 -> 0 | Q51: =J51/$D51 -> 0.12057735
B52: TOTAL - Dep. Ling | D52: =D9-D38 -> 29304.424 | E52: =E9-E38 -> 0 | F52: =F9-F38 -> 25538.544 | G52: =G9-G38 -> 0 | H52: =H9-H38 -> 1637.045 | I52: =I9-I38 -> 0 | J52: =J9-J38 -> 2128.835
E53: =E52/$D$52 -> 0 | F53: =F52/$D$52 -> 0.87149108 | G53: =G52/$D$52 -> 0 | H53: =H52/$D$52 -> 0.055863408 | I53: =I52/$D$52 -> 0 | J53: =J52/$D$52 -> 0.072645516
E54: ALEMÁN | F54: CASTELLANO | G54: FRANCÉS | H54: ANGLÈS | I54: ITALIANO | J54: VALENCIANO

Sheet Històric centres
C2: 2010 | D2: 2011 | E2: 2012 | F2: 2013 | G2: 2014 | H2: 2015 | I2: 2016 | J2: 2017 | K2: 2018 | L2: 2019 | M2: 2020 | N2: 2021 | O2: 2022 | P2: 2023 | Q2: 2024 | R2: 2025 | S2: 2026
A3: ETSA | B3: ETS. Arq | C3: 0.047 | D3: 0.034 | E3: 0.03 | F3: 0.031 | G3: 0.01 | H3: 0.056 | I3: 0.091 | J3: 0.117 | K3: 0.128 | L3: 0.127 | M3: 0.146 | N3: ='[3]DADES grau_CurCenIdiExcel'!N483 -> 0.15202464 | O3: 0.15816658 | P3: ='[3]DADES grau_CurCenIdiExcel'!N614 -> 0.15953938 | Q3: 0.14886129 | R3: 0.151 | S3: ='Per centre '!F18 -> 0.14416234
A4: ETSCCP | B4: Camins | C4: 0.044 | D4: 0.019 | E4: 0.018 | F4: 0.032 | G4: 0.037 | H4: 0.042 | I4: 0.004 | J4: 0.013 | K4: 0.01 | L4: 0.005 | M4: 0.004 | N4: 0 | O4: 0 | P4: 0 | Q4: 0 | R4: 0 | S4: 0
A5: ETSEInd | B5: Industrials | C5: 0.149 | D5: 0.126 | E5: 0.09 | F5: 0.071 | G5: 0.084 | H5: 0.137 | I5: 0.098 | J5: 0.116 | K5: 0.119 | L5: 0.12 | M5: 0.115 | N5: 0.096 | O5: 0.16118044 | P5: ='[3]DADES grau_CurCenIdiExcel'!N645 -> 0.12614639 | Q5: 0.082178708 | R5: 0.086 | S5: ='Per centre '!F47 -> 0.065565617
A6: ETSEADI | B6: ETS Disseny | C6: 0.065 | D6: 0.045 | E6: 0.022 | F6: 0.022 | G6: 0.028 | H6: 0.028 | I6: 0.07 | J6: 0.07 | K6: 0.07 | L6: 0.049 | M6: 0.047 | N6: 0.043 | O6: 0.043062117 | P6: ='[3]DADES grau_CurCenIdiExcel'!N625 -> 0.050628819 | Q6: 0.043003401 | R6: 0.039 | S6: ='Per centre '!F26 -> 0.033161527
A7: ETSEGCT | B7: Geodèsia | C7: 0 | D7: 0 | E7: 0 | F7: 0 | G7: 0 | H7: 0 | I7: 0.042 | J7: 0.035 | K7: 0.009 | L7: 0.034 | M7: 0.054 | N7: 0.027 | O7: 0 | P7: ='[3]DADES grau_CurCenIdiExcel'!N639 -> 0 | Q7: 0 | R7: 0 | S7: 0
A8: ETSEE | B8: Gest. Edif. | C8: 0.033 | D8: 0.032 | E8: 0.056 | F8: 0.051 | G8: 0.03 | H8: 0.039 | I8: 0.031 | J8: 0.026 | K8: 0.018 | L8: 0.01 | M8: 0.037 | N8: 0.039 | O8: 0.032209577 | P8: ='[3]DADES grau_CurCenIdiExcel'!N646 -> 0.011648581 | Q8: 0.026376058 | R8: 0.021 | S8: ='Per centre '!F22 -> 0.029716745
A9: EPSA | B9: EPS Alcoi | C9: 0.105 | D9: 0.107 | E9: 0.1 | F9: 0.105 | G9: 0.112 | H9: 0.121 | I9: 0.08 | J9: 0.095 | K9: 0.086 | L9: 0.044 | M9: 0.037 | N9: 0.07 | O9: 0.035997604 | P9: ='[3]DADES grau_CurCenIdiExcel'!N604 -> 0.047146797 | Q9: 0.055590885 | R9: 0.052 | S9: ='Per centre '!F14 -> 0.058256501
A10: F.BBAA | B10: Fac. BBAA | C10: 0.221 | D10: 0.147 | E10: 0.146 | F10: 0.083 | G10: 0.058 | H10: 0.08 | I10: 0.08 | J10: 0.068 | K10: 0.053 | L10: 0.062 | M10: 0.061 | N10: 0.063 | O10: 0.055493519 | P10: ='[3]DADES grau_CurCenIdiExcel'!N637 -> 0.052314309 | Q10: 0.056492374 | R10: 0.06 | S10: ='Per centre '!F61 -> 0.060830252
A11: F. ADE | B11: Fac. ADE | C11: 0.065 | D11: 0.116 | E11: 0.036 | F11: 0.043 | G11: 0.048 | H11: 0.037 | I11: 0.028 | J11: 0.069 | K11: 0.089 | L11: 0.078 | M11: 0.092 | N11: 0.089 | O11: 0.077624364 | P11: ='[3]DADES grau_CurCenIdiExcel'!N632 -> 0.070486615 | Q11: 0.074670078 | R11: 0.071 | S11: ='Per centre '!F57 -> 0.060551347
A12: EPSG | B12: EPS Gandia | C12: 0.136 | D12: 0.135 | E12: 0.098 | F12: 0.08 | G12: 0.093 | H12: 0.158 | I12: 0.134 | J12: 0.166 | K12: 0.172 | L12: 0.165 | M12: 0.127 | N12: 0.153 | O12: 0.1053821 | P12: ='[3]DADES grau_CurCenIdiExcel'!N610 -> 0.098281157 | Q12: 0.10626454 | R12: 0.087 | S12: ='Per centre '!F53 -> 0.067161428
A13: ETSIEInf | B13: ETSINF | C13: 0.252 | D13: 0.2 | E13: 0.176 | F13: 0.129 | G13: 0.13 | H13: 0.138 | I13: 0.124 | J13: 0.129 | K13: 0.122 | L13: 0.112 | M13: 0.105 | N13: 0.098 | O13: 0.10321594 | P13: ='[3]DADES grau_CurCenIdiExcel'!N629 -> 0.087460077 | Q13: 0.085706813 | R13: 0.082 | S13: ='Per centre '!F30 -> 0.076283677
A14: ETSEAMN | B14: Agronòmica | C14: 0.081 | D14: 0.058 | E14: 0.041 | F14: 0.02 | G14: 0.045 | H14: 0.083 | I14: 0.051 | J14: 0.063 | K14: 0.08 | L14: 0.059 | M14: 0.057 | N14: 0.071 | O14: 0.066460726 | P14: ='[3]DADES grau_CurCenIdiExcel'!N591 -> 0.072467164 | Q14: 0.073613219 | R14: 0.085 | S14: ='Per centre '!F34 -> 0.06256485
A15: ETSET | B15: ETS Teleco | C15: 0 | D15: 0.014 | E15: 0.022 | F15: 0.021 | G15: 0.016 | H15: 0.005 | I15: 0.021 | J15: 0 | K15: 0.006 | L15: 0.003 | M15: 0 | N15: 0 | O15: 0 | P15: ='[3]DADES grau_CurCenIdiExcel'!N619 -> 0.0031669866 | Q15: 0 | R15: 0 | S15: 0
A16: TOTAL | B16: TOTAL | C16: 0.0908 | D16: 0.0813 | E16: 0.068 | F16: 0.0564 | G16: 0.0545 | H16: 0.0736 | I16: 0.0741 | J16: ='[3]DADES grau_CurCenIdiExcel'!N320 -> 0.085555713 | K16: 0.0877 | L16: ='[3]DADES grau_CurCenIdiExcel'!N411 -> 0.078643784 | M16: ='[3]DADES grau_CurCenIdiExcel'!N458 -> 0.076587534 | N16: ='[3]DADES grau_CurCenIdiExcel'!N518 -> 0.079838089 | O16: ='[3]DADES grau_CurCenIdiExcel'!N584 -> 0.079346418 | P16: ='[3]DADES grau_CurCenIdiExcel'!N649 -> 0.075585811 | Q16: 0.070887515 | R16: 0.069 | S16: ='Per centre '!E73 -> 0.062981264

Sheet Històric dep i taula
A1: MEDITERRÀNIA | D1: ID | E1: DESC | F1: 2010 | G1: 2011 | H1: 2012 | I1: 2013 | J1: 2014 | K1: 2015 | L1: 2016 | M1: 2017 | N1: 2018 | O1: 2019 | P1: 2020 | Q1: 2021 | R1: 2022 | S1: 2023 | T1: 2024 | U1: 2025 | V1: 2026
A2: 02 | B2: BIOTECNOLOGÍA | D2: 02 | E2: BIOTECNOLOGIA | F2: 0 | G2: 0 | H2: 0 | I2: 0 | J2: 0.0034788303 | K2: 0.049257396 | L2: 0.0053408237 | M2: 0.024787833 | N2: 0.1012 | O2: 0.02628823 | P2: 0.017086992 | Q2: 0.0303 | R2: 0.046212452 | S2: 0.098870632 | T2: 0.0810702 | U2: 0.087 | V2: ='Per depart'!Q10 -> 0.092231608
A3: 03 | B3: CIENCIA ANIMAL | D3: 03 | E3: CIÈNCIA ANIMAL | F3: 0.63432836 | G3: 0.34551231 | H3: 0.12927009 | I3: 0.063469167 | J3: 0.071914685 | K3: 0.053235653 | L3: 0.09875344 | M3: 0.11352657 | N3: 0.0713 | O3: 0.077394636 | P3: 0.065839261 | Q3: 0.0849 | R3: 0.08426143 | S3: 0.078363441 | T3: 0.10710623 | U3: 0.107 | V3: ='Per depart'!Q11 -> 0.11315209
A4: 04 | B4: COMPOSICIÓN ARQUITECTÓNICA | D4: 04 | E4: COMPOSICIÓ ARQUITECTÒNICA | F4: 0.088996764 | G4: 0 | H4: 0.074349442 | I4: 0.045977011 | J4: 0.035408675 | K4: 0.13791513 | L4: 0.10410864 | M4: 0.15618899 | N4: 0.1662 | O4: 0.11613774 | P4: 0.12911877 | Q4: 0.1219 | R4: 0.13793957 | S4: 0.15181089 | T4: 0.14638992 | U4: 0.161 | V4: ='Per depart'!Q12 -> 0.1928527
A5: 35 | B5: COMUNICACIÓN AUDIOVISUAL, DOCUMENTACIÓN E HISTORIA DEL ARTE | D5: 35 | E5: COM. AUDIOVISUAL I HISTÒRIA DE L'ART | F5: 0.073845328 | G5: 0.083413539 | H5: 0.074748771 | I5: 0.035365854 | J5: 0.053377627 | K5: 0.087373111 | L5: 0.0658 | M5: 0.086702144 | N5: 0.074 | O5: 0.083330055 | P5: 0.051202067 | Q5: 0.0576 | R5: 0.02167327 | S5: 0.03386644 | T5: 0.076629917 | U5: 0.048 | V5: ='Per depart'!Q13 -> 0.071320182
A6: 39 | B6: COMUNICACIONES | D6: 39 | E6: COMUNICACIONS | F6: 0 | G6: 0.029889161 | H6: 0.089490733 | I6: 0.099657575 | J6: 0.073958082 | K6: 0.089355065 | L6: 0.0924 | M6: 0.065460247 | N6: 0.0444 | O6: 0.03581587 | P6: 0.028983169 | Q6: 0.036 | R6: 0.026101082 | S6: 0.022988808 | T6: 0.023392863 | U6: 0.021 | V6: ='Per depart'!Q14 -> 0.008891873
A7: 37 | B7: CONSERVACIÓN Y RESTAURACIÓN DE BIENES CULTURALES | D7: 37 | E7: CONSERVACIÓ I RESTAURACIÓ | F7: 0 | G7: 0 | H7: 0.4704142 | I7: 0.17296417 | J7: 0.06514658 | K7: 0 | L7: 0.0359 | M7: 0 | N7: 0 | O7: 0 | P7: 0 | Q7: 0 | R7: 0 | S7: 0 | T7: 0 | U7: 0.035 | V7: ='Per depart'!Q15 -> 0
A8: 05 | B8: CONSTRUCCIONES ARQUITECTÓNICAS | D8: 05 | E8: CONSTRUCCIONS ARQUITECTÒNIQUES | F8: 0 | G8: 0.0059229209 | H8: 0.0046767344 | I8: 0.015054778 | J8: 0.020393417 | K8: 0.039382049 | L8: 0 | M8: 0.067631409 | N8: 0.0814 | O8: 0.07706059 | P8: 0.10083685 | Q8: 0.1192 | R8: 0.11275066 | S8: 0.10109025 | T8: 0.10658407 | U8: 0.1 | V8: ='Per depart'!Q16 -> 0.10813857
A9: 98 | B9: DEPARTAMENTOS DE OTRAS UNIVERSIDADES | D9: 98 | E9: DEP. D'ALTRES UNIVERSITATS | F9: 0 | G9: 0 | H9: 0 | I9: 0 | J9: 0 | K9: 0.078431373 | L9: 0.0936 | M9: 0.050941307 | N9: 0.0509 | O9: 0.16732673 | P9: 0 | Q9: 0 | R9: 0.058631922 | S9: 0 | T9: 0 | U9: 0 | V9: ='Per depart'!Q17 -> 0
A10: 06 | B10: DIBUJO | D10: 06 | E10: DIBUIX | F10: 0.23255814 | G10: 0.15597148 | H10: 0.092233365 | I10: 0.066686514 | J10: 0.061881897 | K10: 0.082297894 | L10: 0.0509 | M10: 0.079741425 | N10: 0.054 | O10: 0.068386729 | P10: 0.066651666 | Q10: 0.0711 | R10: 0.066623417 | S10: 0.071140902 | T10: 0.066434762 | U10: 0.072 | V10: ='Per depart'!Q18 -> 0.082111905
A11: 07 | B11: ECONOMÍA Y CIENCIAS SOCIALES | D11: 07 | E11: ECONOMIA I CIÈNCIES SOCIALS | F11: 0.09077563 | G11: 0.14551878 | H11: 0.077926256 | I11: 0.089146868 | J11: 0.094328488 | K11: 0.12636087 | L11: 0.063 | M11: 0.10084803 | N11: 0.1194 | O11: 0.080004514 | P11: 0.073387206 | Q11: 0.1085 | R11: 0.062551912 | S11: 0.029854688 | T11: 0.036089607 | U11: 0.035 | V11: ='Per depart'!Q19 -> 0.034601392
A12: 44 | B12: ECOSISTEMAS AGROFORESTALES | D12: 44 | E12: ECOSISTEMES AGROFORESTALS | F12: 0 | G12: 0.028643996 | H12: 0.059699142 | I12: 0.02260939 | J12: 0.099651221 | K12: 0.10417498 | L12: 0.0779 | M12: 0.080350343 | N12: 0.1042 | O12: 0.1009539 | P12: 0.084267398 | Q12: 0.0639 | R12: 0.096796234 | S12: 0.085860839 | T12: 0.084751773 | U12: 0.087 | V12: ='Per depart'!Q20 -> 0.086477462
A13: 08 | B13: ESCULTURA | D13: 08 | E13: ESCULTURA | F13: 0.19021739 | G13: 0.14792899 | H13: 0.014093137 | I13: 0 | J13: 0.065498751 | K13: 0.13974461 | L13: 0.1382 | M13: 0.10240113 | N13: 0.0954 | O13: 0.1131564 | P13: 0.10830465 | Q13: 0.0894 | R13: 0.11201213 | S13: 0.10364854 | T13: 0.10209799 | U13: 0.102 | V13: ='Per depart'!Q21 -> 0.065536372
... A20: 42 | B20: INGENIERÍA DE SISTEMAS Y AUTOMÁTICA | D20: 42 | E20: ENG. DE SISTEMES I AUTOMÀTICA | F20: 0 | G20: 0.12048042 | H20: 0.085559206 | I20: 0.073612083 | J20: 0.064158702 | K20: 0.083547913 | L20: 0.1206 | M20: 0.12241272 | N20: 0.1271 | O20: 0.12022338 | P20: 0.087007883 | Q20: 0.0647 | R20: 0.11709591 | S20: 0.10622871 | T20: 0.086985553 | U20: 0.016 | V20: ='Per depart'!Q28 -> 0.025893752
A21: 18 | B21: INGENIERÍA DEL TERRENO | D21: 18 | E21: ENG. DEL TERRENY | F21: 0 | G21: 0 | H21: 0 | I21: 0 | J21: 0 | K21: 0.0080256822 | L21: 0.1041 | M21: 0.013347571 | N21: 0.0452 | O21: 0.037417511 | P21: 0 | Q21: 0 | R21: 0.036903395 | S21: 0.032693984 | T21: 0.037101163
A22: 40 | B22: INGENIERÍA E INFRAESTRUCTURA DE LOS TRANSPORTES | D22: 19 | E22: ENG. ELÈCTRICA | F22: 0.052805281 | G22: 0.057227015 | H22: 0.027438722 | I22: 0.019962756 | J22: 0.015895855 | K22: 0.040522527 | L22: 0.0759 | M22: 0.064126888 | N22: 0.0616 | O22: 0.049457941 | P22: 0.051592004 | Q22: 0.073 | R22: 0.079902755 | S22: 0.082928803 | T22: 0 | V22: ='Per depart'!Q30 -> 0.051006711
A23: 19 | B23: INGENIERÍA ELÉCTRICA | D23: 20 | E23: ENG. ELECTRÒNICA | F23: 0.11350885 | G23: 0.081919016 | H23: 0.036050799 | I23: 0.020516759 | J23: 0.013007902 | K23: 0.018312823 | L23: 0.0315 | M23: 0.049859648 | N23: 0.0454 | O23: 0.04799644 | P23: 0.032569742 | Q23: 0.0435 | R23: 0.044006997 | S23: 0.037800369 | T23: 0.061898852 | U23: 0.051 | V23: ='Per depart'!Q30 -> 0.051006711
A24: 20 | B24: INGENIERÍA ELECTRÓNICA | D24: 11 | E24: ENG. GRÀFICA | F24: 0.076663055 | G24: 0.065779525 | H24: 0.054071493 | I24: 0.06417717 | J24: 0.074418605 | K24: 0.12318029 | L24: 0.0613 | M24: 0.11397676 | N24: 0.1176 | O24: 0.083343684 | P24: 0.05825946 | Q24: 0.0736 | R24: 0.058690206 | S24: 0.046507213 | T24: 0.035703497 | U24: 0.038 | V24: ='Per depart'!Q31 -> 0.028717423
A25: 11 | B25: INGENIERÍA GRÁFICA | D25: 21 | E25: ENG. HIDRÀULICA I M.A. | F25: 0 | G25: 0 | H25: 0.012959951 | I25: 0.01044798 | J25: 0.027014902 | K25: 0.059842884 | L25: 0.0771 | M25: 0.067239557 | N25: 0.0682 | O25: 0.067614144 | P25: 0.0580614 | Q25: 0.0342 | R25: 0.039468039 | S25: 0.033575706 | T25: 0.045241711 | U25: 0.045 | V25: ='Per depart'!Q32 -> 0.048779532
A26: 21 | B26: INGENIERÍA HIDRÁULICA Y MEDIO AMBIENTE | D26: 40 | E26: ENG. I INFRAESTRUCTURA DELS TRANSPORTS | F26: 0 | G26: 0 | H26: 0 | I26: 0 | J26: 0 | K26: 0 | L26: 0 | M26: 0 | N26: 0 | O26: 0 | P26: 0 | Q26: 0 | R26: 0 | S26: 0 | T26: 0.017573315 | U26: 0.015 | V26: ='Per depart'!Q33 -> 0.031334842
A27: 22 | B27: INGENIERÍA MECANICA Y DE MATERIALES | D27: 22 | E27: ENG. MECÀNICA I DE MATERIALS | F27: 0.091625435 | G27: 0.075216138 | H27: 0.0453935 | I27: 0.027599595 | J27: 0.045951336 | K27: 0.05641798 | L27: 0.065 | M27: 0.090997918 | N27: 0.0829 | O27: 0.073118094 | P27: 0.049751244 | Q27: 0.0364 | R27: 0.037273412 | S27: 0.0413425 | T27: 0.044607997 | U27: 0.038 | V27: ='Per depart'!Q34 -> 0.033518067
A28: 23 | B28: INGENIERÍA QUÍMICA Y NUCLEAR | D28: 23 | E28: ENG. QUÍMICA I NUCLEAR | F28: 0 | G28: 0.23243435 | H28: 0.052532971 | I28: 0.021403119 | J28: 0.016143721 | K28: 0.03848058 | L28: 0.0218 | M28: 0.092538477 | N28: 0.0921 | O28: 0.039819428 | P28: 0.035693676 | Q28: 0.0402 | R28: 0.10494528 | S28: 0.12031998 | T28: 0.098338454 | U28: 0.057 | V28: ='Per depart'!Q35 -> 0.055221254
A29: 14 | B29: INGENIERÍA RURAL Y AGROALIMENTARIA | D29: 14 | E29: ENG. RURAL I AGROALIMENTÀRIA | F29: 0 | G29: 0 | H29: 0 | I29: 0.0025188917 | J29: 0.034676828 | K29: 0.054572826 | L29: 0.0329 | M29: 0.032633082 | N29: 0.058 | O29: 0.056226766 | P29: 0.039206424 | Q29: 0.039 | R29: 0.04384411 | S29: 0.032865907 | T29: 0.051261514 | U29: 0.07 | V29: ='Per depart'!Q36 -> 0.063469418
A30: 24 | B30: INGENIERÍA TEXTIL Y PAPELERA | D30: 24 | E30: ENG. TÈXTIL I PAPERERA | F30: 0 | G30: 0 | H30: 0 | I30: 0 | J30: 0 | K30: 0 | L30: 0 | M30: 0 | N30: 0 | O30: 0 | P30: 0 | Q30: 0 | R30: 0 | S30: 0 | T30: 0 | U30: 0 | V30: ='Per depart'!Q37 -> 0.00892326
A31: 13 | B31: LINGÜÍSTICA APLICADA | D31: 13 | E31: LINGÜÍSTICA APLICADA | F31: 0.1084524 | G31: 0.11614256 | H31: 0.11866487 | I31: 0.12130527 | J31: 0.14006658 | K31: 0.12031269 | L31: 0.059 | M31: 0.064298472 | N31: 0.0597 | O31: 0.062624796 | P31: 0.062263395 | Q31: 0.0903 | R31: 0.061990067 | S31: 0.064057931 | T31: 0.065510576 | U31: 0.061 | V31: ='Per depart'!Q38 -> 0.081770063
A32: 25 | B32: MÁQUINAS Y MOTORES TÉRMICOS | D32: 25 | E32: MÀQUINES I MOTORS TÈRMICS | F32: 0 | G32: 0 | H32: 0.019839395 | I32: 0.026830808 | J32: 0.02932838 | K32: 0.026989619 | L32: 0.0617 | M32: 0.061702759 | N32: 0.0605 | O32: 0.024172776 | P32: 0.038992202 | Q32: 0.0195 | R32: 0.021332792 | S32: 0.021730132 | T32: 0.022896164 | U32: 0.021 | V32: ='Per depart'!Q39 -> 0.022340426
A33: 26 | B33: MATEMÁTICA APLICADA | D33: 26 | E33: MATEMÀTICA APLICADA | F33: 0.16330099 | G33: 0.12764987 | H33: 0.13396838 | I33: 0.11930415 | J33: 0.10044967 | K33: 0.15210072 | L33: 0.1148 | M33: 0.11828688 | N33: 0.1172 | O33: 0.089488716 | P33: 0.10089414 | Q33: 0.1112 | R33: 0.1055245 | S33: 0.095752269 | T33: 0.095348357 | U33: 0.102 | V33: ='Per depart'!Q40 -> 0.092453181
A34: 27 | B34: MECÁNICA DE LOS MEDIOS CONTINUOS Y TEORÍA DE ESTRUCTURAS | D34: 27 | E34: MECÀNICA MEDIS CONTINUS I TEORIA D'ESTRUCTURES | F34: 0.18528156 | G34: 0.085324232 | H34: 0.052020616 | I34: 0.077007093 | J34: 0.023959426 | K34: 0.038608418 | L34: 0.0506 | M34: 0.086782655 | N34: 0.096 | O34: 0.062186486 | P34: 0.085291558 | Q34: 0.0748 | R34: 0.076785576 | S34: 0.096608681 | T34: 0.09747947 | U34: 0.094 | V34: ='Per depart'!Q41 -> 0.089905667
... A44: 34 | B44: URBANISMO | D44: 34 | E44: URBANISME | F44: 0.031444337 | G44: 0.02164831 | H44: 0.013478435 | I44: 0.060792969 | J44: 0 | K44: 0 | L44: 0.0611 | M44: 0.057217848 | N44: 0.0876 | O44: 0.067186669 | P44: 0.076735001 | Q44: 0.0821 | R44: 0.10563254 | S44: 0.099467999 | T44: 0.097717806 | U44: 0.121 | V44: ='Per depart'!Q51 -> 0.12057735
E45: TOTAL | F45: 0.097418347 | G45: 0.097520799 | H45: 0.070994225 | I45: 0.058992898 | J45: 0.067464985 | K45: 0.073615274 | L45: 0.074080112 | M45: 0.086120059 | N45: 0.087740903 | O45: 0.078643784 | P45: 0.075391137 | Q45: 0.073117823 | R45: 0.079449573 | S45: 0.075213426 | T45: 0.071538323 | U45: 0.07 | V45: 0.069529832
E46: TOTAL -Ling | F46: 0.099077822 | G46: 0.095125668 | H46: 0.068920929 | I46: 0.055234028 | J46: 0.065454865 | K46: 0.074482749 | L46: 0.074861356 | M46: 0.087191271 | N46: 0.088928493 | O46: 0.079303788 | P46: 0.075947242 | Q46: 0.072497821 | R46: 0.080148566 | S46: 0.075627942 | T46: 0.071915509 | U46: 0.07 | V46: 0.069895344
F49: % de crèdits de docència sense el Dep. De Lingüística Aplicada
G50: Valencià | H50: Anglès | I50: Castellà | J50: % Valencià | K50: % Anglès | L50: % Castellà | M50: Total
F51: 2010 | G51: 914.735 | H51: 197.275 | I51: =M51-H51-G51 -> 9020.54 | J51: 0.09027688 | K51: 0.019469433 | L51: =I51/M51 -> 0.89025369 | M51: 10132.55
F52: 2011 | G52: 1250.79 | H52: 499.693 | I52: =M52-H52-G52 -> 13886.817 | J52: 0.079987594 | K52: 0.031955197 | L52: =I52/M52 -> 0.88805721 | M52: 15637.3
F53: 2012 | G53: 1417.215 | H53: 792.99 | I53: =M53-H53-G53 -> 19264.215 | J53: 0.065995496 | K53: 0.036927191 | L53: =I53/M53 -> 0.89707731 | M53: 21474.42
F54: 2013 | G54: 1398.635 | H54: 968.58 | I54: =M54-H54-G54 -> 23870.255 | J54: 0.053306778 | K54: 0.036915907 | L54: =I54/M54 -> 0.90977731 | M54: 26237.47
F55: 2014 | G55: 1438.25 | H55: 1252.07 | I55: =M55-H55-G55 -> 26717.557 | J55: 0.048906965 | K55: 0.042576008 | L55: =I55/M55 -> 0.90851703 | M55: 29407.877
F56: 2015 | G56: 1788.86 | H56: 1506.7 | I56: =19704.46-167 -> 19537.46 | J56: 0.078345391 | K56: 0.065987836 | L56: =I56/M56 -> 0.85566782 | M56: 22832.996
F57: 2016 | G57: 2035.33 | H57: 1706.8 | I57: 22911.07 | J57: 0.076349689 | K57: 0.064025808 | L57: 0.85944444 | M57: 26658
F58: 2017 | G58: 2259.37 | H58: 1855.55 | I58: 21991.49 | J58: 0.086520651 | K58: 0.071056708 | L58: 0.84214539 | M58: 26113.65
F59: 2018 | G59: 2335.28 | H59: 1892.75 | I59: 22012.07 | J59: 0.088928493 | K59: 0.072076755 | L59: 0.83822934 | M59: 26260.2
F60: 2019 | G60: 2120.73 | H60: 1988.05 | I60: 22594.09 | J60: 0.079303788 | K60: 0.074342276 | L60: 0.8448963 | M60: 26741.85
F61: 2020 | G61: 2012.75 | H61: 1861.65 | I61: 22617.73 | J61: 0.075947242 | K61: 0.070245774 | L61: 0.85343645 | M61: 26501.95
F62: 2021 | G62: 2052.48 | H62: 2316.67 | I62: 23940.34 | J62: 0.072497821 | K62: 0.081829556 | L62: 0.84562211 | M62: 28310.92
F63: 2022 | G63: 2257.41 | H63: 1913.29 | I63: 23964.42 | J63: 0.080148566 | K63: 0.067930703 | L63: 0.85084849 | M63: 28165.32
F64: 2023 | G64: 2192.33 | H64: 1652.24 | I64: 25133.99 | J64: =G64/$M$64 -> 0.075627942 | K64: =H64/$M$64 -> 0.05699667 | L64: =I64/$M$64 -> 0.86703732 | M64: 28988.36
F65: 2024 | G65: 2068.15 | H65: 1668.65 | I65: 25304.1 | J65: 0.071215079 | K65: 0.057458619 | L65: 0.8713263 | M65: 29040.9
F66: 2025 | G66: 2129.49 | H66: 1723.01 | I66: 26885.25 | J66: 0.069 | K66: 0.056 | L66: 0.871 | M66: 30737.75
F67: 2026 | G67: ='Per depart'!J52 -> 2128.835 | H67: ='Per depart'!H52 -> 1637.045 | I67: ='Per depart'!F52 -> 25538.544 | J67: =G67/$M$67 -> 0.072645516 | K67: =H67/$M$67 -> 0.055863408 | L67: =I67/$M$67 -> 0.87149108 | M67: ='Per depart'!D52 -> 29304.424
