Workbook

Sheet TOTAL UPV
A1: 3.- Asignación Docente del Profesorado Activo por asignatura y grupo- Créditos por idioma. Totes les titulacions
A3: Páginas:
A4: Curso Académico: 2026
A6: Indicadores | B6: Centro de Asignatura | D6: Idioma Asignatura | E6: Total | F6: ALEMANY | G6: CASTELLÀ | H6: FRANCÈS | I6: ANGLÈS | J6: ITALIÀ | K6: VALENCIÀ
A7: Créditos impartidos por grupo | E7: 37365.92 | F7: 163.5 | G7: 31682.02 | H7: 138 | I7: 3005.97 | J7: 31.5 | K7: 2344.96
B8: Total | E8: 37365.92 | F8: =SUM(F9:F22) -> 163.5 | G8: =SUM(G9:G22) -> 31682.025 | H8: =SUM(H9:H22) -> 138 | I8: =SUM(I9:I22) -> 3005.965 | J8: =SUM(J9:J22) -> 31.5 | K8: =SUM(K9:K22) -> 2344.96
B9: J | C9: E. POLITÉCNICA SUPERIOR DE ALCOY | E9: 3432.235 | F9: 31.5 | G9: 2968.54 | H9: 31.5 | I9: 200.75 | J9: 0 | K9: 199.95
B10: B | C10: E.T.S. DE ARQUITECTURA | E10: 4702.615 | F10: 0 | G10: 3546.59 | H10: 0 | I10: 478.09 | J10: 0 | K10: 677.94
B11: H | C11: E.T.S. DE INGENIERÍA DE EDIFICACIÓN | E11: 1110.485 | F11: 0 | G11: 1001.39 | H11: 0 | I11: 76.1 | J11: 0 | K11: 33
B12: E | C12: E.T.S. DE INGENIERIA DEL DISEÑO | E12: 4565.23 | F12: 0 | G12: 3817.31 | H12: 0 | I12: 596.53 | J12: 0 | K12: 151.39
B13: R | C13: E.T.S. DE INGENIERÍA INFORMÁTICA | E13: 3484.756 | F13: 0 | G13: 2829.73 | H13: 0 | I13: 389.2 | J13: 0 | K13: 265.83
B14: S | C14: E.T.S.I. AGRONÓMICA Y DEL MEDIO NATURAL | E14: 3046.439 | F14: 0 | G14: 2748.78 | H14: 0 | I14: 107.06 | J14: 0 | K14: 190.6
B15: C | C15: E.T.S.I. CAMINOS, CANALES Y PUERTOS | E15: 1764.266 | F15: 0 | G15: 1686.67 | H15: 0 | I15: 77.6 | J15: 0 | K15: 0
B16: T | C16: E.T.S.I. DE TELECOMUNICACIÓN | E16: 2371.107 | F16: 0 | G16: 2232.28 | H16: 0 | I16: 138.83 | J16: 0 | K16: 0
B17: G | C17: E.T.S.I. GEODESICA, CARTOGRAFICA Y TOP. | E17: 503.74 | F17: 0 | G17: 495.99 | H17: 0 | I17: 7.75 | J17: 0 | K17: 0
B18: D | C18: E.T.S.I. INDUSTRIALES | E18: 5557.486 | F18: 0 | G18: 4633.655 | H18: 0 | I18: 559.455 | J18: 0 | K18: 364.38
B19: Q | C19: ESCUELA POLITECNICA SUPERIOR DE GANDIA | E19: 1871.61 | F19: 16.5 | G19: 1597.76 | H19: 12 | I19: 119.65 | J19: 0 | K19: 125.7
B20: M | C20: FACULTAD DE ADMINISTRACIÓN Y DIRECCIÓN DE EMPRESAS | E20: 1547.447 | F20: 0 | G20: 1236.3 | H20: 0 | I20: 217.45 | J20: 0 | K20: 93.7
... B22: U | C22: U.P.V. | E22: 433.5 | F22: 115.5 | G22: 130.5 | H22: 94.5 | I22: 0 | J22: 31.5 | K22: 61.5
A23: Porcentaje del total por columnas (Créditos impartidos por grupo) | E23: 100,00% | F23: 100,00% | G23: 100,00% | H23: 100,00% | I23: 100,00% | J23: 100,00% | K23: 100,00%
B24: Total | E24: 100,00% | F24: =F8/$E8 -> 0.004375645 | G24: =G8/$E8 -> 0.84788559 | H24: =H8/$E8 -> 0.0036932049 | I24: =I8/$E8 -> 0.080446701 | J24: =J8/$E8 -> 0.00084301417 | K24: =K8/$E8 -> 0.062756651
B25: J | C25: EPSA | E25: 9,20% | F25: =F9/$E9 -> 0.0091776933 | G25: =G9/$E9 -> 0.86489998 | H25: =H9/$E9 -> 0.0091776933 | I25: =I9/$E9 -> 0.058489585 | J25: =J9/$E9 -> 0 | K25: =K9/$E9 -> 0.058256501
B26: B | C26: ETSA | E26: 11,98% | F26: =F10/$E10 -> 0 | G26: =G10/$E10 -> 0.75417401 | H26: =H10/$E10 -> 0 | I26: =I10/$E10 -> 0.10166471 | J26: =J10/$E10 -> 0 | K26: =K10/$E10 -> 0.14416234
B27: H | C27: ETSEE | E27: 2,56% | F27: =F11/$E11 -> 0 | G27: =G11/$E11 -> 0.90175914 | H27: =H11/$E11 -> 0 | I27: =I11/$E11 -> 0.068528616 | J27: =J11/$E11 -> 0 | K27: =K11/$E11 -> 0.029716745
B28: E | C28: ETSEADI | E28: 12,93% | F28: =F12/$E12 -> 0 | G28: =G12/$E12 -> 0.83617036 | H28: =H12/$E12 -> 0 | I28: =I12/$E12 -> 0.13066812 | J28: =J12/$E12 -> 0 | K28: =K12/$E12 -> 0.033161527
B29: R | C29: ETSEInf | E29: 9,80% | F29: =F13/$E13 -> 0 | G29: =G13/$E13 -> 0.81203103 | H29: =H13/$E13 -> 0 | I29: =I13/$E13 -> 0.11168644 | J29: =J13/$E13 -> 0 | K29: =K13/$E13 -> 0.076283677
B30: S | C30: ETSEAMN | E30: 7,52% | F30: =F14/$E14 -> 0 | G30: =G14/$E14 -> 0.90229281 | H30: =H14/$E14 -> 0 | I30: =I14/$E14 -> 0.03514267 | J30: =J14/$E14 -> 0 | K30: =K14/$E14 -> 0.06256485
B31: C | C31: ETSCCP | E31: 4,03% | F31: =F15/$E15 -> 0 | G31: =G15/$E15 -> 0.95601797 | H31: =H15/$E15 -> 0 | I31: =I15/$E15 -> 0.043984297 | J31: =J15/$E15 -> 0 | K31: =K15/$E15 -> 0
B32: T | C32: ETSET | E32: 7,43% | F32: =F16/$E16 -> 0 | G32: =G16/$E16 -> 0.94145055 | H32: =H16/$E16 -> 0 | I32: =I16/$E16 -> 0.058550711 | J32: =J16/$E16 -> 0 | K32: =K16/$E16 -> 0
B33: G | C33: ETSGCT | E33: 1,44% | F33: =F17/$E17 -> 0 | G33: =G17/$E17 -> 0.98461508 | H33: =H17/$E17 -> 0 | I33: =I17/$E17 -> 0.015384921 | J33: =J17/$E17 -> 0 | K33: =K17/$E17 -> 0
B34: D | C34: ETSEInd | E34: 13,16% | F34: =F18/$E18 -> 0 | G34: =G18/$E18 -> 0.83376818 | H34: =H18/$E18 -> 0 | I34: =I18/$E18 -> 0.10066692 | J34: =J18/$E18 -> 0 | K34: =K18/$E18 -> 0.065565617
B35: Q | C35: EPSG | E35: 5,98% | F35: =F19/$E19 -> 0.0088159392 | G35: =G19/$E19 -> 0.85368212 | H35: =H19/$E19 -> 0.0064115922 | I35: =I19/$E19 -> 0.063928917 | J35: =J19/$E19 -> 0 | K35: =K19/$E19 -> 0.067161428
B36: M | C36: F. ADE | E36: 4,88% | F36: =F20/$E20 -> 0 | G36: =G20/$E20 -> 0.79892882 | H36: =H20/$E20 -> 0 | I36: =I20/$E20 -> 0.14052178 | J36: =J20/$E20 -> 0 | K36: =K20/$E20 -> 0.060551347
... B38: U | C38: U.P.V. | E38: 1,76% | F38: =F22/$E22 -> 0.26643599 | G38: =G22/$E22 -> 0.30103806 | H38: =H22/$E22 -> 0.21799308 | I38: =I22/$E22 -> 0 | J38: =J22/$E22 -> 0.07266436 | K38: =K22/$E22 -> 0.14186851

Sheet Per campus i ERT
A1: 3.- Asignación Docente del Profesorado Activo por asignatura y grupo- Créditos por idioma. Todas las titulaciones
A3: Páginas:
A4: Curso Académico: 2026
A7: Centro de Asignatura | B7: Idioma Asignatura | C7: Indicadores | D7: Créditos impartidos por grupo | E7: Porcentaje del total por columnas (Créditos impartidos por grupo)
A8: Total | D8: 39450.306 | E8: 1
A9: E. POLITÈCNICA SUPERIOR D'ALCOI | D9: 3432.235 | E9: =D9/D8 -> 0.08700148
B10: ALEMÀ | D10: 31.5 | E10: =F10*$E$9 -> 0.00079847289 | F10: =D10/$D$9 -> 0.0091776933
B11: CASTELLÀ | D11: 2968.54 | E11: =F11*$E$9 -> 0.075247579 | F11: =D11/$D$9 -> 0.86489998
B12: FRANCÈS | D12: 31.5 | E12: =F12*$E$9 -> 0.00079847289 | F12: =D12/$D$9 -> 0.0091776933
B13: ANGLÈS | D13: 200.75 | E13: =F13*$E$9 -> 0.0050886804 | F13: =D13/$D$9 -> 0.058489585
B14: VALENCIÀ | D14: 199.95 | E14: =F14*$E$9 -> 0.0050684018 | F14: =D14/$D$9 -> 0.058256501
A15: E.T.S. D'ARQUITECTURA | D15: 4702.615 | E15: =D15/D8 -> 0.11920351
B16: CASTELLÀ | D16: 3546.59 | E16: =F16*$E$15 -> 0.08990019 | F16: =D16/$D$15 -> 0.75417401
B17: ANGLÈS | D17: 478.09 | E17: =F17*$E$15 -> 0.012118791 | F17: =D17/$D$15 -> 0.10166471
B18: VALENCIÀ | D18: 677.94 | E18: =F18*$E$15 -> 0.017184658 | F18: =D18/$D$15 -> 0.14416234
A19: E.T.S. D'ENG. D'EDIFICACIÓ | D19: 1110.485 | E19: =D19/D8 -> 0.028148958
B20: CASTELLÀ | D20: 1001.39 | E20: =F20*$E$19 -> 0.02538358 | F20: =D20/$D$19 -> 0.90175914
B21: ANGLÈS | D21: 76.1 | E21: =F21*$E$19 -> 0.0019290091 | F21: =D21/$D$19 -> 0.068528616
B22: VALENCIÀ | D22: 33 | E22: =F22*$E$19 -> 0.00083649541 | F22: =D22/$D$19 -> 0.029716745
A23: E.T.S. D'ENG. DEL DISSENY | D23: 4565.23 | E23: =D23/D8 -> 0.11572103
B24: CASTELLÀ | D24: 3871.31 | E24: =F24*$E$23 -> 0.098131305 | F24: =D24/$D$23 -> 0.8479989
B25: INGLÉS | D25: 596.53 | E25: =F25*$E$23 -> 0.015121049 | F25: =D25/$D$23 -> 0.13066812
B26: VALENCIANO | D26: 151.39 | E26: =F26*$E$23 -> 0.0038374861 | F26: =D26/$D$23 -> 0.033161527
A27: E.T.S. D'ENG. INFORMÀTICA | D27: 3484.756 | E27: =D27/D8 -> 0.0883328
B28: CASTELLÀ | D28: 2829.73 | E28: =F28*$E$27 -> 0.071728975 | F28: =D28/D$27 -> 0.81203103
B29: INGLÉS | D29: 389.2 | E29: =F29*$E$27 -> 0.0098655762 | F29: =D29/D$27 -> 0.11168644
B30: VALENCIANO | D30: 265.83 | E30: =F30*$E$27 -> 0.0067383508 | F30: =D30/D$27 -> 0.076283677
A31: E.T.S.E. AGRONÒMICA I DEL MEDI NATURAL | D31: 3046.439 | E31: =D31/D8 -> 0.077222189
B32: CASTELLÀ | D32: 2748.78 | E32: =F32*$E$31 -> 0.069677026 | F32: =D32/D$31 -> 0.90229281
B33: INGLÉS | D33: 107.06 | E33: =F33*$E$31 -> 0.0027137939 | F33: =D33/D$31 -> 0.03514267
B34: VALENCIANO | D34: 190.6 | E34: =F34*$E$31 -> 0.0048313947 | F34: =D34/D$31 -> 0.06256485
A35: E.T.S.E. CAMINS, CANALS I PORTS | D35: 1764.266 | E35: =D35/D8 -> 0.044721225
B36: CASTELLÀ | D36: 1686.67 | E36: =F36*$E$35 -> 0.042754294 | F36: =D36/$D$35 -> 0.95601797
B37: INGLÉS | D37: 77.6 | E37: =F37*$E$35 -> 0.0019670316 | F37: =D37/$D$35 -> 0.043984297
A38: E.T.S.E. DE TELECOMUNICACIÓ | D38: 2371.107 | E38: =D38/D8 -> 0.06010364
B39: CASTELLÀ | D39: 2232.28 | E39: =F39*E38 -> 0.056584605 | F39: =D39/$D$38 -> 0.94145055
B40: INGLÉS | D40: 138.83 | E40: =F40*E38 -> 0.0035191109 | F40: =D40/$D$38 -> 0.058550711
A41: E.T.S.E. GEODESICA, CARTOGRAFICA Y TOP. | D41: 503.74 | E41: =D41/D8 -> 0.012768976
B42: CASTELLÀ | D42: 495.99 | E42: =F42*E41 -> 0.012572526 | F42: =D42/$D$41 -> 0.98461508
B43: INGLÉS | D43: 7.75 | E43: =F43*E41 -> 0.00019644968 | F43: =D43/$D$41 -> 0.015384921
A44: E.T.S.E. INDUSTRIALS | D44: 5557.486 | E44: =D44/$D$8 -> 0.14087308
B45: CASTELLÀ | D45: 4633.65 | E45: =F45*E44 -> 0.11745536 | F45: =D45/$D$44 -> 0.83376728
B46: INGLÉS | D46: 559.45 | E46: =F46*E44 -> 0.014181132 | F46: =D46/$D$44 -> 0.10066602
B47: VALENCIANO | D47: 364.38 | E47: =F47*E44 -> 0.0092364303 | F47: =D47/$D$44 -> 0.065565617
A48: E. POLITÈCNICA SUPERIOR DE GANDIA | D48: 1871.61 | E48: =D48/$D$8 -> 0.047442218
B49: ALEMÁN | D49: 16.5 | E49: =F49*E48 -> 0.00041824771 | F49: =D49/$D$48 -> 0.0088159392
B50: CASTELLÀ | D50: 1597.76 | E50: =F50*E48 -> 0.040500573 | F50: =D50/$D$48 -> 0.85368212
B51: FRANCÉS | D51: 12 | E51: =F51*E48 -> 0.00030418015 | F51: =D51/$D$48 -> 0.0064115922
B52: INGLÉS | D52: 119.65 | E52: =F52*E48 -> 0.0030329296 | F52: =D52/$D$48 -> 0.063928917
B53: VALENCIANO | D53: 125.7 | E53: =F53*E48 -> 0.0031862871 | F53: =D53/$D$48 -> 0.067161428
A54: FACULTAT D'ADMINISTRACIÓ I DIRECCIÓ D'EMPRESAS | D54: 1547.447 | E54: =D54/$D$8 -> 0.039225222
B55: CASTELLANO | D55: 1236.3 | E55: =F55*E54 -> 0.03133816 | F55: =D55/$D$54 -> 0.79892882
B56: INGLÉS | D56: 217.45 | E56: =F56*E54 -> 0.0055119978 | F56: =D56/$D$54 -> 0.14052178
B57: VALENCIANO | D57: 93.7 | E57: =F57*E54 -> 0.00237514 | F57: =D57/$D$54 -> 0.060551347
A58: FACULTAT DE BELLES ARTS | D58: 2975 | E58: =D58/$D$8 -> 0.075411329
B59: CASTELLANO | D59: 2756.53 | E59: =F59*E58 -> 0.069873476 | F59: =D59/D$58 -> 0.92656471
B60: INGLÉS | D60: 37.5 | E60: =F60*E58 -> 0.00095056297 | F60: =D60/D$58 -> 0.012605042
B61: VALENCIANO | D61: 180.97 | E61: =F61*E58 -> 0.0045872901 | F61: =D61/D$58 -> 0.060830252
A62: U.P.V. | D62: 433.5 | E62: =D62/$D$8 -> 0.010988508
B63: ALEMÁN | D63: 115.5 | E63: =F63*E62 -> 0.0029277339 | F63: =D63/$D$62 -> 0.26643599
B64: CASTELLANO | D64: 130.5 | E64: =F64*E62 -> 0.0033079591 | F64: =D64/$D$62 -> 0.30103806
B65: FRANCÉS | D65: 94.5 | E65: =F65*E62 -> 0.0023954187 | F65: =D65/$D$62 -> 0.21799308
B66: ITALIANO | D66: 31.5 | E66: =F66*E62 -> 0.00079847289 | F66: =D66/$D$62 -> 0.07266436
B67: VALENCIANO | D67: 61.5 | E67: =F67*E62 -> 0.0015589233 | F67: =D67/$D$62 -> 0.14186851
A68: UNIDAD DE MÁSTERES UNIVERSITARIOS | D68: 2084.39 | E68: =D68/$D$8 -> 0.052835839
B69: CASTELLANO | D69: 1970.89 | E69: =F69*E68 -> 0.049958801 | F69: =D69/D$68 -> 0.94554762
B70: FRANCÉS | D70: 1.5 | E70: =F70*E68 -> 3.8022519e-05 | F70: =D70/D$68 -> 0.000719635
B71: INGLÉS | D71: 112 | E71: =F71*E68 -> 0.0028390147 | F71: =D71/D$68 -> 0.053732747
A73: VERA | B73: ALEMÀ | D73: =SUM('TOTAL UPV'!F9:F22)-'TOTAL UPV'!F19-'TOTAL UPV'!F9 -> 115.5 | E73: =D73/$A$75 -> 0.0036023869 | H73: =SUM('TOTAL UPV'!J10:J22)-'TOTAL UPV'!J19 -> 31.5 | I73: =SUM('TOTAL UPV'!K10:K22)-'TOTAL UPV'!K19 -> 2019.31
A74: Total | B74: CASTELLÀ | D74: =SUM('TOTAL UPV'!G9:G22)-'TOTAL UPV'!G9-'TOTAL UPV'!G19 -> 27115.725 | E74: =D74/$A$75 -> 0.84572583 | H74: =H73/$D$73 -> 0.27272727 | I74: =I73/$D$73 -> 17.483203
A75: ='TOTAL UPV'!E8-'TOTAL UPV'!E9-'TOTAL UPV'!E19 -> 32062.075 | B75: FRANCÈS | D75: =SUM('TOTAL UPV'!H9:H22)-'TOTAL UPV'!H9-'TOTAL UPV'!H19 -> 94.5 | E75: =D75/$A$75 -> 0.0029474075
B76: ANGLÈS | D76: =SUM('TOTAL UPV'!I9:I22)-'TOTAL UPV'!I9-'TOTAL UPV'!I19 -> 2685.565 | E76: =D76/$A$75 -> 0.083761422
B77: VALENCIÀ | D77: =SUM('TOTAL UPV'!K9:K22)-'TOTAL UPV'!K9-'TOTAL UPV'!K19 -> 2019.31 | E77: =D77/$A$75 -> 0.062981264

Sheet Per TITUL
A1: 1.- Asignación Docente del Profesorado Activo por asignatura y grupo- Número de créditos totales UPV
A3: Páginas:
A4: Curso Académico: 2026
A6: Centro de Asignatura | B6: Titulación Asignatura | C6: Idioma Asignatura | D6: Créditos impartidos por grupo
A7: Total | D7: 39450.306
A8: E. POLITÉCNICA SUPERIOR DE ALCOY | D8: 3432.235
B9: Grado en Ingeniería en Diseño Industrial y Desarrollo de Productos | D9: 424.15
C10: ALEMANY | D10: 6 | E10: =D10/$D$9 -> 0.014145939
C11: CASTELLÀ | D11: 388.7 | E11: =D11/$D$9 -> 0.91642108
C12: FRANCÈS | D12: 6 | E12: =D12/$D$9 -> 0.014145939
C13: ANGLÈS | D13: 17.25 | E13: =D13/$D$9 -> 0.040669574
C14: VALENCIÀ | D14: 6.2 | E14: =D14/$D$9 -> 0.01461747
B15: Grado en Ingeniería Informática | D15: 478.7
C16: ALEMANY | D16: 4.5 | E16: =D16/$D$15 -> 0.0094004596
C17: CASTELLÀ | D17: 379.2 | E17: =D17/$D$15 -> 0.79214539
C18: FRANCÈS | D18: 4.5 | E18: =D18/$D$15 -> 0.0094004596
C19: ANGLÈS | D19: 52.5 | E19: =D19/$D$15 -> 0.10967203
C20: VALENCIÀ | D20: 38 | E20: =D20/$D$15 -> 0.079381659
B21: Grado en Administración y Dirección de Empresas | D21: 425.2
C22: ALEMANY | D22: 4.5 | E22: =D22/$D$21 -> 0.010583255
C23: CASTELLÀ | D23: 347.7 | E23: =D23/$D$21 -> 0.81773283
C24: FRANCÈS | D24: 4.5 | E24: =D24/$D$21 -> 0.010583255
C25: ANGLÈS | D25: 41 | E25: =D25/$D$21 -> 0.096425212
C26: VALENCIÀ | D26: 27.5 | E26: =D26/$D$21 -> 0.064675447
B27: Grado en Ingeniería Eléctrica | D27: 320.9
C28: ALEMANY | D28: 6 | E28: =D28/$D$27 -> 0.018697414
C29: CASTELLÀ | D29: 284.9 | E29: =D29/$D$27 -> 0.88781552
C30: FRANCÈS | D30: 6 | E30: =D30/$D$27 -> 0.018697414
C31: ANGLÈS | D31: 9 | E31: =D31/$D$27 -> 0.02804612
C32: VALENCIÀ | D32: 15 | E32: =D32/$D$27 -> 0.046743534
B33: Grado en Ingeniería Mecánica | D33: 662.35
C34: ALEMANY | D34: 6 | E34: =D34/$D$33 -> 0.0090586548
C35: CASTELLÀ | D35: 587 | E35: =D35/$D$33 -> 0.88623839
C36: FRANCÈS | D36: 6 | E36: =D36/$D$33 -> 0.0090586548
C37: ANGLÈS | D37: 15 | E37: =D37/$D$33 -> 0.022646637
C38: VALENCIÀ | D38: 48.35 | E38: =D38/$D$33 -> 0.07299766
B39: Grado en Ingeniería Química | D39: 259.55
C40: ALEMANY | D40: 4.5 | E40: =D40/$D$33 -> 0.0067939911
C41: CASTELLÀ | D41: 217.3 | E41: =D41/$D$33 -> 0.32807428
C42: FRANCÈS | D42: 4.5 | E42: =D42/$D$33 -> 0.0067939911
C43: ANGLÈS | D43: 9 | E43: =D43/$D$33 -> 0.013587982
C44: VALENCIÀ | D44: 24.25 | E44: =D44/$D$33 -> 0.036612063
B45: Grado en Informática Industrial y Robótica | D45: 272
C46: CASTELLÀ | D46: 227 | E46: =D46/$D$45 -> 0.83455882
C47: ANGLÈS | D47: 9 | E47: =D47/$D$45 -> 0.033088235
C48: VALENCIÀ | D48: 36 | E48: =D48/$D$45 -> 0.13235294
B49: Grado en Inteligencia Artificial | D49: 99.3
C50: CASTELLÀ | D50: 97.8 | E50: =D50/$D$49 -> 0.98489426
C51: VALENCIÀ | D51: 1.5 | E51: =D51/$D$49 -> 0.01510574
B52: Grado en Ingeniería de Tecnología y Diseño Textil | D52: 20.59
C53: CASTELLÀ | D53: 20.59
B54: Máster Universitario en Ingeniería, Procesado y Caracterización de Materiales | D54: 89.5
C55: CASTELLÀ | D55: 89.5
B56: Máster Universitario en Ingeniería de Organización y Logística | D56: 76.9
C57: CASTELLÀ | D57: 76.9
B58: Máster Universitario en Ingeniería Textil | D58: 85.6
C59: CASTELLÀ | D59: 85.6
B60: Máster Universitario en Dirección de Empresas (MBA) | D60: 87
C61: CASTELLÀ | D61: 87
B62: Máster Universitario Erasmus Mundus en Ciencia en Ingeniería Textil / Erasmus Mundus Master of Science in Textile Engineering
C63: ANGLÈS
B64: Máster Universitario en Computational Engineering & Industrial Mathematics | D64: 48
C65: ANGLÈS | D65: 48
A66: E.T.S. DE ARQUITECTURA | D66: 4702.615
B67: Grado en Fundamentos de la Arquitectura | D67: 2683.46
C68: CASTELLÀ | D68: 1930.4 | E68: =D68/$D$67 -> 0.71936977
C69: ANGLÈS | D69: 360.4 | E69: =D69/$D$67 -> 0.13430422
C70: VALENCIÀ | D70: 392.66 | E70: =D70/$D$67 -> 0.14632601
B71: Grado en Diseño Arquitectónico de Interiores | D71: 1020.925
C72: CASTELLÀ | D72: 729.1 | E72: =D72/$D$71 -> 0.71415628
C73: ANGLÈS | D73: 54.04 | E73: =D73/$D$71 -> 0.05293239
C74: VALENCIÀ | D74: 237.785 | E74: =D74/$D$71 -> 0.23291133
B75: Máster Universitario en Arquitectura | D75: 673.97
C76: CASTELLÀ | D76: 571.49 | E76: =D76/$D$75 -> 0.84794575
C77: ANGLÈS | D77: 54.99 | E77: =D77/$D$75 -> 0.081591169
C78: VALENCIÀ | D78: 47.49 | E78: =D78/$D$75 -> 0.070463077
B79: Máster Universitario en Conservación del Patrimonio Arquitectónico | D79: 85.35
C80: CASTELLÀ | D80: 85.35
B81: Máster Universitario en Paisaje y Urbanismo | D81: 66.1
C82: CASTELLÀ | D82: 66.1
B83: Máster Universitario en Innovación en el Hábitat | D83: 64.85
C84: CASTELLÀ | D84: 64.85
B85: Máster Universitario en Diseño Arquitectónico de Interiores | D85: 99.3
C86: CASTELLÀ | D86: 99.3
B87: Máster Universitario Erasmus Mundus en Earthen Architecture and Construction | D87: 8.66
C88: ANGLÈS | D88: 8.66
A89: E.T.S. DE INGENIERÍA DE EDIFICACIÓN | D89: 1110.485
B90: Grado en Arquitectura Técnica | D90: =366.13+585.21 -> 951.34
C91: CASTELLÀ | D91: =497.11+345.13 -> 842.24 | E91: =D91/$D$90 -> 0.88531965
C92: ANGLÈS | D92: 76.1 | E92: =D92/$D$90 -> 0.079992432
C93: VALENCIÀ | D93: =21+12 -> 33 | E93: =D93/$D$90 -> 0.034687914
B94: Máster Universitario en Edificación | D94: 57.7
C95: CASTELLÀ | D95: 57.7 | E95: 1
B96: Máster Universitario en Rehabilitación y Sostenibilidad en Edificación | D96: 51.25
C97: CASTELLÀ | D97: 51.25
B98: Máster Universitario en Construcción Industrializada y Prototipado en Edificación | D98: 50.2
C99: CASTELLÀ | D99: 50.2
A100: E.T.S. DE INGENIERIA DEL DISEÑO | D100: 4565.23
B101: Grado en Ingeniería en Diseño Industrial y Desarrollo de Productos | D101: 852.03
C102: CASTELLÀ | D102: 771.38 | E102: =D102/$D$101 -> 0.90534371
...

Sheet Històric ERTs
C2: 2000 | D2: 2001 | E2: 2002 | F2: 2003 | G2: 2004 | H2: 2005 | I2: 2006 | J2: 2007 | K2: 2008 | L2: 2009 | M2: 2010 | N2: 2011 | O2: 2012 | P2: 2013 | Q2: 2014 | R2: 2015 | S2: 2016 | T2: 2017 | U2: 2018 | V2: 2019 | W2: 2020 | X2: 2021 | Y2: 2022 | Z2: 2023 | AA2: 2024 | AB2: 2025 | AC2: 2026
B3: Agrònoms | C3: 0.093509971 | D3: 0.098812567 | E3: 0.08985481 | F3: 0.090435116 | G3: 0.07602666 | H3: 0.079476365 | I3: 0.074661573 | J3: 0.066827239 | K3: 0.069664541 | L3: 0.065376785 | M3: 0.055 | N3: 0.043 | O3: 0.029 | P3: 0.017 | Q3: 0.04 | R3: 0.074 | S3: 0.053 | T3: 0.06 | U3: 0.077 | V3: 0.061 | W3: 0.061 | X3: 0.07 | Y3: 0.055477207 | Z3: 0.063297878 | AA3: 0.063460838 | AB3: 0.07 | AC3: ='Per campus i ERT'!F34 -> 0.06256485 | AE3: Agrònoms
B4: ETS Arquit | C4: 0.096364547 | D4: 0.082043482 | E4: 0.079565714 | F4: 0.068697824 | G4: 0.061174198 | H4: 0.040930845 | I4: 0.033597116 | J4: 0.038525916 | K4: 0.03974648 | L4: 0.015335846 | M4: 0.014739476 | N4: 0.013359761 | O4: 0.013123252 | P4: 0.0194 | Q4: 0.0091176966 | R4: 0.049164734 | S4: 0.06532302 | T4: 0.087588101 | U4: 0.1106134 | V4: 0.11854488 | W4: 0.13070737 | X4: 0.135 | Y4: 0.13151499 | Z4: 0.13541633 | AA4: 0.12791379 | AB4: 0.13 | AC4: ='Per campus i ERT'!F18 -> 0.14416234 | AE4: ETS Arquit
B5: Camins | C5: 0.047013251 | D5: 0.045232165 | E5: 0.043293985 | F5: 0.04600976 | G5: 0.045093443 | H5: 0.052909431 | I5: 0.053255672 | J5: 0.053484577 | K5: 0.05490561 | L5: 0.042815362 | M5: 0.031638528 | N5: 0.020918474 | O5: 0.015751291 | P5: 0.0228 | Q5: 0.035281037 | R5: 0.031415869 | S5: 0.0036056067 | T5: 0.018970687 | U5: 0.0097566179 | V5: 0.004514333 | W5: 0.0030244171 | X5: 0 | Y5: 0 | Z5: 0 | AA5: 0 | AB5: 0 | AC5: 0 | AE5: Camins
B6: Industr. | C6: 0.051675231 | D6: 0.056545955 | E6: 0.060044634 | F6: 0.053964684 | G6: 0.057253416 | H6: 0.061254176 | I6: 0.052906085 | J6: 0.051449867 | K6: 0.066547677 | L6: 0.059026429 | M6: 0.063147592 | N6: 0.0448196 | O6: 0.047115371 | P6: 0.0416 | Q6: 0.07494509 | R6: 0.10092633 | S6: 0.08236755 | T6: 0.09345092 | U6: 0.098805327 | V6: 0.097353053 | W6: 0.087369839 | X6: 0.098 | Y6: 0.10721272 | Z6: 0.095361092 | AA6: 0.065455493 | AB6: 0.067 | AC6: ='Per campus i ERT'!F47 -> 0.065565617 | AE6: Industr.
B7: ETSDisseny | C7: 0.032302612 | D7: 0.065331582 | E7: 0.050312196 | F7: 0.046200688 | G7: 0.042936668 | H7: 0.052257251 | I7: 0.044680449 | J7: 0.044091432 | K7: 0.051752389 | L7: 0.041629218 | M7: 0.036144994 | N7: 0.035354342 | O7: 0.021040591 | P7: 0.0196 | Q7: 0.024697209 | R7: 0.024181214 | S7: 0.052336709 | T7: 0.057043192 | U7: 0.059538863 | V7: 0.048153409 | W7: 0.044675368 | X7: 0.044 | Y7: 0.036513079 | Z7: 0.041710311 | AA7: 0.035784006 | AB7: 0.033 | AC7: ='Per campus i ERT'!F26 -> 0.033161527 | AE7: ETSDisseny
B8: Geodèsia | C8: 0.010607735 | D8: 0.007751938 | E8: 0.0085209982 | F8: 0.01743824 | G8: 0.024504799 | H8: 0.021986971 | I8: 0.03728202 | J8: 0.035401831 | K8: 0.036129568 | L8: 0.036129568 | M8: 0.018329939 | N8: 0.01764187 | O8: 0.012056263 | P8: 0 | Q8: 0 | R8: 0 | S8: 0.045327755 | T8: 0.028933092 | U8: 0.0085106383 | V8: 0.032454361 | W8: 0.04652731 | X8: 0.027 | Y8: 0 | Z8: 0 | AA8: 0 | AB8: 0 | AC8: 0 | AE8: Geodèsia
B9: Gest.Edif. | C9: 0.030014685 | D9: 0.05160904 | E9: 0.053505282 | F9: 0.051375749 | G9: 0.044788089 | H9: 0.047936554 | I9: 0.046456513 | J9: 0.049011011 | K9: 0.050813724 | L9: 0.037456098 | M9: 0.033836451 | N9: 0.038537233 | O9: 0.045029326 | P9: 0.0416 | Q9: 0.028530103 | R9: 0.035311383 | S9: 0.033073522 | T9: 0.02516688 | U9: 0.016479895 | V9: 0.0091378444 | W9: 0.035778175 | X9: 0.039 | Y9: 0.035778175 | Z9: 0.01067104 | AA9: 0.022602732 | AB9: 0.019 | AC9: ='Per campus i ERT'!F22 -> 0.029716745 | AE9: Gest.Edif.
B10: EPS Alcoi | C10: 0.036097266 | D10: 0.068385567 | E10: 0.079292467 | F10: 0.0969876 | G10: 0.0971517 | H10: 0.10272191 | I10: 0.11132885 | J10: 0.1077314 | K10: 0.09657686 | L10: 0.089303466 | M10: 0.07661282 | N10: 0.074891347 | O10: 0.081860277 | P10: 0.0909 | Q10: 0.10298381 | R10: 0.10680843 | S10: 0.081669763 | T10: 0.083547672 | U10: 0.084870088 | V10: 0.048257405 | W10: 0.041666667 | X10: 0.07 | Y10: 0.035024666 | Z10: 0.042020971 | AA10: 0.049242661 | AB10: 0.047 | AC10: ='Per campus i ERT'!F14 -> 0.058256501 | AE10: EPS Alcoi
B11: Fac. BBAA | C11: 0.1909951 | D11: 0.20242961 | E11: 0.17695707 | F11: 0.18534173 | G11: 0.16538643 | H11: 0.15271727 | I11: 0.16088465 | J11: 0.16179708 | K11: 0.14820498 | L11: 0.14134845 | M11: 0.14247142 | N11: 0.11743344 | O11: 0.1164105 | P11: 0.078 | Q11: 0.045905844 | R11: 0.073096089 | S11: 0.078763205 | T11: 0.070327176 | U11: 0.059561505 | V11: 0.060928658 | W11: 0.059425119 | X11: 0.062 | Y11: 0.051883207 | Z11: 0.049343111 | AA11: 0.052535702 | AB11: 0.056 | AC11: ='Per campus i ERT'!F61 -> 0.060830252 | AE11: Fac. BBAA
B12: Fac. ADE | C12: 0.034988423 | D12: 0.07360552 | E12: 0.039155097 | F12: 0.038145705 | G12: 0.039321741 | H12: 0.051427684 | I12: 0.041573951 | J12: 0.042099524 | K12: 0.046826253 | L12: 0.048425528 | M12: 0.052307995 | N12: 0.081423977 | O12: 0.046904168 | P12: 0.0432 | Q12: 0.044155844 | R12: 0.033344792 | S12: 0.020302001 | T12: 0.072938006 | U12: 0.059673969 | V12: 0.061130378 | W12: 0.062233286 | X12: 0.085 | Y12: 0.072327777 | Z12: 0.061644644 | AA12: 0.065632953 | AB12: 0.065 | AC12: ='Per campus i ERT'!F57 -> 0.060551347 | AE12: Fac. ADE
B13: EPS Gandia | C13: 0.051771843 | D13: 0.075228069 | E13: 0.10110438 | F13: 0.09304956 | G13: 0.094034736 | H13: 0.094354759 | I13: 0.10896671 | J13: 0.12419579 | K13: 0.14966516 | L13: 0.11290437 | M13: 0.10272608 | N13: 0.094803441 | O13: 0.089126804 | P13: 0.0724 | Q13: 0.084030429 | R13: 0.14237166 | S13: 0.11973785 | T13: 0.1438015 | U13: 0.15378484 | V13: 0.14949914 | W13: 0.12566166 | X13: 0.151 | Y13: 0.092295975 | Z13: 0.08922843 | AA13: 0.092470851 | AB13: 0.074 | AC13: ='Per campus i ERT'!F53 -> 0.067161428 | AE13: EPS Gandia
B14: ETSINF | C14: 0.235 | D14: 0.127 | E14: 0.134 | F14: 0.098 | G14: 0.11 | H14: 0.116 | I14: 0.111 | J14: 0.097 | K14: 0.108 | L14: 0.14 | M14: 0.1417581 | N14: 0.11305459 | O14: 0.13621927 | P14: 0.1044 | Q14: 0.11573464 | R14: 0.12104647 | S14: 0.11452854 | T14: 0.12479133 | U14: 0.12058669 | V14: 0.11134748 | W14: 0.1056091 | X14: 0.098 | Y14: 0.096245894 | Z14: 0.081554854 | AA14: 0.079825608 | AB14: 0.077 | AC14: ='Per campus i ERT'!F30 -> 0.076283677 | AE14: ETSINF
B15: ETS Teleco | C15: 0.036581147 | D15: 0.03944485 | E15: 0.052217454 | F15: 0.056106059 | G15: 0.05857175 | H15: 0.067492833 | I15: 0.05740988 | J15: 0.056285714 | K15: 0.051097963 | L15: 0.046902786 | M15: 0.029968765 | N15: 0.0087439149 | O15: 0.014327062 | P15: 0.0162 | Q15: 0.014556629 | R15: 0.0042809836 | S15: 0.014070463 | T15: 0.0025593299 | U15: 0.0071665419 | V15: 0.00446371 | W15: 0 | X15: 0 | Y15: 0 | Z15: 0.0029660255 | AA15: 0 | AB15: 0 | AC15: 0 | AE15: ETS Teleco
B16: Universit. | D16: 0 | E16: 0 | F16: 0 | G16: 0 | H16: 0 | I16: 0 | J16: 0 | K16: 0 | L16: 0 | M16: 0 | N16: 0 | O16: 0 | P16: 0 | Q16: 0 | R16: 0.15541977 | S16: 0.1384083 | T16: 0.0013169389 | U16: 0.11538462 | V16: 0.15472313 | W16: 0.14414414 | X16: 0.13 | Y16: 0.12987013 | Z16: 0.13119534 | AA16: 0.14545455 | AB16: 0.129 | AC16: ='Per campus i ERT'!F67 -> 0.14186851 | AE16: Universit.
B17: Uni.Màster | I17: 0 | J17: 0.02324639 | K17: 0.036987293 | L17: 0.052368059 | M17: 0.050660596 | N17: 0.023928938 | O17: 0.020048497 | P17: 0.0173 | Q17: 0.0077535885 | R17: 0 | S17: 0.138 | T17: 0.13107968 | U17: 0 | V17: 0 | W17: 0 | X17: 0 | Y17: 0 | Z17: 0 | AA17: 0 | AB17: 0 | AC17: 0 | AE17: Uni.Màster
B18: TOTALS | C18: 0.079530401 | D18: 0.078918277 | E18: 0.078927157 | F18: 0.078977099 | G18: 0.072985187 | H18: 0.073988476 | I18: 0.068712949 | J18: 0.068982245 | K18: 0.073383394 | L18: 0.066560149 | M18: 0.062322847 | N18: 0.051283729 | O18: 0.04807546 | P18: 0.042 | Q18: 0.046257829 | R18: 0.064237705 | S18: 0.061236382 | T18: 0.070910234 | U18: 0.074015243 | V18: 0.069837409 | W18: 0.066037645 | X18: 0.073041072 | Y18: 0.063268599 | Z18: 0.062389407 | AA18: 0.058256574 | AB18: 0.057 | AC18: ='TOTAL UPV'!K24 -> 0.062756651 | AE18: TOTALS

Sheet Històric DEPs
B1: 2000 | C1: 2001 | D1: 2002 | E1: 2003 | F1: 2004 | G1: 2005 | H1: 2006 | I1: 2007 | J1: 2008 | K1: 2009 | L1: 2010 | M1: 2011 | N1: 2012 | O1: 2013 | P1: 2014 | Q1: 2015 | R1: 2016 | S1: 2017 | T1: 2018 | U1: 2019 | V1: 2020 | W1: 2021 | X1: 2022 | Y1: 2023 | Z1: 2024 | AA1: 2025 | AB1: 2026
A2: BIOLOGIA VEGETAL | B2: 0.064981949 | C2: 0.090163934 | D2: 0.1015625 | E2: 0.10870177 | F2: 0.12379778 | G2: 0.1033167 | H2: 0.092875318 | I2: 0.13286037 | J2: 0.15882754 | AC2: BIOLOGIA VEGETAL | AD2: ANEU EN COMPTE QUE NO TENEN EL MATEIX ORDRE QUE ANTIGAMENT | AE2: Les últimes columnes ja tenen com valor les cel·les del departament corresponent
A3: BIOTECNOLOGIA | B3: 0.09990862 | C3: 0.16428808 | D3: 0.094074377 | E3: 0.05255561 | F3: 0.026948507 | G3: 0.024138602 | H3: 0.022971846 | I3: 0.028328612 | J3: 0.019746992 | K3: 0.022971488 | L3: 0.0081381154 | M3: 0.0048062481 | N3: 0.00113617 | O3: 0 | P3: 0.0022777822 | Q3: 0.028528815 | R3: 0.0047784228 | S3: 0.019760772 | T3: 0.074838323 | U3: 0.016114385 | V3: ='[2]2020'!L2 -> 0.013838422 | W3: 0.03 | X3: ='[2]2022'!L2 -> 0.071003123 | Y3: ='[2]2022'!M2 -> 0.064439626 | Z3: ='[2]2022'!N2 -> 0.055334054 | AA3: 0.062 | AB3: 0.092 | AC3: BIOTECNOLOGIA
A4: CIÈNCIA ANIMAL | B4: 0.043741231 | C4: 0.10706472 | D4: 0.10507454 | E4: 0.022733446 | F4: 0.054950119 | G4: 0.032772765 | H4: 0.035869164 | I4: 0.037961743 | J4: 0.051360791 | K4: 0.048935174 | L4: 0.072907107 | M4: 0.063941273 | N4: 0.054963672 | O4: 0.030576789 | P4: 0.037336539 | Q4: 0.038693116 | R4: 0.046042443 | S4: 0.047927741 | T4: 0.047845978 | U4: 0.070353063 | V4: ='[2]2020'!L3 -> 0.054646038 | W4: 0.085 | X4: ='[2]2022'!L3 -> 0.10495595 | Y4: ='[2]2022'!M3 -> 0.061051468 | Z4: ='[2]2022'!N3 -> 0.078891991 | AA4: 0.068 | AB4: 0.113 | AC4: CIÈNCIA ANIMAL
A5: COMPOSICIÓ ARQUITECTÒNICA | B5: 0 | C5: 0.051886792 | D5: 0.1046 | E5: 0.094059406 | F5: 0.061002179 | G5: 0.071030641 | H5: 0.076472088 | I5: 0.042973287 | J5: 0.075480075 | K5: 0.010215664 | L5: 0.012257633 | M5: 0 | N5: 0.034272005 | O5: 0.028828136 | P5: 0.030503305 | Q5: 0.10389159 | R5: 0.085973571 | S5: 0.11073858 | T5: 0.14594857 | U5: 0.11744654 | V5: ='[2]2020'!L4 -> 0.11739652 | W5: 0.123 | X5: ='[2]2022'!L4 -> 0.14547139 | Y5: ='[2]2022'!M4 -> 0.11991884 | Z5: ='[2]2022'!N4 -> 0.12650398 | AA5: 0.136 | AB5: 0.193 | AC5: COMPOSICIÓ ARQUITECTÒNICA
A6: CONSTRUCCIONS ARQUITECTÒNIQUES | B6: 0.012403101 | C6: 0.028232006 | D6: 0.041604654 | E6: 0.039098377 | F6: 0.056980778 | G6: 0.038374651 | H6: 0.035918542 | I6: 0.03240259 | J6: 0.011611113 | K6: 0.010195303 | L6: 0 | M6: 0.00088988678 | N6: 0.0033827356 | O6: 0.002730781 | P6: 0.016627989 | Q6: 0.031573949 | R6: 0.035630886 | S6: 0.063689905 | T6: 0.076766821 | U6: 0.08444202 | V6: ='[2]2020'!L8 -> 0.10364254 | W6: 0.119 | X6: ='[2]2022'!L8 -> 0.18573072 | Y6: ='[2]2022'!M8 -> 0.093114964 | Z6: ='[2]2022'!N8 -> 0.090805249 | AA6: 0.089 | AB6: 0.108 | AC6: CONSTRUCCIONS ARQUITECTÒNIQUES
A7: DIBUIX | B7: 0.096311457 | C7: 0.11010318 | D7: 0.11648333 | E7: 0.11291122 | F7: 0.095499787 | G7: 0.081081081 | H7: 0.078817734 | I7: 0.09427542 | J7: 0.1 | K7: 0.10623368 | L7: 0.053846289 | M7: 0.065672701 | N7: 0.054533651 | O7: 0.050226468 | P7: 0.030369598 | Q7: 0.073890821 | R7: 0.093924776 | S7: 0.085761751 | T7: 0.057663409 | U7: 0.069519464 | V7: ='[2]2020'!L10 -> 0.061642563 | W7: 0.07 | X7: ='[2]2022'!L10 -> 0.12330212 | Y7: ='[2]2022'!M10 -> 0.065883621 | Z7: ='[2]2022'!N10 -> 0.060726364 | AA7: 0.066 | AB7: 0.082 | AC7: DIBUIX
A8: ECONOMIA I CIÈNCIES SOCIALS | B8: 0.20642202 | C8: 0.079448655 | D8: 0.065666303 | E8: 0.077666875 | F8: 0.053218851 | G8: 0.059770115 | H8: 0.049450906 | I8: 0.048694112 | J8: 0.048596619 | K8: 0.035018679 | L8: 0.048984192 | M8: 0.095357747 | N8: 0.063918793 | O8: 0.057603153 | P8: 0.082543939 | Q8: 0.10240287 | R8: 0.055944661 | S8: 0.081139027 | T8: 0.070734436 | U8: 0.041077013 | V8: ='[2]2020'!L11 -> 0.050913804 | W8: 0.102 | X8: ='[2]2022'!L11 -> 0.088147904 | Y8: ='[2]2022'!M11 -> 0.027389255 | Z8: ='[2]2022'!N11 -> 0.031470991 | AA8: 0.026 | AB8: 0.035 | AC8: ECONOMIA I CIÈNCIES SOCIALS
A9: ESCULTURA | B9: 0.9347483 | C9: 0.1959707 | D9: 0.13605442 | E9: 0.15034965 | F9: 0.086461889 | G9: 0.063209076 | H9: 0.076010782 | I9: 0.060747664 | J9: 0.042948038 | K9: 0.063818565 | L9: 0.055181347 | M9: 0.043377675 | N9: 0.0061728395 | O9: 0 | P9: 0.053799693 | Q9: 0.11336403 | R9: 0.095359872 | S9: 0.095226003 | T9: 0.095391327 | U9: 0.10253434 | V9: ='[2]2020'!L26 -> 0.099045949 | W9: 0.089 | X9: ='[2]2022'!L26 -> 0.11744917 | Y9: ='[2]2022'!M26 -> 0.082588747 | Z9: ='[2]2022'!N26 -> 0.09038184 | AA9: 0.088 | AB9: 0.066 | AC9: ESCULTURA
A10: ESTADÍSTICA I INVESTIGACIÓ OPERATIVA APLICADES I QUALITAT | B10: 0.038386467 | C10: 0.081902779 | D10: 0.073451489 | E10: 0.08894545 | F10: 0.08329812 | G10: 0.12840823 | H10: 0.091300649 | I10: 0.094130949 | J10: 0.11419545 | K10: 0.11075975 | L10: 0.13154818 | M10: 0.076509035 | N10: 0.042882625 | O10: 0.052772179 | P10: 0.056774408 | Q10: 0.11407797 | R10: 0.098494641 | S10: 0.11935178 | T10: 0.10929801 | U10: 0.10968021 | V10: ='[2]2020'!L27 -> 0.11509172 | W10: 0.131 | X10: ='[2]2022'!L27 -> 0.144223 | Y10: ='[2]2022'!M27 -> 0.084740781 | Z10: ='[2]2022'!N27 -> 0.067060308 | AA10: 0.066 | AB10: 0.076 | AC10: ESTADÍSTICA I INVESTIGACIÓ OPERATIVA APLICADES I QUALITAT
A11: EXPRESSIÓ GRÀFICA ARQUITECTÒNICA | B11: 0.045009645 | C11: 0.062210983 | D11: 0.037824387 | E11: 0.070121008 | F11: 0.048364463 | G11: 0.06706142 | H11: 0.05328247 | I11: 0.051052848 | J11: 0.045790741 | K11: 0.0093457944 | L11: 0.0029802351 | M11: 0.024521454 | N11: 0.028040212 | O11: 0.026413735 | P11: 0 | Q11: 0.086532711 | R11: 0.10558909 | S11: 0.08387573 | T11: 0.094859518 | U11: 0.098407117 | V11: ='[2]2020'!L28 -> 0.10065105 | W11: 0.108 | X11: ='[2]2022'!L28 -> 0.1218554 | Y11: ='[2]2022'!M28 -> 0.12011052 | Z11: ='[2]2022'!N28 -> 0.11905367 | AA11: 0.114 | AB11: 0.141 | AC11: EXPRESSIÓ GRÀFICA ARQUITECTÒNICA
A12: Enginyeria Gràfica | B12: 0.0152807 | C12: 0.070787587 | D12: 0.074496846 | E12: 0.078718889 | F12: 0.068975919 | G12: 0.077386235 | H12: 0.084171836 | I12: 0.085641916 | J12: 0.084454956 | K12: 0.085801839 | L12: 0.054949831 | M12: 0.026105953 | N12: 0.031486288 | O12: 0.063023829 | P12: 0.068416779 | Q12: 0.10719864 | R12: 0.059439528 | S12: 0.10289074 | T12: 0.10896067 | U12: 0.093715084 | V12: ='[2]2020'!L19 -> 0.062017492 | W12: 0.07 | X12: ='[2]2022'!L19 -> 0.082001056 | Y12: ='[2]2022'!M19 -> 0.040105875 | Z12: ='[2]2022'!N19 -> 0.039653929 | AA12: 0.035 | AB12: 0.049 | AC12: Enginyeria Gràfica
A13: FÍSICA APLICADA | B13: 0.05373594 | C13: 0.091753535 | D13: 0.067868335 | E13: 0.082912135 | F13: 0.090735157 | G13: 0.088432353 | H13: 0.063845391 | I13: 0.049222241 | J13: 0.070543628 | K13: 0.030179756 | L13: 0.064061485 | M13: 0.039359917 | N13: 0.036305525 | O13: 0.00067696557 | P13: 0.053521229 | Q13: 0.083343839 | R13: 0.059282327 | S13: 0.066710276 | T13: 0.061786881 | U13: 0.059098577 | V13: ='[2]2020'!L29 -> 0.059939643 | W13: 0.036 | X13: ='[2]2022'!L29 -> 0.14093533 | Y13: ='[2]2022'!M29 -> 0.049641239 | Z13: ='[2]2022'!N29 -> 0.036056709 | AA13: 0.062 | AB13: 0.075 | AC13: FÍSICA APLICADA
A14: LINGÜÍSTICA APLICADA | B14: 0.085897819 | C14: 0.088996228 | D14: 0.08863526 | E14: 0.090017207 | F14: 0.088517363 | G14: 0.091781405 | H14: 0.096217397 | I14: 0.095143346 | J14: 0.10131488 | K14: 0.10227987 | L14: 0.11353068 | M14: 0.10402653 | N14: 0.099663748 | O14: 0.10755239 | P14: 0.13286377 | Q14: 0.11934958 | R14: 0.098984511 | S14: 0.102189 | T14: 0.11230776 | U14: 0.092925376 | V14: ='[2]2020'!L31 -> 0.084591493 | W14: 0.085 | X14: ='[2]2022'!L31 -> 0.078244338 | Y14: ='[2]2022'!M31 -> 0.061148529 | Z14: ='[2]2022'!N31 -> 0.060555043 | AA14: 0.052 | AB14: 0.082 | AC14: LINGÜÍSTICA APLICADA
A15: ENGINYERIA RURAL I AGROALIMENTÀRIA | B15: 0.25592324 | C15: 0.040550618 | D15: 0.054708769 | E15: 0.055265732 | F15: 0.077559462 | G15: 0.045918771 | H15: 0.043259043 | I15: 0.047270509 | J15: 0.071265244 | K15: 0.085949765 | L15: 0.074097179 | M15: 0.030279503 | N15: 0.0067700987 | O15: 0.0014822657 | P15: 0.029862426 | Q15: 0.053661528 | R15: 0.03693349 | S15: 0.025550078 | T15: 0.047078931 | U15: 0.053474114 | V15: ='[2]2020'!L24 -> 0.036648314 | W15: 0.039 | X15: ='[2]2022'!L24 -> 0.087549148 | Y15: ='[2]2022'!M24 -> 0.04184337 | Z15: ='[2]2022'!N24 -> 0.042684601 | AA15: 0.053 | AB15: 0.063 | AC15: ENGINYERIA RURAL I AGROALIMENTÀRIA
A16: ENGINYERIA CARTOGRÀFICA, GEODÈSIA I FOTOGRAMETRIA | B16: 0.0026797678 | C16: 0.008226691 | D16: 0.0012043453 | E16: 0.0049515164 | F16: 0.0047534918 | G16: 0.0071138934 | H16: 0.0091861106 | I16: 0.0024323404 | J16: 0.0027033603 | K16: 0.0028812078 | L16: 0.0033940491 | M16: 0 | N16: 0 | O16: 0 | P16: 0 | Q16: 0.010903234 | R16: 0.045574259 | S16: 0.030653094 | T16: 0.02496017 | U16: 0.026574677 | V16: ='[2]2020'!L13 -> 0.058151218 | W16: 0.056 | X16: ='[2]2022'!L13 -> 0.041866145 | Y16: ='[2]2022'!M13 -> 0.019169458 | Z16: ='[2]2022'!N13 -> 0.020642546 | AA16: 0.007 | AB16: 0.013 | AC16: ENGINYERIA CARTOGRÀFICA, GEODÈSIA I FOTOGRAMETRIA
A17: ENGINYERIA DE LA CONSTRUCCIÓ I DE PROJECTES D'ENGINYERIA CIVIL | B17: 0.024211772 | C17: 0.0305295 | D17: 0.037017757 | E17: 0.022161387 | F17: 0.01863947 | G17: 0.020727041 | H17: 0.026611601 | I17: 0.017719138 | J17: 0.035148245 | K17: 0.027142541 | L17: 0.015101301 | M17: 0 | N17: 0.0060523844 | O17: 0.010590883 | P17: 0.011949866 | Q17: 0.010097028 | R17: 0.012046939 | S17: 0.0179834 | T17: 0.0084986504 | U17: 0.009353662 | V17: ='[2]2020'!L14 -> 0.0073072114 | W17: 0.023 | X17: ='[2]2022'!L14 -> 0.049588287 | Y17: ='[2]2022'!M14 -> 0.022312767 | Z17: ='[2]2022'!N14 -> 0.019758065 | AA17: 0.01 | AB17: 0.026 | AC17: ENGINYERIA DE LA CONSTRUCCIÓ I DE PROJECTES D'ENGINYERIA CIVIL
A18: INFORMÀTICA DE SISTEMES I COMPUTADORS | B18: 0.16157025 | C18: 0.098855359 | D18: 0.15272852 | E18: 0.19870333 | F18: 0.16319869 | G18: 0.18502141 | H18: 0.16960942 | I18: 0.17167724 | J18: 0.14295402 | K18: 0.10903571 | L18: 0.12754327 | M18: 0.11070603 | N18: 0.10980008 | O18: 0.074517121 | P18: 0.092889569 | Q18: 0.097889121 | R18: 0.10292138 | S18: 0.09800768 | T18: 0.10588346 | U18: 0.099028157 | V18: ='[2]2020'!L30 -> 0.083895117 | W18: 0.076 | X18: ='[2]2022'!L30 -> 0.084642331 | Y18: ='[2]2022'!M30 -> 0.063325767 | Z18: ='[2]2022'!N30 -> 0.055963599 | AA18: 0.054 | AB18: 0.062 | AC18: INFORMÀTICA DE SISTEMES I COMPUTADORS
A19: ENGINYERIA DEL TERRENY | B19: 0 | C19: 0 | D19: 0 | E19: 0 | F19: 0 | G19: 0 | H19: 0 | I19: 0 | J19: 0 | K19: 0 | L19: 0 | M19: 0 | N19: 0 | O19: 0 | P19: 0 | Q19: 0.0064516129 | R19: 0.0068399453 | S19: 0.0074777537 | T19: 0.041927123 | U19: 0.048811545 | V19: ='[2]2020'!L16 -> 0 | W19: 0 | X19: ='[2]2022'!L16 -> 0.056113224 | Y19: ='[2]2022'!M16 -> 0.028244183 | Z19: ='[2]2022'!N16 -> 0.033354444 | AA19: 0.011 | AC19: ENGINYERIA DEL TERRENY
A20: ENGINYERIA ELÈCTRICA | B20: 0.075724479 | C20: 0.064738886 | D20: 0.034658512 | E20: 0.040730493 | F20: 0.057128725 | G20: 0.047266949 | H20: 0.041880412 | I20: 0.060391857 | J20: 0.082506361 | K20: 0.065007618 | L20: 0.051528245 | M20: 0.056594894 | N20: 0.02712528 | O20: 0.015521835 | P20: 0.013504703 | Q20: 0.032294618 | R20: 0.059346309 | S20: 0.036798142 | T20: 0.035344063 | U20: 0.040678208 | V20: ='[2]2020'!L17 -> 0.04933763 | W20: 0.073 | X20: ='[2]2022'!L17 -> 0.131436 | Y20: ='[2]2022'!M17 -> 0.068201151 | Z20: ='[2]2022'!N17 -> 0.050472147 | AA20: 0.045 | AB20: 0.051 | AC20: ENGINYERIA ELÈCTRICA
A21: ENGINYERIA ELECTRÒNICA | B21: 0.031971742 | C21: 0.05508189 | D21: 0.043932985 | E21: 0.080739718 | F21: 0.078192987 | G21: 0.090909667 | H21: 0.08480255 | I21: 0.066244138 | J21: 0.068472892 | K21: 0.06168507 | L21: 0.05004497 | M21: 0.024739509 | N21: 0.018041886 | O21: 0.019602119 | P21: 0.01285275 | Q21: 0.014328382 | R21: 0.022814463 | S21: 0.040966857 | T21: 0.046007942 | U21: 0.045386891 | V21: ='[2]2020'!L18 -> 0.03541708 | W21: 0.044 | X21: ='[2]2022'!L18 -> 0.072090588 | Y21: ='[2]2022'!M18 -> 0.033623158 | Z21: ='[2]2022'!N18 -> 0.030398528 | AA21: 0.031 | AB21: 0.029 | AC21: ENGINYERIA ELECTRÒNICA
A22: ENGINYERIA HIDRÀULICA I MEDI AMBIENT | B22: 0 | C22: 0.013193844 | D22: 0.014693152 | E22: 0.0051216251 | F22: 0.015370325 | G22: 0.010428338 | H22: 0.01851753 | I22: 0.018036051 | J22: 0.011893385 | K22: 0.010793788 | L22: 0.012557305 | M22: 0.0034329777 | N22: 0.00507594 | O22: 0.0061356297 | P22: 0.01796949 | Q22: 0.035984637 | R22: 0.048021146 | S22: 0.036931287 | T22: 0.046258534 | U22: 0.040952993 | V22: ='[2]2020'!L20 -> 0.040140836 | W22: 0.033 | X22: ='[2]2022'!L20 -> 0.054753609 | Y22: ='[2]2022'!M20 -> 0.018512917 | Z22: ='[2]2022'!N20 -> 0.01554161 | AA22: 0.014 | AB22: 0.031 | AC22: ENGINYERIA HIDRÀULICA I MEDI AMBIENT
A23: ENGINYERIA MECÀNICA I DE MATERIALS | B23: 0.025267755 | C23: 0.041071919 | D23: 0.051599945 | E23: 0.029462041 | F23: 0.0097413175 | G23: 0.039284855 | H23: 0.034802715 | I23: 0.024147744 | J23: 0.046714519 | K23: 0.050734355 | L23: 0.048626945 | M23: 0.029055366 | N23: 0.028386565 | O23: 0.022532359 | P23: 0.037455786 | Q23: 0.046125608 | R23: 0.025500152 | S23: 0.033074397 | T23: 0.052571004 | U23: 0.043828565 | V23: ='[2]2020'!L22 -> 0.034990778 | W23: 0.037 | X23: ='[2]2022'!L22 -> 0.059993114 | Y23: ='[2]2022'!M22 -> 0.029127918 | Z23: ='[2]2022'!N22 -> 0.03125 | AA23: 0.026 | AB23: 0.034 | AC23: ENGINYERIA MECÀNICA I DE MATERIALS
A24: ENGINYERIA QUÍMICA I NUCLEAR | B24: 0.074704182 | C24: 0.065381833 | D24: 0.064332155 | E24: 0.075742789 | F24: 0.081440668 | G24: 0.034907464 | H24: 0.031760771 | I24: 0.034922335 | J24: 0.030855226 | K24: 0.023726027 | L24: 0.023568948 | M24: 0.048767728 | N24: 0.028220809 | O24: 0.0039142564 | P24: 0.016291249 | Q24: 0.026992907 | R24: 0.02464551 | S24: 0.073982398 | T24: 0.076768584 | U24: 0.037993252 | V24: ='[2]2020'!L23 -> 0.03079352 | W24: 0.04 | X24: ='[2]2022'!L23 -> 0.16024694 | Y24: ='[2]2022'!M23 -> 0.095502114 | Z24: ='[2]2022'!N23 -> 0.084964881 | AA24: 0.057 | AB24: 0.055 | AC24: ENGINYERIA QUÍMICA I NUCLEAR
A25: ENGINYERIA TÈXTIL I PAPERERA | B25: 0 | C25: 0 | D25: 0 | E25: 0 | F25: 0 | G25: 0 | H25: 0 | I25: 0 | J25: 0 | K25: 0 | L25: 0 | M25: 0 | N25: 0 | O25: 0 | P25: 0 | Q25: 0 | R25: 0 | S25: 0 | T25: 0 | U25: 0 | V25: ='[2]2020'!L25 -> 0 | W25: 0 | X25: ='[2]2022'!L25 -> 0 | Y25: ='[2]2022'!M25 -> 0 | Z25: ='[2]2022'!N25 -> 0 | AA25: 0 | AB25: 0.009 | AC25: ENGINYERIA TÈXTIL I PAPERERA
A26: MÀQUINES I MOTORS TÈRMICS | B26: 0 | C26: 0.041848524 | D26: 0.049364022 | E26: 0.013686478 | F26: 0.012636695 | G26: 0.10534487 | H26: 0.066426096 | I26: 0.077089217 | J26: 0.043728056 | K26: 0.0345707 | L26: 0.016359331 | M26: 0.0034205088 | N26: 0.021937056 | O26: 0.020541745 | P26: 0.019516059 | Q26: 0.017580238 | R26: 0.01759769 | S26: 0.047380252 | T26: 0.016845197 | U26: 0.017117275 | V26: ='[2]2020'!L32 -> 0.016099691 | W26: 0.085 | X26: ='[2]2022'!L32 -> 0.018573956 | Y26: ='[2]2022'!M32 -> 0.020015163 | Z26: ='[2]2022'!N32 -> 0.017376914 | AA26: 0.018 | AB26: 0.022 | AC26: MÀQUINES I MOTORS TÈRMICS
A27: MATEMÀTICA APLICADA | B27: 0.10133198 | C27: 0.15342826 | D27: 0.15992319 | E27: 0.15472108 | F27: 0.15417778 | G27: 0.15937565 | H27: 0.16469422 | I27: 0.17227197 | J27: 0.19083548 | K27: 0.17787535 | L27: 0.15176784 | M27: 0.13169523 | N27: 0.13311156 | O27: 0.11836286 | P27: 0.095830138 | Q27: 0.14205234 | R27: 0.11177645 | S27: 0.11457715 | T27: 0.12034096 | U27: 0.101072 | V27: ='[2]2020'!L33 -> 0.10714652 | W27: 0.117 | X27: ='[2]2022'!L33 -> 0.13899565 | Y27: ='[2]2022'!M33 -> 0.087332454 | Z27: ='[2]2022'!N33 -> 0.089730923 | AA27: 0.095 | AB27: 0.092 | AC27: MATEMÀTICA APLICADA
A28: MECÀNICA DELS MEDIS CONTINUS I TEORIA D'ESTRUCTURES | B28: 0.051028274 | C28: 0.12817917 | D28: 0.12852976 | E28: 0.065402515 | F28: 0.054003222 | G28: 0.061553949 | H28: 0.07070646 | I28: 0.071378184 | J28: 0.075156277 | K28: 0.080235473 | L28: 0.094762795 | M28: 0.049611814 | N28: 0.031739501 | O28: 0.056426923 | P28: 0.025493844 | Q28: 0.031016638 | R28: 0.036857256 | S28: 0.080798927 | T28: 0.087506555 | U28: 0.057970027 | V28: ='[2]2020'!L34 -> 0.078098917 | W28: 0.081 | X28: ='[2]2022'!L34 -> 0.1156901 | Y28: ='[2]2022'!M34 -> 0.072139117 | Z28: ='[2]2022'!N34 -> 0.075218506 | AA28: 0.077 | AB28: 0.09 | AC28: MECÀNICA DELS MEDIS CONTINUS I TEORIA D'ESTRUCTURES
A29: Organització d'Empreses | B29: 0 | C29: 0.019307377 | D29: 0.034169403 | E29: 0.025280899 | F29: 0.024128191 | G29: 0.023913756 | H29: 0.015464441 | I29: 0.012064229 | J29: 0.014296553 | K29: 0.015547029 | L29: 0.022119837 | M29: 0.0048856053 | N29: 0.03096546 | O29: 0.03079334 | P29: 0.052937758 | Q29: 0.050859899 | R29: 0.063239914 | S29: 0.071192544 | T29: 0.075373555 | U29: 0.087502227 | V29: ='[2]2020'!L35 -> 0.073130828 | W29: 0.09 | X29: ='[2]2022'!L35 -> 0.14137922 | Y29: ='[2]2022'!M35 -> 0.081923969 | Z29: ='[2]2022'!N35 -> 0.064199859 | AA29: 0.054 | AB29: 0.067 | AC29: Organització d'Empreses
A30: PINTURA | B30: 0.15849487 | C30: 0.21098901 | D30: 0.215973 | E30: 0.17339149 | F30: 0.1753032 | G30: 0.1828877 | H30: 0.19006008 | I30: 0.15400101 | J30: 0.14573643 | K30: 0.11602051 | L30: 0.22498767 | M30: 0.18412698 | N30: 0.1541861 | O30: 0.15832792 | P30: 0.030593068 | Q30: 0.073514045 | R30: 0.088082902 | S30: 0.076433654 | T30: 0.078086803 | U30: 0.069098201 | V30: ='[2]2020'!L36 -> 0.077642924 | W30: 0.081 | X30: ='[2]2022'!L36 -> 0.094167606 | Y30: ='[2]2022'!M36 -> 0.059404372 | Z30: ='[2]2022'!N36 -> 0.060395388 | AA30: 0.06 | AB30: 0.1 | AC30: PINTURA
A31: PRODUCCIÓ VEGETAL | B31: 0.094925172 | C31: 0.045980421 | D31: 0.085102041 | E31: 0.069099275 | F31: 0.063260004 | G31: 0.074293476 | H31: 0.065429474 | I31: 0.06692926 | J31: 0.07549044 | K31: 0.097750456 | L31: 0.06365035 | M31: 0.078309813 | N31: 0.036477332 | O31: 0.035613089 | P31: 0.046542878 | Q31: 0.087991084 | R31: 0.080907397 | S31: 0.088847827 | T31: 0.10445285 | U31: 0.063385697 | V31: ='[2]2020'!L37 -> 0.090241268 | W31: 0.092 | X31: ='[2]2022'!L37 -> 0.19345856 | Y31: ='[2]2022'!M37 -> 0.076298987 | Z31: ='[2]2022'!N37 -> 0.091369661 | AA31: 0.091 | AB31: 0.143 | AC31: PRODUCCIÓ VEGETAL
A32: QUÍMICA | B32: 1 | C32: 0.059885868 | D32: 0.056618771 | E32: 0.040765968 | F32: 0.039312889 | G32: 0.036594604 | H32: 0.038459823 | I32: 0.047502131 | J32: 0.081551583 | K32: 0.068831318 | L32: 0.044002839 | M32: 0.055868292 | N32: 0.028184625 | O32: 0.064954034 | P32: 0.069768257 | Q32: 0.10864709 | R32: 0.07587699 | S32: 0.11586342 | T32: 0.10710073 | U32: 0.12274168 | V32: ='[2]2020'!L40 -> 0.14344415 | W32: 0.147 | X32: ='[2]2022'!L40 -> 0.18749605 | Y32: ='[2]2022'!M40 -> 0.093655411 | Z32: ='[2]2022'!N40 -> 0.071468605 | AA32: 0.071 | AB32: 0.08 | AC32: QUÍMICA
A33: SISTEMES INFORMÀTICS I COMPUTACIÓ | B33: 0.97482588 | C33: 0.10588928 | D33: 0.098755967 | E33: 0.10554776 | F33: 0.11098727 | G33: 0.12661281 | H33: 0.10651846 | I33: 0.096929066 | J33: 0.091256208 | K33: 0.092849367 | L33: 0.097286004 | M33: 0.079841881 | N33: 0.10702744 | O33: 0.088171899 | P33: 0.10633349 | Q33: 0.097369145 | R33: 0.10879627 | S33: 0.12355009 | T33: 0.10951382 | U33: 0.1071054 | V33: ='[2]2020'!L41 -> 0.096786759 | W33: 0.1 | X33: ='[2]2022'!L41 -> 0.12205725 | Y33: ='[2]2022'!M41 -> 0.080820441 | Z33: ='[2]2022'!N41 -> 0.075940814 | AA33: 0.072 | AB33: 0.081 | AC33: SISTEMES INFORMÀTICS I COMPUTACIÓ
A34: TECNOLOGIA D'ALIMENTS | B34: 0.056232939 | C34: 0.059866962 | D34: 0.023368503 | E34: 0.026737968 | F34: 0.028936782 | G34: 0.031117761 | H34: 0.025080402 | I34: 0.024304108 | J34: 0.020983262 | K34: 0.0095667121 | L34: 0.020880847 | M34: 0.018795708 | N34: 0.0068932446 | O34: 0 | P34: 0.026976289 | Q34: 0.021876036 | R34: 0.018716432 | S34: 0.037926542 | T34: 0.029257176 | U34: 0.044338264 | V34: ='[2]2020'!L42 -> 0.04028847 | W34: 0.041 | X34: ='[2]2022'!L42 -> 0.086831559 | Y34: ='[2]2022'!M42 -> 0.040868005 | Z34: ='[2]2022'!N42 -> 0.028639457 | AA34: 0.026 | AB34: 0.035 | AC34: TECNOLOGIA D'ALIMENTS
A35: URBANISME | B35: 0.067482977 | C35: 0.056662381 | D35: 0.037280752 | E35: 0.018228029 | F35: 0.024920444 | G35: 0.012237315 | H35: 0.017455746 | I35: 0.028659092 | J35: 0.028357257 | K35: 0.0016920073 | L35: 0.004397123 | M35: 0.016526743 | N35: 0.014326508 | O35: 0.020381039 | P35: 0.056751057 | Q35: 0.050023512 | R35: 0.050931569 | S35: 0.043380089 | T35: 0.070558589 | U35: 0.051791169 | V35: ='[2]2020'!L44 -> 0.067985574 | W35: 0.08 | X35: ='[2]2022'!L44 -> 0.10418444 | Y35: ='[2]2022'!M44 -> 0.081588555 | Z35: ='[2]2022'!N44 -> 0.081474605 | AA35: 0.102 | AB35: 0.121 | AC35: URBANISME
A36: COMUNICACIÓ AUDIOVISUAL, DOCUMENTACIÓ I HISTÒRIA DE L'ART | B36: 0.073539006 | C36: 0.1401328 | D36: 0.13962157 | E36: 0.076166949 | F36: 0.095185002 | G36: 0.08952164 | H36: 0.079619913 | I36: 0.090520718 | J36: 0.13394047 | K36: 0.13788597 | L36: 0.095510658 | M36: 0.07566586 | N36: 0.092026878 | O36: 0.047082585 | P36: 0.061189748 | Q36: 0.061554998 | R36: 0.056966102 | S36: 0.074675759 | T36: 0.077985085 | U36: 0.075601102 | V36: ='[2]2020'!L5 -> 0.04585356 | W36: 0.06 | X36: ='[2]2022'!L5 -> 0.036488805 | Y36: ='[2]2022'!M5 -> 0.030019836 | Z36: ='[2]2022'!N5 -> 0.062912764 | AA36: 0.041 | AB36: 0.071 | AC36: COMUNICACIÓ AUDIOVISUAL, DOCUMENTACIÓ I HISTÒRIA DE L'ART
A37: PROJECTES ARQUITECTÒNICS | B37: 0.19387755 | C37: 0.097095678 | D37: 0.073109578 | E37: 0.080684597 | F37: 0.061188119 | G37: 0 | H37: 0 | I37: 0 | J37: 0 | K37: 0 | L37: 0 | M37: 0 | N37: 0 | O37: 0 | P37: 0 | Q37: 0.011413307 | R37: 0.040210812 | S37: 0.072646411 | T37: 0.083754978 | U37: 0.10818509 | V37: ='[2]2020'!L38 -> 0.12625277 | W37: 0.128 | X37: ='[2]2022'!L38 -> 0.14523217 | Y37: ='[2]2022'!M38 -> 0.12037306 | Z37: ='[2]2022'!N38 -> 0.11102747 | AA37: 0.094 | AB37: 0.152 | AC37: PROJECTES ARQUITECTÒNICS
A38: CONSERVACIÓ I RESTAURACIÓ DE BÉNS CULTURALS | B38: 0.20202578 | C38: 0.30837004 | D38: 0.30793157 | E38: 0.34087666 | F38: 0.31338724 | G38: 0.32556962 | H38: 0.25254473 | I38: 0.36169372 | J38: 0.39117347 | K38: 0.44803566 | L38: 0.41639053 | M38: 0.2844486 | N38: 0.2991453 | O38: 0.14353982 | P38: 0.040322581 | Q38: 0 | R38: 0 | S38: 0 | T38: 0 | U38: 0 | V38: ='[2]2020'!L7 -> 0 | W38: 0 | X38: ='[2]2022'!L7 -> 0 | Y38: ='[2]2022'!M7 -> 0 | Z38: ='[2]2022'!N7 -> 0 | AA38: 0.026 | AB38: 0 | AC38: CONSERVACIÓ I RESTAURACIÓ DE BÉNS CULTURALS
A39: MECANITZACIÓ I TECNOLOGIA AGRÀRIA | B39: 0.09947644 | C39: 0.10546659 | D39: 0.099473684 | E39: 0.11445783 | F39: 0.10922205 | G39: 0.16489032 | H39: 0.17664118 | I39: 0.13508075 | J39: 0.1461039 | K39: 0 | L39: 0 | M39: 0 | N39: 0 | O39: 0 | P39: 0 | Q39: 0 | R39: 0 | S39: 0 | T39: 0 | AC39: MECANITZACIÓ I TECNOLOGIA AGRÀRIA
A40: COMUNICACIONS | B40: 0.0087399854 | C40: 0.010858835 | D40: 0.035702257 | E40: 0.032059585 | F40: 0.028214935 | G40: 0.052623082 | H40: 0.056090127 | I40: 0.075998816 | J40: 0.068730422 | K40: 0.063370248 | L40: 0.025443718 | M40: 0.015012966 | N40: 0.044719237 | O40: 0.074455259 | P40: 0.057709479 | Q40: 0.066138096 | R40: 0.055463674 | S40: 0.053286497 | T40: 0.041424784 | U40: 0.039210845 | V40: ='[2]2020'!L6 -> 0.030309268 | W40: 0.036 | X40: ='[2]2022'!L6 -> 0.0436536 | Y40: ='[2]2022'!M6 -> 0.019381677 | Z40: ='[2]2022'!N6 -> 0.020160027 | AA40: 0.019 | AB40: 0.009 | AC40: COMUNICACIONS
A41: ENGINYERIA I INFRAESTRUCTURA DELS TRANSPORTS | B41: 0 | C41: 0 | D41: 0 | E41: 0 | F41: 0 | G41: 0 | H41: 0 | I41: 0 | J41: 0 | K41: 0 | L41: 0 | M41: 0 | N41: 0 | O41: 0 | P41: 0 | Q41: 0 | R41: 0 | S41: 0 | T41: 0 | U41: 0 | V41: ='[2]2020'!L21 -> 0 | W41: 0 | X41: ='[2]2022'!L21 -> 0 | Y41: ='[2]2022'!M21 -> 0 | Z41: ='[2]2022'!N21 -> 0 | AA41: 0 | AB41: 0.026 | AC41: ENGINYERIA I INFRAESTRUCTURA DELS TRANSPORTS
A42: TERMODINÀMICA APLICADA | B42: 0.032060027 | C42: 0.079328404 | D42: 0.11514813 | E42: 0.053509886 | F42: 0.083268784 | G42: 0.028669904 | H42: 0.028258184 | I42: 0.026893698 | J42: 0.045940235 | K42: 0.062548109 | L42: 0.079236565 | M42: 0.077782492 | N42: 0.033823027 | O42: 0.0026500206 | P42: 0.093517173 | Q42: 0.10884553 | R42: 0.090004206 | S42: 0.076360445 | T42: 0.086948521 | U42: 0.088260222 | V42: ='[2]2020'!L43 -> 0.097737819 | W42: 0.083 | X42: ='[2]2022'!L43 -> 0.16026129 | Y42: ='[2]2022'!M43 -> 0.10402827 | Z42: ='[2]2022'!N43 -> 0.067931371 | AA42: 0.057 | AB42: 0.055 | AC42: TERMODINÀMICA APLICADA
A43: ENGINYERIA DE SISTEMES I AUTOMÀTICA | B43: 0.085531005 | C43: 0.026380984 | D43: 0.028135048 | E43: 0.025439783 | F43: 0.028298073 | G43: 0.033211333 | H43: 0.058170217 | I43: 0.067001454 | J43: 0.060143419 | K43: 0.051781581 | L43: 0.051708882 | M43: 0.065172207 | N43: 0.058084643 | O43: 0.046783153 | P43: 0.055122586 | Q43: 0.068805069 | R43: 0.089885579 | S43: 0.094651905 | T43: 0.10519326 | U43: 0.086391082 | V43: ='[2]2020'!L15 -> 0.069555437 | W43: 0.068 | X43: ='[2]2022'!L15 -> 0.13747318 | Y43: ='[2]2022'!M15 -> 0.068495702 | Z43: ='[2]2022'!N15 -> 0.065722094 | AA43: 0.045 | AB43: 0.087 | AC43: ENGINYERIA DE SISTEMES I AUTOMÀTICA
A44: PROJECTES D'ENGINYERIA | B44: 0.038920602 | C44: 0.023912075 | D44: 0.020369562 | E44: 0.018488529 | F44: 0.020671312 | G44: 0.0182302 | H44: 0.010017637 | I44: 0 | J44: 0.0070500415 | K44: 0.0066074444 | L44: 0 | M44: 0 | N44: 0 | O44: 0.0024445229 | P44: 0.026101759 | Q44: 0.045047647 | R44: 0.046581237 | S44: 0.051564144 | T44: 0.063856046 | U44: 0.061565523 | V44: ='[2]2020'!L39 -> 0.041542041 | W44: 0.043 | X44: ='[2]2022'!L39 -> 0.093185921 | Y44: ='[2]2022'!M39 -> 0.080238547 | Z44: ='[2]2022'!N39 -> 0.077505075 | AA44: 0.052 | AB44: 0.074 | AC44: PROJECTES D'ENGINYERIA
A45: ECOSISTEMES AGROFORESTALS | B45: 0.072483904 | C45: 0.11376457 | D45: 0.18158417 | E45: 0.26090535 | F45: 0.083556072 | G45: 0.070232979 | H45: 0.05967774 | I45: 0.038925737 | J45: 0.046089322 | K45: 0.050943172 | L45: 0.059067211 | M45: 0.029293473 | N45: 0.063606265 | O45: 0.030964606 | P45: 0.075147163 | Q45: 0.085891133 | R45: 0.042987239 | S45: 0.035701464 | T45: 0.050805958 | U45: 0.057322176 | V45: ='[2]2020'!L12 -> 0.049758811 | W45: 0.064 | X45: ='[2]2022'!L12 -> 0.14691684 | Y45: ='[2]2022'!M12 -> 0.047094228 | Z45: ='[2]2022'!N12 -> 0.050385184 | AA45: 0.054 | AB45: 0.086 | AC45: ECOSISTEMES AGROFORESTALS
A46: TOTALS | B46: 0.079530401 | C46: 0.078918277 | D46: 0.078927157 | E46: 0.078977099 | F46: 0.072985187 | G46: 0.073988476 | H46: 0.068712949 | I46: 0.068982245 | J46: 0.073383394 | K46: 0.066560149 | L46: 0.062322847 | M46: 0.051283729 | N46: 0.04807546 | O46: 0.041968315 | P46: 0.046257829 | Q46: 0.064127271 | R46: 0.061095279 | S46: 0.070910234 | T46: 0.074015243 | U46: 0.069837082 | V46: ='[2]2020'!L46 -> 0.066037312 | W46: 0.073 | X46: ='[2]2022'!L46 -> 0.10430657 | Y46: ='[2]2022'!M46 -> 0.062 | Z46: ='[2]2022'!N46 -> 0.059006398 | AA46: 0.057 | AB46: 0.073 | AC46: TOTALS

Sheet PROFESSORS
B1: Quantitat de professors que fan docència en valencià
B2: Master | C2: Grau
A3: 2009 | B3: 28 | C3: 23
A4: 2010 | B4: 32 | C4: 96
A5: 2011 | B5: 24 | C5: 135
A6: 2012 | B6: 29 | C6: 138
A7: 2013 | B7: 19 | C7: 122
A8: 2014 | B8: 13 | C8: 212
A9: 2015 | B9: 34 | C9: 564
A10: 2016 | B10: 33 | C10: 567
A11: 2017 | B11: 64 | C11: 667
A12: 2018 | B12: 69 | C12: 738
A13: 2019 | B13: 70 | C13: 654
A14: 2020 | B14: 73 | C14: 631
... A20: 2026 | B20: 88 | C20: 661

Sheet Dep total
A1: 3.- Asignación Docente del Profesorado Activo por asignatura y grupo- Créditos por idioma. Enseñanzas
A3: Páginas:
A4: Curso Académico: 2025
C5: Créditos impartidos por grupo | J5: Porcentaje del total
A6: Indicadores | B6: Departamento de Adscripción | C6: Total | D6: ALEMÁN | E6: CASTELLANO | F6: FRANCÉS | G6: INGLÉS | H6: ITALIANO | I6: VALENCIANO | K6: ALEMÁN | L6: CASTELLANO | M6: FRANCÉS | N6: INGLÉS | O6: ITALIANO | P6: VALENCIANO
B7: Total | C7: =SUM(C8:C51) -> 41402.422 | D7: 186,00 | E7: =E52 -> 35419.266 | F7: =F52 -> 177 | G7: =G52 -> 3234.52 | H7: =H52 -> 31.5 | I7: =I52 -> 2339.636 | J7: 100,00% | K7: =D7/$C$7 -> 0.44924908 | L7: =E7/$C$7 -> 0.85548778 | M7: =F7/$C$7 -> 0.0042751122 | N7: =G7/$C$7 -> 0.078123932 | O7: =H7/$C$7 -> 0.00076082506 | P7: =I7/$C$7 -> 0.056509641
A8: 02 | B8: BIOTECNOLOGÍA | C8: 958.41 | D8: 0 | E8: 855.16 | F8: 0 | G8: 53.1 | H8: 0 | I8: 50.15 | J8: =C8/$C$7 -> 0.023148646 | K8: =D8/$C8 -> 0 | L8: =E8/$C8 -> 0.89226949 | M8: =F8/$C8 -> 0 | N8: =G8/$C8 -> 0.055404263 | O8: =H8/$C8 -> 0 | P8: =I8/$C8 -> 0.052326249
A9: 03 | B9: CIENCIA ANIMAL | C9: 302.2 | D9: 0 | E9: 281.25 | F9: 0 | G9: 4.8 | H9: 0 | I9: 16.15 | J9: =C9/$C$7 -> 0.0072990899 | K9: =D9/$C9 -> 0 | L9: =E9/$C9 -> 0.93067505 | M9: =F9/$C9 -> 0 | N9: =G9/$C9 -> 0.015883521 | O9: =H9/$C9 -> 0 | P9: =I9/$C9 -> 0.05344143
A10: 04 | B10: COMPOSICIÓN ARQUITECTÓNICA | C10: 464.835 | D10: 0 | E10: 354.125 | F10: 0 | G10: 47.2 | H10: 0 | I10: 63.51 | J10: =C10/$C$7 -> 0.011227242 | K10: =D10/$C10 -> 0 | L10: =E10/$C10 -> 0.76182947 | M10: =F10/$C10 -> 0 | N10: =G10/$C10 -> 0.10154141 | O10: =H10/$C10 -> 0 | P10: =I10/$C10 -> 0.13662913
A11: 35 | B11: COMUNICACIÓN AUDIOVISUAL, DOCUMENTACIÓN E HISTORIA DEL ARTE | C11: 1018.47 | D11: 0 | E11: 964.45 | F11: 0 | G11: 13.5 | H11: 0 | I11: 40.52 | J11: =C11/$C$7 -> 0.024599286 | K11: =D11/$C11 -> 0 | L11: =E11/$C11 -> 0.94695966 | M11: =F11/$C11 -> 0 | N11: =G11/$C11 -> 0.013255177 | O11: =H11/$C11 -> 0 | P11: =I11/$C11 -> 0.039785168
A12: 39 | B12: COMUNICACIONES | C12: 1485.83 | D12: 0 | E12: 1355.33 | F12: 0 | G12: 103.55 | H12: 0 | I12: 26.95 | J12: =C12/$C$7 -> 0.035887514 | K12: =D12/$C12 -> 0 | L12: =E12/$C12 -> 0.9121703 | M12: =F12/$C12 -> 0 | N12: =G12/$C12 -> 0.069691687 | O12: =H12/$C12 -> 0 | P12: =I12/$C12 -> 0.01813801
A13: 37 | B13: CONSERVACIÓN Y RESTAURACIÓN DE BIENES CULTURALES | C13: 461.5 | D13: 0 | E13: 443.5 | F13: 0 | G13: 6 | H13: 0 | I13: 12 | J13: =C13/$C$7 -> 0.011146691 | K13: =D13/$C13 -> 0 | L13: =E13/$C13 -> 0.96099675 | M13: =F13/$C13 -> 0 | N13: =G13/$C13 -> 0.013001083 | O13: =H13/$C13 -> 0 | P13: =I13/$C13 -> 0.026002167
A14: 05 | B14: CONSTRUCCIONES ARQUITECTÓNICAS | C14: 1243.58 | D14: 0 | E14: 1012.04 | F14: 0 | G14: 122.04 | H14: 0 | I14: 109.5 | J14: =C14/$C$7 -> 0.030036407 | K14: =D14/$C14 -> 0 | L14: =E14/$C14 -> 0.81381174 | M14: =F14/$C14 -> 0 | N14: =G14/$C14 -> 0.098136027 | O14: =H14/$C14 -> 0 | P14: =I14/$C14 -> 0.088052236
A15: 98 | B15: DEPARTAMENTOS DE OTRAS UNIVERSIDADES | C15: 88.7 | D15: 0 | E15: 88.2 | F15: 0 | G15: 0.5 | H15: 0 | I15: 0 | J15: =C15/$C$7 -> 0.0021423867 | K15: =D15/$C15 -> 0 | L15: =E15/$C15 -> 0.99436302 | M15: =F15/$C15 -> 0 | N15: =G15/$C15 -> 0.0056369786 | O15: =H15/$C15 -> 0 | P15: =I15/$C15 -> 0
A16: 06 | B16: DIBUJO | C16: 1146.1 | D16: 0 | E16: 1044.52 | F16: 0 | G16: 26.1 | H16: 0 | I16: 75.48 | J16: =C16/$C$7 -> 0.027681955 | K16: =D16/$C16 -> 0 | L16: =E16/$C16 -> 0.91136899 | M16: =F16/$C16 -> 0 | N16: =G16/$C16 -> 0.022772882 | O16: =H16/$C16 -> 0 | P16: =I16/$C16 -> 0.065858128
A17: 07 | B17: ECONOMÍA Y CIENCIAS SOCIALES | C17: 1658.29 | D17: 0 | E17: 1524.24 | F17: 0 | G17: 86.8 | H17: 0 | I17: 47.25 | J17: =C17/$C$7 -> 0.040052971 | K17: =D17/$C17 -> 0 | L17: =E17/$C17 -> 0.91916372 | M17: =F17/$C17 -> 0 | N17: =G17/$C17 -> 0.052343076 | O17: =H17/$C17 -> 0 | P17: =I17/$C17 -> 0.028493207
A18: 44 | B18: ECOSISTEMAS AGROFORESTALES | C18: 266.4 | D18: 0 | E18: 164.2 | F18: 0 | G18: 88.6 | H18: 0 | I18: 13.6 | J18: =C18/$C$7 -> 0.0064344062 | K18: =D18/$C18 -> 0 | L18: =E18/$C18 -> 0.61636637 | M18: =F18/$C18 -> 0 | N18: =G18/$C18 -> 0.33258258 | O18: =H18/$C18 -> 0 | P18: =I18/$C18 -> 0.051051051
A19: 08 | B19: ESCULTURA | C19: 740.18 | D19: 0 | E19: 663.04 | F19: 0 | G19: 12 | H19: 0 | I19: 65.14 | J19: =C19/$C$7 -> 0.017877698 | K19: =D19/$C19 -> 0 | L19: =E19/$C19 -> 0.89578211 | M19: =F19/$C19 -> 0 | N19: =G19/$C19 -> 0.016212273 | O19: =H19/$C19 -> 0 | P19: =I19/$C19 -> 0.08800562
... A51: 96 | B51: Z-EXTERNOS POSGRADO | C51: 157.2 | D51: 0 | E51: 146.1 | F51: 0 | G51: 11.1 | H51: 0 | I51: 0 | J51: =C51/$C$7 -> 0.0037968793 | K51: =D51/$C51 -> 0 | L51: =E51/$C51 -> 0.92938931 | M51: =F51/$C51 -> 0 | N51: =G51/$C51 -> 0.070610687 | O51: =H51/$C51 -> 0 | P51: =I51/$C51 -> 0
B52: Total | C52: =SUM(C8:C51) -> 41402.422 | D52: =SUM(D8:D51) -> 200.5 | E52: =SUM(E8:E51) -> 35419.266 | F52: =SUM(F8:F51) -> 177 | G52: =SUM(G8:G51) -> 3234.52 | H52: =SUM(H8:H51) -> 31.5 | I52: =SUM(I8:I51) -> 2339.636 | J52: =SUM(J8:J51) -> 1 | K52: =D52/$C$52 -> 0.0048427119 | L52: =E52/$C$52 -> 0.85548778 | M52: =F52/$C$52 -> 0.0042751122 | N52: =G52/$C$52 -> 0.078123932 | O52: =H52/$C$52 -> 0.00076082506 | P52: =I52/$C$52 -> 0.056509641
D53: ALEMÁN | E53: CASTELLANO | F53: FRANCÉS | G53: INGLÉS | H53: ITALIANO | I53: VALENCIANO | K53: ALEMÁN | L53: CASTELLANO | M53: FRANCÉS | N53: INGLÉS | O53: ITALIANO | P53: VALENCIANO
B54: Sense Dep Ling | C54: =C52-C37 -> 39883.842 | D54: =D52-D37 -> 0 | E54: =E52-E37 -> 35118.636 | F54: =F52-F37 -> 0 | G54: =G52-G37 -> 2512.02 | H54: =H52-H37 -> 0 | I54: =I52-I37 -> 2253.186 | J54: Porcentaje del total
D55: =D54/$C$54 -> 0 | E55: =E54/$C$54 -> 0.88052289 | F55: =F54/$C$54 -> 0 | G55: =G54/$C$54 -> 0.062983401 | H55: =H54/$C$54 -> 0 | I55: =I54/$C$54 -> 0.056493705

Sheet Dep indiv
A1: 1.- Asignación Docente del Profesorado Activo por asignatura y grupo- Número de créditos totales UPV
A3: Páginas:
A4: Curso Académico: 2025
A6: Departamento de Adscripción | C6: Idioma Asignatura | D6: Créditos impartidos por grupo | E6: % idiomes per departament
A7: Total | D7: 41402.42
A8: BIOTECNOLOGÍA | B8: 02 | D8: 958.41
C9: CASTELLANO | D9: 855.16 | E9: =D9/D8 -> 0.89226949
C10: INGLÉS | D10: 53.1 | E10: =D10/D8 -> 0.055404263
C11: VALENCIANO | D11: 50.15 | E11: =D11/D8 -> 0.052326249
A12: CIENCIA ANIMAL | B12: 03 | D12: 302.2
C13: CASTELLANO | D13: 281.25 | E13: =D13/D12 -> 0.93067505
C14: INGLÉS | D14: 4.8 | E14: =D14/D12 -> 0.015883521
C15: VALENCIANO | D15: 16.15 | E15: =D15/D12 -> 0.05344143
A16: COMPOSICIÓN ARQUITECTÓNICA | B16: 04 | D16: 464.835
C17: CASTELLANO | D17: 354.125 | E17: =D17/D16 -> 0.76182947
C18: INGLÉS | D18: 47.2 | E18: =D18/D16 -> 0.10154141
C19: VALENCIANO | D19: 63.51 | E19: =D19/D16 -> 0.13662913
A20: COMUNICACIÓN AUDIOVISUAL, DOCUMENTACIÓN E HISTORIA DEL ARTE | B20: 35 | D20: 1018.47
C21: CASTELLANO | D21: 964.45 | E21: =D21/D20 -> 0.94695966
C22: INGLÉS | D22: 13.5 | E22: =D22/D20 -> 0.013255177
C23: VALENCIANO | D23: 40.52 | E23: =D23/D20 -> 0.039785168
A24: COMUNICACIONES | B24: 39 | D24: 1485.83
C25: CASTELLANO | D25: 1355.33 | E25: =D25/D24 -> 0.9121703
C26: INGLÉS | D26: 103.55 | E26: =D26/D24 -> 0.069691687
C27: VALENCIANO | D27: 26.95 | E27: =D27/D24 -> 0.01813801
A28: CONSERVACIÓN Y RESTAURACIÓN DE BIENES CULTURALES | B28: 37 | D28: 461.5
C29: CASTELLANO | D29: 443.5 | E29: =D29/D28 -> 0.96099675
C30: INGLÉS | D30: 6 | E30: =D30/D28 -> 0.013001083
C31: VALENCIANO | D31: 12 | E31: =D31/D28 -> 0.026002167
A32: CONSTRUCCIONES ARQUITECTÓNICAS | B32: 05 | D32: 1243.58
C33: CASTELLANO | D33: 1012.04 | E33: =D33/D32 -> 0.81381174
C34: INGLÉS | D34: 122.04 | E34: =D34/D32 -> 0.098136027
C35: VALENCIANO | D35: 109.5 | E35: =D35/D32 -> 0.088052236
A36: DEPARTAMENTOS DE OTRAS UNIVERSIDADES | B36: 98 | D36: 89.6
C37: CASTELLANO | D37: 88.2 | E37: =D37/$D$36 -> 0.984375
C38: INGLÉS | D38: 0.5 | E38: =D38/$D$36 -> 0.0055803571
A39: DIBUJO | B39: 06 | D39: 1146.1
C40: CASTELLANO | D40: 1044.52 | E40: =D40/D39 -> 0.91136899
C41: INGLÉS | D41: 26.1 | E41: =D41/D39 -> 0.022772882
C42: VALENCIANO | D42: 75.48 | E42: =D42/D39 -> 0.065858128
A43: ECONOMÍA Y CIENCIAS SOCIALES | B43: 07 | D43: 1658.29
C44: CASTELLANO | D44: 1524.24 | E44: =D44/D43 -> 0.91916372
C45: INGLÉS | D45: 86.8 | E45: =D45/D43 -> 0.052343076
C46: VALENCIANO | D46: 47.25 | E46: =D46/D43 -> 0.028493207
A47: ECOSISTEMAS AGROFORESTALES | B47: 44 | D47: 266.4
C48: CASTELLANO | D48: 164.2 | E48: =D48/D47 -> 0.61636637
C49: INGLÉS | D49: 88.6 | E49: =D49/D47 -> 0.33258258
C50: VALENCIANO | D50: 13.6 | E50: =D50/D47 -> 0.051051051
A51: ESCULTURA | B51: 08 | D51: 740.18
C52: CASTELLANO | D52: 663.04 | E52: =D52/D51 -> 0.89578211
C53: INGLÉS | D53: 12 | E53: =D53/D51 -> 0.016212273
C54: VALENCIANO | D54: 65.14 | E54: =D54/D51 -> 0.08800562
A55: ESTADÍSTICA E INVESTIGACIÓN OPERATIVA APLICADAS Y CALIDAD | B55: 09 | D55: 1099.23
C56: CASTELLANO | D56: 924.41 | E56: =D56/D55 -> 0.8409614
C57: INGLÉS | D57: 103.05 | E57: =D57/D55 -> 0.093747441
C58: VALENCIANO | D58: 71.77 | E58: =D58/D55 -> 0.065291158
A59: EXPRESIÓN GRÁFICA ARQUITECTÓNICA | B59: 10 | D59: 1226.91
C60: CASTELLANO | D60: 984.17 | E60: =D60/D59 -> 0.80215338
C61: INGLÉS | D61: 103.99 | E61: =D61/D59 -> 0.084757643
C62: VALENCIANO | D62: 138.75 | E62: =D62/D59 -> 0.11308898
A63: FÍSICA APLICADA | B63: 12 | D63: 1519.87
C64: CASTELLANO | D64: 1326.27 | E64: =D64/D63 -> 0.87262068
C65: INGLÉS | D65: 99.7 | E65: =D65/D63 -> 0.065597716
C66: VALENCIANO | D66: 93.9 | E66: =D66/D63 -> 0.0617816
A67: INFORMÁTICA DE SISTEMAS Y COMPUTADORES | B67: 17 | D67: 1535.47
C68: CASTELLANO | D68: 1320.06 | E68: =D68/D67 -> 0.85971071
C69: INGLÉS | D69: 132.5 | E69: =D69/D67 -> 0.086292796
C70: VALENCIANO | D70: 82.91 | E70: =D70/D67 -> 0.053996496
A71: INGENIERÍA CARTOGRÁFICA, GEODESIA Y FOTOGRAMETRÍA | B71: 15 | D71: 559.75
C72: CASTELLANO | D72: 544.65 | E72: =D72/$D$71 -> 0.97302367
C73: INGLÉS | D73: 11 | E73: =D73/$D$71 -> 0.01965163
C74: VALENCIANO | D74: 4.1 | E74: =D74/$D$71 -> 0.0073246985
A75: INGENIERÍA DE LA CONSTRUCCIÓN Y DE PROYECTOS DE INGENIERÍA CIVIL | B75: 16 | D75: 680.398
C76: CASTELLANO | D76: 667.248 | E76: =D76/$D$75 -> 0.98067308
C77: INGLÉS | D77: 7.25 | E77: =D77/$D$75 -> 0.010655528
C78: VALENCIANO | D78: 5.9 | E78: =D78/$D$75 -> 0.0086713953
A79: INGENIERÍA DE SISTEMAS Y AUTOMÁTICA | B79: 42 | D79: 742.45
C80: CASTELLANO | D80: 674.73 | E80: =D80/$D$79 -> 0.90878847
C81: INGLÉS | D81: 34.1 | E81: =D81/$D$79 -> 0.045929019
C82: VALENCIANO | D82: 33.62 | E82: =D82/$D$79 -> 0.045282511
A83: INGENIERÍA DE LOS TRANSPORTES Y DEL TERRENO | B83: 45 | D83: 532.66
C84: CASTELLANO | D84: 522.66 | E84: =D84/$D$83 -> 0.9812263
C85: INGLÉS | D85: 4.5 | E85: =D85/$D$83 -> 0.0084481658
C86: VALENCIANO | D86: 5.5 | E86: =D86/$D$83 -> 0.010325536
C88: CASTELLANO | E88: =D88/$D$87 -> #DIV/0!
C89: INGLÉS | E89: =D89/$D$87 -> #DIV/0!
A90: INGENIERÍA ELÉCTRICA | B90: 19 | D90: 867.14
C91: CASTELLANO | D91: 760.79 | E91: =D91/D90 -> 0.87735544
C92: INGLÉS | D92: 67.3 | E92: =D92/D90 -> 0.077611458
C93: VALENCIANO | D93: 39.05 | E93: =D93/D90 -> 0.045033097
A94: INGENIERÍA ELECTRÓNICA | B94: 20 | D94: 1421.31
C95: CASTELLANO | D95: 1317.67 | E95: =D95/D94 -> 0.92708135
C96: INGLÉS | D96: 59.85 | E96: =D96/D94 -> 0.04210904
C97: VALENCIANO | D97: 43.79 | E97: =D97/D94 -> 0.030809605
A98: INGENIERÍA GRÁFICA | B98: 11 | D98: 949.21
C99: CASTELLANO | D99: 849.76 | E99: =D99/D98 -> 0.89522866
C100: INGLÉS | D100: 62.7 | E100: =D100/D98 -> 0.06605493
C101: VALENCIANO | D101: 36.75 | E101: =D101/D98 -> 0.038716406
A102: INGENIERÍA HIDRÁULICA Y MEDIO AMBIENTE | B102: 21 | D102: 938.15
C103: CASTELLANO | D103: 893.65 | E103: =D103/D102 -> 0.95256622
...

Sheet Històric dep-ling
B2: MEDITERRÀNIA | E2: ID | F2: DESC | G2: 2000 | H2: 2001 | I2: 2002 | J2: 2003 | K2: 2004 | L2: 2005 | M2: 2006 | N2: 2007 | O2: 2008 | P2: 2009 | Q2: 2010 | R2: 2011 | S2: 2012 | T2: 2013 | U2: 2014 | V2: 2015 | W2: 2016 | X2: 2017 | Y2: 2018 | Z2: 2019 | AA2: 2020 | AB2: 2021 | AC2: 2022 | AD2: 2023 | AE2: 2024 | AF2: 2025
B3: 02 | C3: BIOTECNOLOGÍA | E3: 02 | F3: BIOTECNOLOGIA | G3: 0.09990862 | H3: 0.16428808 | I3: 0.094074377 | J3: 0.05255561 | K3: 0.026948507 | L3: 0.024138602 | M3: 0.022971846 | N3: 0.028328612 | O3: 0.019746992 | P3: 0.022971488 | Q3: 0.0081381154 | R3: 0.0048062481 | S3: 0.00113617 | T3: 0 | U3: 0.0022777822 | V3: 0.028528815 | W3: 0.0047784228 | X3: 0.019760772 | Y3: 0.074838323 | Z3: 0.016114385 | AA3: 0.013838422 | AB3: 0.03 | AC3: 0.071003123 | AD3: 0.064439626 | AE3: 0.049074145 | AF3: ='[3]2025 total dep'!P8 -> 0.052326249 | AG3: ='[3]2025 total dep'!B8 -> BIOTECNOLOGÍA
B4: 03 | C4: CIENCIA ANIMAL | E4: 03 | F4: CIÈNCIA ANIMAL | G4: 0.043741231 | H4: 0.10706472 | I4: 0.10507454 | J4: 0.022733446 | K4: 0.054950119 | L4: 0.032772765 | M4: 0.035869164 | N4: 0.037961743 | O4: 0.051360791 | P4: 0.048935174 | Q4: 0.072907107 | R4: 0.063941273 | S4: 0.054963672 | T4: 0.030576789 | U4: 0.037336539 | V4: 0.038693116 | W4: 0.046042443 | X4: 0.047927741 | Y4: 0.047845978 | Z4: 0.070353063 | AA4: 0.054646038 | AB4: 0.085 | AC4: 0.10495595 | AD4: 0.061051468 | AE4: 0.061851852 | AF4: ='[3]2025 total dep'!P9 -> 0.05344143 | AG4: ='[3]2025 total dep'!B9 -> CIENCIA ANIMAL
B5: 04 | C5: COMPOSICIÓN ARQUITECTÓNICA | E5: 04 | F5: COMPOSICIÓ ARQUITECTÒNICA | G5: 0 | H5: 0.051886792 | I5: 0.1046 | J5: 0.094059406 | K5: 0.061002179 | L5: 0.071030641 | M5: 0.076472088 | N5: 0.042973287 | O5: 0.075480075 | P5: 0.010215664 | Q5: 0.012257633 | R5: 0 | S5: 0.034272005 | T5: 0.028828136 | U5: 0.030503305 | V5: 0.10389159 | W5: 0.085973571 | X5: 0.11073858 | Y5: 0.14594857 | Z5: 0.11744654 | AA5: 0.11739652 | AB5: 0.123 | AC5: 0.14547139 | AD5: 0.11991884 | AE5: 0.12650398 | AF5: ='[3]2025 total dep'!P10 -> 0.13662913 | AG5: ='[3]2025 total dep'!B10 -> COMPOSICIÓN ARQUITECTÓNICA
B6: 35 | C6: COMUNICACIÓN AUDIOVISUAL, DOCUMENTACIÓN E HISTORIA DEL ARTE | E6: 35 | F6: COM. AUDIOVISUAL I HISTÒRIA DE L'ART | G6: 0.073539006 | H6: 0.1401328 | I6: 0.13962157 | J6: 0.076166949 | K6: 0.095185002 | L6: 0.08952164 | M6: 0.079619913 | N6: 0.090520718 | O6: 0.13394047 | P6: 0.13788597 | Q6: 0.095510658 | R6: 0.07566586 | S6: 0.092026878 | T6: 0.047082585 | U6: 0.061189748 | V6: 0.061554998 | W6: 0.056966102 | X6: 0.074675759 | Y6: 0.077985085 | Z6: 0.075601102 | AA6: 0.04585356 | AB6: 0.06 | AC6: 0.036488805 | AD6: 0.030019836 | AE6: 0.062197945 | AF6: ='[3]2025 total dep'!P11 -> 0.039785168 | AG6: ='[3]2025 total dep'!B11 -> COMUNICACIÓN AUDIOVISUAL, DOCUMENTACIÓN E HISTORIA DEL ARTE
B7: 39 | C7: COMUNICACIONES | E7: 39 | F7: COMUNICACIONS | G7: 0 | H7: 0.029889161 | I7: 0.089490733 | J7: 0.099657575 | K7: 0.073958082 | L7: 0.089355065 | M7: 0.0924 | N7: 0.065460247 | O7: 0.0444 | P7: 0.03581587 | Q7: 0.028983169 | R7: 0.036 | S7: 0.026101082 | T7: 0.022988808 | U7: 0.023392863 | V7: 0.066138096 | W7: 0.055463674 | X7: 0.053286497 | Y7: 0.041424784 | Z7: 0.039210845 | AA7: 0.030309268 | AB7: 0.036 | AC7: 0.0436536 | AD7: 0.019381677 | AE7: 0.020274798 | AF7: ='[3]2025 total dep'!P12 -> 0.01813801 | AG7: ='[3]2025 total dep'!B12 -> COMUNICACIONES
B8: 37 | C8: CONSERVACIÓN Y RESTAURACIÓN DE BIENES CULTURALES | E8: 37 | F8: CONSERVACIÓ I RESTAURACIÓ | G8: 0.20202578 | H8: 0.30837004 | I8: 0.30793157 | J8: 0.34087666 | K8: 0.31338724 | L8: 0.32556962 | M8: 0.25254473 | N8: 0.36169372 | O8: 0.39117347 | P8: 0.44803566 | Q8: 0.41639053 | R8: 0.2844486 | S8: 0.2991453 | T8: 0.14353982 | U8: 0.040322581 | V8: 0 | W8: 0 | X8: 0 | Y8: 0 | Z8: 0 | AA8: 0 | AB8: 0 | AC8: 0 | AD8: 0 | AE8: 0 | AF8: ='[3]2025 total dep'!P13 -> 0.026002167 | AG8: ='[3]2025 total dep'!B13 -> CONSERVACIÓN Y RESTAURACIÓN DE BIENES CULTURALES
B9: 05 | C9: CONSTRUCCIONES ARQUITECTÓNICAS | E9: 05 | F9: CONSTRUCCIONS ARQUITECTÒNIQUES | G9: 0.012403101 | H9: 0.028232006 | I9: 0.041604654 | J9: 0.039098377 | K9: 0.056980778 | L9: 0.038374651 | M9: 0.035918542 | N9: 0.03240259 | O9: 0.011611113 | P9: 0.010195303 | Q9: 0 | R9: 0.00088988678 | S9: 0.0033827356 | T9: 0.002730781 | U9: 0.016627989 | V9: 0.031573949 | W9: 0.035630886 | X9: 0.063689905 | Y9: 0.076766821 | Z9: 0.08444202 | AA9: ='[4]2020'!Q11 -> 0 | AB9: 0.119 | AC9: 0.18573072 | AD9: 0.093114964 | AE9: 0.090805249 | AF9: ='[3]2025 total dep'!P14 -> 0.088052236 | AG9: ='[3]2025 total dep'!B14 -> CONSTRUCCIONES ARQUITECTÓNICAS
A10: x | B10: 98 | C10: DEPARTAMENTOS DE OTRAS UNIVERSIDADES | E10: 98 | F10: DEP. D'ALTRES UNIVERSITATS | G10: 0 | H10: 0 | I10: 0 | J10: 0 | K10: 0 | L10: 0.078431373 | M10: 0.0936 | N10: 0.050941307 | O10: 0.0509 | P10: 0.16732673 | Q10: 0 | R10: 0 | S10: 0.058631922 | T10: 0 | U10: 0 | AE10: 0 | AF10: ='[3]2025 total dep'!P15 -> 0 | AG10: ='[3]2025 total dep'!B15 -> DEPARTAMENTOS DE OTRAS UNIVERSIDADES
B11: 06 | C11: DIBUJO | E11: 06 | F11: DIBUIX | G11: 0.096311457 | H11: 0.11010318 | I11: 0.11648333 | J11: 0.11291122 | K11: 0.095499787 | L11: 0.081081081 | M11: 0.078817734 | N11: 0.09427542 | O11: 0.1 | P11: 0.10623368 | Q11: 0.053846289 | R11: 0.065672701 | S11: 0.054533651 | T11: 0.050226468 | U11: 0.030369598 | V11: 0.073890821 | W11: 0.093924776 | X11: 0.085761751 | Y11: 0.057663409 | Z11: 0.069519464 | AA11: 0.061642563 | AB11: 0.07 | AC11: 0.12330212 | AD11: 0.065883621 | AE11: 0.060726364 | AF11: ='[3]2025 total dep'!P16 -> 0.065858128 | AG11: ='[3]2025 total dep'!B16 -> DIBUJO
B12: 07 | C12: ECONOMÍA Y CIENCIAS SOCIALES | E12: 07 | F12: ECONOMIA I CIÈNCIES SOCIALS | G12: 0.20642202 | H12: 0.079448655 | I12: 0.065666303 | J12: 0.077666875 | K12: 0.053218851 | L12: 0.059770115 | M12: 0.049450906 | N12: 0.048694112 | O12: 0.048596619 | P12: 0.035018679 | Q12: 0.048984192 | R12: 0.095357747 | S12: 0.063918793 | T12: 0.057603153 | U12: 0.082543939 | V12: 0.10240287 | W12: 0.055944661 | X12: 0.081139027 | Y12: 0.070734436 | Z12: 0.041077013 | AA12: 0.050913804 | AB12: 0.102 | AC12: 0.088147904 | AD12: 0.027389255 | AE12: 0.030079065 | AF12: ='[3]2025 total dep'!P17 -> 0.028493207 | AG12: ='[3]2025 total dep'!B17 -> ECONOMÍA Y CIENCIAS SOCIALES
B13: 44 | C13: ECOSISTEMAS AGROFORESTALES | E13: 44 | F13: ECOSISTEMES AGROFORESTALS | G13: 0.072483904 | H13: 0.11376457 | I13: 0.18158417 | J13: 0.26090535 | K13: 0.083556072 | L13: 0.070232979 | M13: 0.05967774 | N13: 0.038925737 | O13: 0.046089322 | P13: 0.050943172 | Q13: 0.059067211 | R13: 0.029293473 | S13: 0.063606265 | T13: 0.030964606 | U13: 0.075147163 | V13: 0.085891133 | W13: 0.042987239 | X13: 0.035701464 | Y13: 0.050805958 | Z13: 0.057322176 | AA13: 0.049758811 | AB13: 0.064 | AC13: 0.14691684 | AD13: 0.047094228 | AE13: 0.049174103 | AF13: ='[3]2025 total dep'!P18 -> 0.051051051 | AG13: ='[3]2025 total dep'!B18 -> ECOSISTEMAS AGROFORESTALES
B14: 08 | C14: ESCULTURA | E14: 08 | F14: ESCULTURA | G14: 0.9347483 | H14: 0.1959707 | I14: 0.13605442 | J14: 0.15034965 | K14: 0.086461889 | L14: 0.063209076 | M14: 0.076010782 | N14: 0.060747664 | O14: 0.042948038 | P14: 0.063818565 | Q14: 0.055181347 | R14: 0.043377675 | S14: 0.0061728395 | T14: 0 | U14: 0.053799693 | V14: 0.11336403 | W14: 0.095359872 | X14: 0.095226003 | Y14: 0.095391327 | Z14: 0.10253434 | AA14: 0.099045949 | AB14: 0.089 | AC14: 0.11744917 | AD14: 0.082588747 | AE14: 0.089304113 | AF14: ='[3]2025 total dep'!P19 -> 0.08800562 | AG14: ='[3]2025 total dep'!B19 -> ESCULTURA
B15: 09 | C15: ESTADÍSTICA E INVESTIGACIÓN OPERATIVA APLICADAS Y CALIDAD | E15: 09 | F15: ESTADÍSTICA I INVESTIGACIÓ OPERATIVA | G15: 0.038386467 | H15: 0.081902779 | I15: 0.073451489 | J15: 0.08894545 | K15: 0.08329812 | L15: 0.12840823 | M15: 0.091300649 | N15: 0.094130949 | O15: 0.11419545 | P15: 0.11075975 | Q15: 0.13154818 | R15: 0.076509035 | S15: 0.042882625 | T15: 0.052772179 | U15: 0.056774408 | V15: 0.11407797 | W15: 0.098494641 | X15: 0.11935178 | Y15: 0.10929801 | Z15: 0.10968021 | AA15: 0.11509172 | AB15: 0.131 | AC15: 0.144223 | AD15: 0.084740781 | AE15: 0.067060308 | AF15: ='[3]2025 total dep'!P20 -> 0.065291158 | AG15: ='[3]2025 total dep'!B20 -> ESTADÍSTICA E INVESTIGACIÓN OPERATIVA APLICADAS Y CALIDAD
B16: 10 | C16: EXPRESIÓN GRÁFICA ARQUITECTÓNICA | E16: 10 | F16: EXPRESSIÓ GRÀFICA ARQUITECTÒNICA | G16: 0.045009645 | H16: 0.062210983 | I16: 0.037824387 | J16: 0.070121008 | K16: 0.048364463 | L16: 0.06706142 | M16: 0.05328247 | N16: 0.051052848 | O16: 0.045790741 | P16: 0.0093457944 | Q16: 0.0029802351 | R16: 0.024521454 | S16: 0.028040212 | T16: 0.026413735 | U16: 0 | V16: 0.086532711 | W16: 0.10558909 | X16: 0.08387573 | Y16: 0.094859518 | Z16: 0.098407117 | AA16: 0.10065105 | AB16: 0.108 | AC16: 0.1218554 | AD16: 0.12011052 | AE16: 0.118638 | AF16: ='[3]2025 total dep'!P21 -> 0.11308898 | AG16: ='[3]2025 total dep'!B21 -> EXPRESIÓN GRÁFICA ARQUITECTÓNICA
B17: 12 | C17: FÍSICA APLICADA | E17: 12 | F17: FÍSICA APLICADA | G17: 0.05373594 | H17: 0.091753535 | I17: 0.067868335 | J17: 0.082912135 | K17: 0.090735157 | L17: 0.088432353 | M17: 0.063845391 | N17: 0.049222241 | O17: 0.070543628 | P17: 0.030179756 | Q17: 0.064061485 | R17: 0.039359917 | S17: 0.036305525 | T17: 0.00067696557 | U17: 0.053521229 | V17: 0.083343839 | W17: 0.059282327 | X17: 0.066710276 | Y17: 0.061786881 | Z17: 0.059098577 | AA17: 0.059939643 | AB17: 0.036 | AC17: 0.14093533 | AD17: 0.049641239 | AE17: 0.03371187 | AF17: ='[3]2025 total dep'!P22 -> 0.0617816 | AG17: ='[3]2025 total dep'!B22 -> FÍSICA APLICADA
B18: 17 | C18: INFORMÁTICA DE SISTEMAS Y COMPUTADORES | E18: 17 | F18: INFORMÀTICA DE SISTEMES I COMPUTADORS | G18: 0.16157025 | H18: 0.098855359 | I18: 0.15272852 | J18: 0.19870333 | K18: 0.16319869 | L18: 0.18502141 | M18: 0.16960942 | N18: 0.17167724 | O18: 0.14295402 | P18: 0.10903571 | Q18: 0.12754327 | R18: 0.11070603 | S18: 0.10980008 | T18: 0.074517121 | U18: 0.092889569 | V18: 0.097889121 | W18: 0.10292138 | X18: 0.09800768 | Y18: 0.10588346 | Z18: 0.099028157 | AA18: 0.083895117 | AB18: 0.076 | AC18: 0.084642331 | AD18: 0.063325767 | AE18: 0.055318411 | AF18: ='[3]2025 total dep'!P23 -> 0.053996496 | AG18: ='[3]2025 total dep'!B23 -> INFORMÁTICA DE SISTEMAS Y COMPUTADORES
B19: 15 | C19: INGENIERÍA CARTOGRÁFICA, GEODESIA Y FOTOGRAMETRÍA | E19: 15 | F19: ENG. CARTOGRÀFICA, GEODÈSIA I FOTOGR. | G19: 0.0026797678 | H19: 0.008226691 | I19: 0.0012043453 | J19: 0.0049515164 | K19: 0.0047534918 | L19: 0.0071138934 | M19: 0.0091861106 | N19: 0.0024323404 | O19: 0.0027033603 | P19: 0.0028812078 | Q19: 0.0033940491 | R19: 0 | S19: 0 | T19: 0 | U19: 0 | V19: 0.010903234 | W19: 0.045574259 | X19: 0.030653094 | Y19: 0.02496017 | Z19: 0.026574677 | AA19: 0.058151218 | AB19: 0.056 | AC19: 0.041866145 | AD19: 0.019169458 | AE19: 0.020526984 | AF19: ='[3]2025 total dep'!P24 -> 0.0073246985 | AG19: ='[3]2025 total dep'!B24 -> INGENIERÍA CARTOGRÁFICA, GEODESIA Y FOTOGRAMETRÍA
B20: 16 | C20: INGENIERÍA DE LA CONSTRUCCIÓN Y DE PROYECTOS DE INGENIERÍA CIVIL | E20: 16 | F20: ENG. DE LA CONSTRUCCIÓ I D'ENGINYERIA CIVIL | G20: 0.024211772 | H20: 0.0305295 | I20: 0.037017757 | J20: 0.022161387 | K20: 0.01863947 | L20: 0.020727041 | M20: 0.026611601 | N20: 0.017719138 | O20: 0.035148245 | P20: 0.027142541 | Q20: 0.015101301 | R20: 0 | S20: 0.0060523844 | T20: 0.010590883 | U20: 0.011949866 | V20: 0.010097028 | W20: 0.012046939 | X20: 0.0179834 | Y20: 0.0084986504 | Z20: 0.009353662 | AA20: 0.0073072114 | AB20: 0.023 | AC20: 0.049588287 | AD20: 0.022312767 | AE20: 0.019446909 | AF20: ='[3]2025 total dep'!P25 -> 0.0086713953 | AG20: ='[3]2025 total dep'!B25 -> INGENIERÍA DE LA CONSTRUCCIÓN Y DE PROYECTOS DE INGENIERÍA CIVIL
B21: 42 | C21: INGENIERÍA DE SISTEMAS Y AUTOMÁTICA | E21: 42 | F21: ENG. DE SISTEMES I AUTOMÀTICA | G21: 0.085531005 | H21: 0.026380984 | I21: 0.028135048 | J21: 0.025439783 | K21: 0.028298073 | L21: 0.033211333 | M21: 0.058170217 | N21: 0.067001454 | O21: 0.060143419 | P21: 0.051781581 | Q21: 0.051708882 | R21: 0.065172207 | S21: 0.058084643 | T21: 0.046783153 | U21: 0.055122586 | V21: 0.068805069 | W21: 0.089885579 | X21: 0.094651905 | Y21: 0.10519326 | Z21: 0.086391082 | AA21: 0.069555437 | AB21: 0.068 | AC21: 0.13747318 | AD21: 0.068495702 | AE21: 0.065159726 | AF21: ='[3]2025 total dep'!P26 -> 0.045282511 | AG21: ='[3]2025 total dep'!B26 -> INGENIERÍA DE SISTEMAS Y AUTOMÁTICA
B22: 18 | C22: INGENIERÍA DEL TERRENO | E22: 18 | F22: ENG. DEL TERRENY | G22: 0 | H22: 0 | I22: 0 | J22: 0 | K22: 0 | L22: 0 | M22: 0 | N22: 0 | O22: 0 | P22: 0 | Q22: 0 | R22: 0 | S22: 0 | T22: 0 | U22: 0 | V22: 0.0064516129 | W22: 0.0068399453 | X22: 0.0074777537 | Y22: 0.041927123 | Z22: 0.048811545 | AA22: 0 | AB22: 0 | AC22: 0.056113224 | AD22: 0.028244183 | AE22: 0.030074234 | AF22: ='[3]2025 total dep'!P27 -> 0 | AG22: ING TERRENO
B23: 19 | C23: INGENIERÍA ELÉCTRICA | E23: 19 | F23: ENG. ELÈCTRICA | G23: 0.075724479 | H23: 0.064738886 | I23: 0.034658512 | J23: 0.040730493 | K23: 0.057128725 | L23: 0.047266949 | M23: 0.041880412 | N23: 0.060391857 | O23: 0.082506361 | P23: 0.065007618 | Q23: 0.051528245 | R23: 0.056594894 | S23: 0.02712528 | T23: 0.015521835 | U23: 0.013504703 | V23: 0.032294618 | W23: 0.059346309 | X23: 0.036798142 | Y23: 0.035344063 | Z23: 0.040678208 | AA23: 0.04933763 | AB23: 0.073 | AC23: 0.131436 | AD23: 0.068201151 | AE23: 0 | AF23: ='[3]2025 total dep'!P28 -> 0.010325536 | AG23: ='[3]2025 total dep'!B28 -> INGENIERÍA DE LOS TRANSPORTES Y DEL TERRENO
B24: 20 | C24: INGENIERÍA ELECTRÓNICA | E24: 20 | F24: ENG. ELECTRÒNICA | G24: 0.031971742 | H24: 0.05508189 | I24: 0.043932985 | J24: 0.080739718 | K24: 0.078192987 | L24: 0.090909667 | M24: 0.08480255 | N24: 0.066244138 | O24: 0.068472892 | P24: 0.06168507 | Q24: 0.05004497 | R24: 0.024739509 | S24: 0.018041886 | T24: 0.019602119 | U24: 0.01285275 | V24: 0.014328382 | W24: 0.022814463 | X24: 0.040966857 | Y24: 0.046007942 | Z24: 0.045386891 | AA24: 0.03541708 | AB24: 0.044 | AC24: 0.072090588 | AD24: 0.033623158 | AE24: 0.052848482 | AF24: ='[3]2025 total dep'!P29 -> 0.045033097 | AG24: ='[3]2025 total dep'!B29 -> INGENIERÍA ELÉCTRICA
B25: 11 | C25: INGENIERÍA GRÁFICA | E25: 11 | F25: ENG. GRÀFICA | G25: 0.0152807 | H25: 0.070787587 | I25: 0.074496846 | J25: 0.078718889 | K25: 0.068975919 | L25: 0.077386235 | M25: 0.084171836 | N25: 0.085641916 | O25: 0.084454956 | P25: 0.085801839 | Q25: 0.054949831 | R25: 0.026105953 | S25: 0.031486288 | T25: 0.063023829 | U25: 0.068416779 | V25: 0.10719864 | W25: 0.059439528 | X25: 0.10289074 | Y25: 0.10896067 | Z25: 0.093715084 | AA25: ='[4]2020'!Q32 -> 0 | AB25: 0.07 | AC25: ='[4]2022'!Q32 -> 0 | AD25: ='[4]2022'!R32 -> 0 | AE25: 0.030182056 | AF25: ='[3]2025 total dep'!P30 -> 0.030809605 | AG25: ='[3]2025 total dep'!B30 -> INGENIERÍA ELECTRÓNICA
B26: 21 | C26: INGENIERÍA HIDRÁULICA Y MEDIO AMBIENTE | E26: 21 | F26: ENG. HIDRÀULICA I M.A. | G26: 0 | H26: 0.013193844 | I26: 0.014693152 | J26: 0.0051216251 | K26: 0.015370325 | L26: 0.010428338 | M26: 0.01851753 | N26: 0.018036051 | O26: 0.011893385 | P26: 0.010793788 | Q26: 0.012557305 | R26: 0.0034329777 | S26: 0.00507594 | T26: 0.0061356297 | U26: 0.01796949 | V26: 0.035984637 | W26: 0.048021146 | X26: 0.036931287 | Y26: 0.046258534 | Z26: 0.040952993 | AA26: 0.040140836 | AB26: 0.033 | AC26: 0.054753609 | AD26: 0.018512917 | AE26: 0.039274924 | AF26: ='[3]2025 total dep'!P31 -> 0.038716406 | AG26: ='[3]2025 total dep'!B31 -> INGENIERÍA GRÁFICA
B27: 40 | C27: INGENIERÍA E INFRAESTRUCTURA DE LOS TRANSPORTES | E27: 40 | F27: ENG. I INFRAESTRUCTURA DELS TRANSPORTS | G27: 0 | H27: 0 | I27: 0 | J27: 0 | K27: 0 | L27: 0 | M27: 0 | N27: 0 | O27: 0 | P27: 0 | Q27: 0 | R27: 0 | S27: 0 | T27: 0 | U27: 0 | V27: 0 | W27: 0 | X27: 0 | Y27: 0 | Z27: 0 | AA27: 0 | AB27: 0 | AC27: 0 | AD27: 0 | AE27: 0.014708331 | AF27: ='[3]2025 total dep'!P32 -> 0.013590577 | AG27: ='[3]2025 total dep'!B32 -> INGENIERÍA HIDRÁULICA Y MEDIO AMBIENTE
B28: 22 | C28: INGENIERÍA MECANICA Y DE MATERIALES | E28: 22 | F28: ENG. MECÀNICA I DE MATERIALS | G28: 0.025267755 | H28: 0.041071919 | I28: 0.051599945 | J28: 0.029462041 | K28: 0.0097413175 | L28: 0.039284855 | M28: 0.034802715 | N28: 0.024147744 | O28: 0.046714519 | P28: 0.050734355 | Q28: 0.048626945 | R28: 0.029055366 | S28: 0.028386565 | T28: 0.022532359 | U28: 0.037455786 | V28: 0.046125608 | W28: 0.025500152 | X28: 0.033074397 | Y28: 0.052571004 | Z28: 0.043828565 | AA28: 0.034990778 | AB28: 0.037 | AC28: 0.059993114 | AD28: 0.029127918 | AE28: 0.030871483 | AF28: ='[3]2025 total dep'!P33 -> 0.026333016 | AG28: ='[3]2025 total dep'!B33 -> INGENIERÍA MECANICA Y DE MATERIALES
B29: 23 | C29: INGENIERÍA QUÍMICA Y NUCLEAR | E29: 23 | F29: ENG. QUÍMICA I NUCLEAR | G29: 0.074704182 | H29: 0.065381833 | I29: 0.064332155 | J29: 0.075742789 | K29: 0.081440668 | L29: 0.034907464 | M29: 0.031760771 | N29: 0.034922335 | O29: 0.030855226 | P29: 0.023726027 | Q29: 0.023568948 | R29: 0.048767728 | S29: 0.028220809 | T29: 0.0039142564 | U29: 0.016291249 | V29: 0.026992907 | W29: 0.02464551 | X29: 0.073982398 | Y29: 0.076768584 | Z29: 0.037993252 | AA29: 0.03079352 | AB29: 0.04 | AC29: 0.16024694 | AD29: 0.095502114 | AE29: 0.077284135 | AF29: ='[3]2025 total dep'!P34 -> 0.05337968 | AG29: ='[3]2025 total dep'!B34 -> INGENIERÍA QUÍMICA Y NUCLEAR
B30: 14 | C30: INGENIERÍA RURAL Y AGROALIMENTARIA | E30: 14 | F30: ENG. RURAL I AGROALIMENTÀRIA | G30: 0.25592324 | H30: 0.040550618 | I30: 0.054708769 | J30: 0.055265732 | K30: 0.077559462 | L30: 0.045918771 | M30: 0.043259043 | N30: 0.047270509 | O30: 0.071265244 | P30: 0.085949765 | Q30: 0.074097179 | R30: 0.030279503 | S30: 0.0067700987 | T30: 0.0014822657 | U30: 0.029862426 | V30: 0.053661528 | W30: 0.03693349 | X30: 0.025550078 | Y30: 0.047078931 | Z30: 0.053474114 | AA30: 0.036648314 | AB30: 0.039 | AC30: 0.087549148 | AD30: 0.04184337 | AE30: 0.041265295 | AF30: ='[3]2025 total dep'!P35 -> 0.052092442 | AG30: ='[3]2025 total dep'!B35 -> INGENIERÍA RURAL Y AGROALIMENTARIA
B31: 24 | C31: INGENIERÍA TEXTIL Y PAPELERA | E31: 24 | F31: ENG. TÈXTIL I PAPERERA | G31: 0 | H31: 0 | I31: 0 | J31: 0 | K31: 0 | L31: 0 | M31: 0 | N31: 0 | O31: 0 | P31: 0 | Q31: 0 | R31: 0 | S31: 0 | T31: 0 | U31: 0 | AE31: 0 | AF31: ='[3]2025 total dep'!P36 -> 0 | AG31: ='[3]2025 total dep'!B36 -> INGENIERÍA TEXTIL Y PAPELERA
B32: 13 | C32: LINGÜÍSTICA APLICADA | E32: 13 | F32: LINGÜÍSTICA APLICADA | G32: 0.085897819 | H32: 0.088996228 | I32: 0.08863526 | J32: 0.090017207 | K32: 0.088517363 | L32: 0.091781405 | M32: 0.096217397 | N32: 0.095143346 | O32: 0.10131488 | P32: 0.10227987 | Q32: 0.11353068 | R32: 0.10402653 | S32: 0.099663748 | T32: 0.10755239 | U32: 0.13286377 | V32: 0.11934958 | W32: 0.098984511 | X32: 0.102189 | Y32: 0.11230776 | Z32: 0.092925376 | AA32: 0.084591493 | AB32: 0.085 | AC32: 0.078244338 | AD32: 0.061148529 | AE32: 0.063603211 | AF32: ='[3]2025 total dep'!P37 -> 0.056928183 | AG32: ='[3]2025 total dep'!B37 -> LINGÜÍSTICA APLICADA
B33: 25 | C33: MÁQUINAS Y MOTORES TÉRMICOS | E33: 25 | F33: MÀQUINES I MOTORS TÈRMICS | G33: 0 | H33: 0.041848524 | I33: 0.049364022 | J33: 0.013686478 | K33: 0.012636695 | L33: 0.10534487 | M33: 0.066426096 | N33: 0.077089217 | O33: 0.043728056 | P33: 0.0345707 | Q33: 0.016359331 | R33: 0.0034205088 | S33: 0.021937056 | T33: 0.020541745 | U33: 0.019516059 | V33: 0.017580238 | W33: 0.01759769 | X33: 0.047380252 | Y33: 0.016845197 | Z33: 0.017117275 | AA33: 0.016099691 | AB33: 0.085 | AC33: 0.018573956 | AD33: 0.020015163 | AE33: 0.017973639 | AF33: ='[3]2025 total dep'!P38 -> 0.016910069 | AG33: ='[3]2025 total dep'!B38 -> MÁQUINAS Y MOTORES TÉRMICOS
B34: 26 | C34: MATEMÁTICA APLICADA | E34: 26 | F34: MATEMÀTICA APLICADA | G34: 0.10133198 | H34: 0.15342826 | I34: 0.15992319 | J34: 0.15472108 | K34: 0.15417778 | L34: 0.15937565 | M34: 0.16469422 | N34: 0.17227197 | O34: 0.19083548 | P34: 0.17787535 | Q34: 0.15176784 | R34: 0.13169523 | S34: 0.13311156 | T34: 0.11836286 | U34: 0.095830138 | V34: 0.14205234 | W34: 0.11177645 | X34: 0.11457715 | Y34: 0.12034096 | Z34: 0.101072 | AA34: 0.10714652 | AB34: 0.117 | AC34: 0.13899565 | AD34: 0.087332454 | AE34: 0.088922205 | AF34: ='[3]2025 total dep'!P39 -> 0.095627444 | AG34: ='[3]2025 total dep'!B39 -> MATEMÁTICA APLICADA
B35: 27 | C35: MECÁNICA DE LOS MEDIOS CONTINUOS Y TEORÍA DE ESTRUCTURAS | E35: 27 | F35: MECÀNICA MEDIS CONTINUS I TEORIA D'ESTRUCTURES | G35: 0.051028274 | H35: 0.12817917 | I35: 0.12852976 | J35: 0.065402515 | K35: 0.054003222 | L35: 0.061553949 | M35: 0.07070646 | N35: 0.071378184 | O35: 0.075156277 | P35: 0.080235473 | Q35: 0.094762795 | R35: 0.049611814 | S35: 0.031739501 | T35: 0.056426923 | U35: 0.025493844 | V35: 0.031016638 | W35: 0.036857256 | X35: 0.080798927 | Y35: 0.087506555 | Z35: 0.057970027 | AA35: 0.078098917 | AB35: 0.081 | AC35: 0.1156901 | AD35: 0.072139117 | AE35: 0.075455719 | AF35: ='[3]2025 total dep'!P40 -> 0.074704382 | AG35: ='[3]2025 total dep'!B40 -> MECÁNICA DE LOS MEDIOS CONTINUOS Y TEORÍA DE ESTRUCTURAS
B36: 28 | C36: ORGANIZACIÓN DE EMPRESAS | E36: 28 | F36: ORGANITZACIÓ D'EMPRESA | G36: 0 | H36: 0.019307377 | I36: 0.034169403 | J36: 0.025280899 | K36: 0.024128191 | L36: 0.023913756 | M36: 0.015464441 | N36: 0.012064229 | O36: 0.014296553 | P36: 0.015547029 | Q36: 0.022119837 | R36: 0.0048856053 | S36: 0.03096546 | T36: 0.03079334 | U36: 0.052937758 | V36: 0.050859899 | W36: 0.063239914 | X36: 0.071192544 | Y36: 0.075373555 | Z36: 0.087502227 | AA36: 0.073130828 | AB36: 0.09 | AC36: 0.14137922 | AD36: 0.081923969 | AE36: 0.064048907 | AF36: ='[3]2025 total dep'!P41 -> 0.053535119 | AG36: ='[3]2025 total dep'!B41 -> ORGANIZACIÓN DE EMPRESAS
B37: 29 | C37: PINTURA | E37: 29 | F37: PINTURA | G37: 0.15849487 | H37: 0.21098901 | I37: 0.215973 | J37: 0.17339149 | K37: 0.1753032 | L37: 0.1828877 | M37: 0.19006008 | N37: 0.15400101 | O37: 0.14573643 | P37: 0.11602051 | Q37: 0.22498767 | R37: 0.18412698 | S37: 0.1541861 | T37: 0.15832792 | U37: 0.030593068 | V37: 0.073514045 | W37: 0.088082902 | X37: 0.076433654 | Y37: 0.078086803 | Z37: 0.069098201 | AA37: 0.077642924 | AB37: 0.081 | AC37: 0.094167606 | AD37: 0.059404372 | AE37: 0.061531053 | AF37: ='[3]2025 total dep'!P42 -> 0.059482895 | AG37: ='[3]2025 total dep'!B42 -> PINTURA
B38: 30 | C38: PRODUCCIÓN VEGETAL | E38: 30 | F38: PRODUCCIÓ VEGETAL | G38: 0.094925172 | H38: 0.045980421 | I38: 0.085102041 | J38: 0.069099275 | K38: 0.063260004 | L38: 0.074293476 | M38: 0.065429474 | N38: 0.06692926 | O38: 0.07549044 | P38: 0.097750456 | Q38: 0.06365035 | R38: 0.078309813 | S38: 0.036477332 | T38: 0.035613089 | U38: 0.046542878 | V38: 0.087991084 | W38: 0.080907397 | X38: 0.088847827 | Y38: 0.10445285 | Z38: 0.063385697 | AA38: 0.090241268 | AB38: 0.092 | AC38: 0.19345856 | AD38: 0.076298987 | AE38: 0.094222567 | AF38: ='[3]2025 total dep'!P43 -> 0.088000879 | AG38: ='[3]2025 total dep'!B43 -> PRODUCCIÓN VEGETAL
B39: 36 | C39: PROYECTOS ARQUITECTÓNICOS | E39: 36 | F39: PROJECTES ARQUITECTÒNICS | G39: 0.19387755 | H39: 0.097095678 | I39: 0.073109578 | J39: 0.080684597 | K39: 0.061188119 | L39: 0 | M39: 0 | N39: 0 | O39: 0 | P39: 0 | Q39: 0 | R39: 0 | S39: 0 | T39: 0 | U39: 0 | V39: 0.011413307 | W39: 0.040210812 | X39: 0.072646411 | Y39: 0.083754978 | Z39: 0.10818509 | AA39: 0.12625277 | AB39: 0.128 | AC39: 0.14523217 | AD39: 0.12037306 | AE39: 0.11102747 | AF39: ='[3]2025 total dep'!P44 -> 0.10776309 | AG39: ='[3]2025 total dep'!B44 -> PROYECTOS ARQUITECTÓNICOS
B40: 43 | C40: PROYECTOS DE INGENIERÍA | E40: 43 | F40: PROJECTES D'ENGINYERIA | G40: 0.038920602 | H40: 0.023912075 | I40: 0.020369562 | J40: 0.018488529 | K40: 0.020671312 | L40: 0.0182302 | M40: 0.010017637 | N40: 0 | O40: 0.0070500415 | P40: 0.0066074444 | Q40: 0 | R40: 0 | S40: 0 | T40: 0.0024445229 | U40: 0.026101759 | V40: 0.045047647 | W40: 0.046581237 | X40: 0.051564144 | Y40: 0.063856046 | Z40: 0.061565523 | AA40: 0.041542041 | AB40: 0.043 | AC40: 0.093185921 | AD40: 0.080238547 | AE40: 0.072752468 | AF40: ='[3]2025 total dep'!P45 -> 0.05021645 | AG40: ='[3]2025 total dep'!B45 -> PROYECTOS DE INGENIERÍA
B41: 31 | C41: QUÍMICA | E41: 31 | F41: QUÍMICA | G41: 1 | H41: 0.059885868 | I41: 0.056618771 | J41: 0.040765968 | K41: 0.039312889 | L41: 0.036594604 | M41: 0.038459823 | N41: 0.047502131 | O41: 0.081551583 | P41: 0.068831318 | Q41: 0.044002839 | R41: 0.055868292 | S41: 0.028184625 | T41: 0.064954034 | U41: 0.069768257 | V41: 0.10864709 | W41: 0.07587699 | X41: 0.11586342 | Y41: 0.10710073 | Z41: 0.12274168 | AA41: 0.14344415 | AB41: 0.147 | AC41: 0.18749605 | AD41: 0.093655411 | AE41: 0.068704811 | AF41: ='[3]2025 total dep'!P46 -> 0.068394433 | AG41: ='[3]2025 total dep'!B46 -> QUÍMICA
B42: 32 | C42: SISTEMAS INFORMÁTICOS Y COMPUTACIÓN | E42: 32 | F42: SISTEMES INFORMÀTICS I COMPUTACIÓ | G42: 0.97482588 | H42: 0.10588928 | I42: 0.098755967 | J42: 0.10554776 | K42: 0.11098727 | L42: 0.12661281 | M42: 0.10651846 | N42: 0.096929066 | O42: 0.091256208 | P42: 0.092849367 | Q42: 0.097286004 | R42: 0.079841881 | S42: 0.10702744 | T42: 0.088171899 | U42: 0.10633349 | V42: 0.097369145 | W42: 0.10879627 | X42: 0.12355009 | Y42: 0.10951382 | Z42: 0.1071054 | AA42: 0.096786759 | AB42: 0.1 | AC42: 0.12205725 | AD42: 0.080820441 | AE42: 0.075940814 | AF42: ='[3]2025 total dep'!P47 -> 0.071518361 | AG42: ='[3]2025 total dep'!B47 -> SISTEMAS INFORMÁTICOS Y COMPUTACIÓN
B43: 33 | C43: TECNOLOGÍA DE ALIMENTOS | E43: 33 | F43: TECNOLOGIA D'ALIMENTS | G43: 0.056232939 | H43: 0.059866962 | I43: 0.023368503 | J43: 0.026737968 | K43: 0.028936782 | L43: 0.031117761 | M43: 0.025080402 | N43: 0.024304108 | O43: 0.020983262 | P43: 0.0095667121 | Q43: 0.020880847 | R43: 0.018795708 | S43: 0.0068932446 | T43: 0 | U43: 0.026976289 | V43: 0.021876036 | W43: 0.018716432 | X43: 0.037926542 | Y43: 0.029257176 | Z43: 0.044338264 | AA43: 0.04028847 | AB43: 0.041 | AC43: 0.086831559 | AD43: 0.040868005 | AE43: 0.02882246 | AF43: ='[3]2025 total dep'!P48 -> 0.025738185 | AG43: ='[3]2025 total dep'!B48 -> TECNOLOGÍA DE ALIMENTOS
... B45: 34 | C45: URBANISMO | E45: 34 | F45: URBANISME | G45: 0.067482977 | H45: 0.056662381 | I45: 0.037280752 | J45: 0.018228029 | K45: 0.024920444 | L45: 0.012237315 | M45: 0.017455746 | N45: 0.028659092 | O45: 0.028357257 | P45: 0.0016920073 | Q45: 0.004397123 | R45: 0.016526743 | S45: 0.014326508 | T45: 0.020381039 | U45: 0.056751057 | V45: 0.050023512 | W45: 0.050931569 | X45: 0.043380089 | Y45: 0.070558589 | Z45: 0.051791169 | AA45: 0.067985574 | AB45: 0.08 | AC45: 0.10418444 | AD45: 0.081588555 | AE45: 0.079721751 | AF45: ='[3]2025 total dep'!P50 -> 0.095941425 | AG45: ='[3]2025 total dep'!B50 -> URBANISMO
C46: TOTALS | G46: 0.079530401 | H46: 0.078918277 | I46: 0.078927157 | J46: 0.078977099 | K46: 0.072985187 | L46: 0.073988476 | M46: 0.068712949 | N46: 0.068982245 | O46: 0.073383394 | P46: 0.066560149 | Q46: 0.062322847 | R46: 0.051283729 | S46: 0.04807546 | T46: 0.041968315 | U46: 0.046257829 | V46: 0.064127271 | W46: 0.061095279 | X46: 0.070910234 | Y46: 0.074015243 | Z46: 0.069837082 | AA46: 0.066037312 | AB46: 0.073 | AC46: 0.10430657 | AD46: 0.062 | AE46: 0.058256796 | AF46: ='[3]2025 total dep'!P52 -> 0.056509641 | AG46: TOTALS
V74: % de crèdits de docència sense el Dep. De Lingüística Aplicada
W75: Valencià | X75: Anglès | Y75: Castellà | Z75: % Valencià | AA75: % Anglès | AB75: % Castellà | AC75: Total
V76: 2010 | W76: 914.735 | X76: 197.275 | Y76: 9020.54 | Z76: 0.09027688 | AA76: 0.019469433 | AB76: 0.89025369 | AC76: 10132.55
V77: 2011 | W77: 1250.79 | X77: 499.693 | Y77: 13886.817 | Z77: 0.079987594 | AA77: 0.031955197 | AB77: 0.88805721 | AC77: 15637.3
V78: 2012 | W78: 1417.215 | X78: 792.99 | Y78: 19264.215 | Z78: 0.065995496 | AA78: 0.036927191 | AB78: 0.89707731 | AC78: 21474.42
V79: 2013 | W79: 1398.635 | X79: 968.58 | Y79: 23870.255 | Z79: 0.053306778 | AA79: 0.036915907 | AB79: 0.90977731 | AC79: 26237.47
V80: 2014 | W80: 1438.25 | X80: 1252.07 | Y80: 26717.557 | Z80: 0.048906965 | AA80: 0.042576008 | AB80: 0.90851703 | AC80: 29407.877
V81: 2015 | W81: 1788.86 | X81: 1506.7 | Y81: 19537.46 | Z81: 0.078345391 | AA81: 0.065987836 | AB81: 0.85566782 | AC81: 22832.996
V82: 2016 | W82: 2035.33 | X82: 1706.8 | Y82: 22911.07 | Z82: 0.076349689 | AA82: 0.064025808 | AB82: 0.85944444 | AC82: 26658
V83: 2017 | W83: 2259.37 | X83: 1855.55 | Y83: 21991.49 | Z83: 0.086520651 | AA83: 0.071056708 | AB83: 0.84214539 | AC83: 26113.65
V84: 2018 | W84: 2335.28 | X84: 1892.75 | Y84: 22012.07 | Z84: 0.088928493 | AA84: 0.072076755 | AB84: 0.83822934 | AC84: 26260.2
V85: 2019 | W85: 2120.73 | X85: 1988.05 | Y85: 22594.09 | Z85: 0.079303788 | AA85: 0.074342276 | AB85: 0.8448963 | AC85: 26741.85
V86: 2020 | W86: 2012.75 | X86: 1861.65 | Y86: 22617.73 | Z86: 0.075947242 | AA86: 0.070245774 | AB86: 0.85343645 | AC86: 26501.95
V87: 2021 | W87: 2052.48 | X87: 2316.67 | Y87: 23940.34 | Z87: 0.072497821 | AA87: 0.081829556 | AB87: 0.84562211 | AC87: 28310.92
... V90: 2024 | W90: 2200.65 | X90: 2359.65 | Y90: 33384.82 | Z90: 0.058 | AA90: 0.062 | AB90: 0.88 | AC90: 37945.11
V91: 2025 | W91: ='[3]2025 total dep'!I54 -> 2253.186 | X91: ='[3]2025 total dep'!G54 -> 2512.02 | Y91: ='[3]2025 total dep'!E54 -> 35118.636 | Z91: =W91/$AC$91 -> 0.056493705 | AA91: =X91/$AC$91 -> 0.062983401 | AB91: =Y91/$AC$91 -> 0.88052289 | AC91: ='[3]2025 total dep'!C54 -> 39883.842
