Workbook

Sheet Rúbrica TFM MuInTur
A1: RÚBRICA MÀSTER TURISME | C1: LES NOTES DE 0 A 10 ES POSEN EN LA COLUMNA TARONJA
A3: NORMATIVA | C3: Insuficient (Nota<5) | D3: Aprovat (5<Nota<7) | E3: Notable (7<Nota<9) | F3: Excel·lent (Nota>=9) | G3: %Nota | H3: NOTES | I3: NOTA PONDERADA
A4: DOCUMENTACIÓ TFG (40%) | B4: Objectius | C4: Objectius poc clars, confusos o incoherents amb el treball. | D4: Objectius definits però genèrics o amb alineació parcial. | E4: Objectius clars i coherents amb el desenvolupament del treball. | F4: Objectius molt precisos, ben formulats i perfectament alineats amb els resultats. | G4: 0.05 | H4: 7 | I4: =H4*G4 -> 0.35 | J4: Objectius
B5: Metodologia | C5: Metodologia inexistent, incorrecta o sense justificació. | D5: Metodologia bàsica, descrita de manera superficial o aplicada parcialment. | E5: Metodologia adequada, ben descrita i correctament aplicada. | F5: Metodologia rigorosa, ben fonamentada i especialment adequada o innovadora. | G5: 0.05 | H5: 8 | I5: =H5*G5 -> 0.4 | J5: Metodologia
B6: Estat de l'Art | C6: Revisió escassa, desactualizada o irrellevant. | D6: Revisió adequada però limitada i majoritàriament descriptiva. | E6: Revisió àmplia, actualitzada i amb anàlisi crítica. | F6: Revisió exhaustiva, molt actualitzada i amb excel·lent capacitat de síntesi i anàlisi. | G6: 0.1 | H6: 5 | I6: =H6*G6 -> 0.5 | J6: Estat de l'Art
B7: Bibliografia | C7: Bibliografia insuficient, poc rellevant o mal citada. | D7: Bibliografia correcta però limitada o amb xicotets errors formals. | E7: Bibliografia àmplia, rellevant i correctament citada. | F7: Bibliografia molt completa, pertinent, actual i perfectament normalitzada. | G7: 0.05 | H7: 9 | I7: =H7*G7 -> 0.45 | J7: Bibliografia
B8: treball de recerca | C8: Desenvolupament pobre, poc rigorós o sense aportacions rellevants. | D8: Desenvolupament correcte però amb anàlisi limitada o resultats poc profunds. | E8: Treball ben desenvolupat, amb anàlisi sòlida i resultats coherents. | F8: Treball d'alta qualitat, rigorós i amb aportacions rellevants o originals. | G8: 0.1 | H8: 4 | I8: =H8*G8 -> 0.4 | J8: treball de recerca
B9: Conclusions | C9: Conclusions inexistents o no relacionades amb objectius i resultats. | D9: Conclusions correctes però descriptives o poc profundes. | E9: Conclusions clares, ben fonamentades i alineades amb els objectius. | F9: Conclusions sòlides, crítiques i amb projecció futura. | G9: 0.05 | H9: 3 | I9: =H9*G9 -> 0.15 | J9: Conclusions
A10: SUBTOTAL | I10: =SUM(I4:I9) -> 2.25 | J10: NOTA DOCUMENT
A11: DEFENSA TFG (60%) | B11: Presentació amb diapositives | C11: Presentació desordenada, poc clara o amb errors greus de disseny. | D11: Presentació clara però millorable en estructura o disseny. | E11: Presentació ben estructurada, clara i visualment adequada. | F11: Presentació excel·lent, professional i molt efectiva. | G11: 0.2 | H11: 6 | I11: =H11*G11 -> 1.2 | J11: Presentació amb diapositives
B12: Fluïdesa en la defensa de Projecte | C12: Exposició poc clara, desorganitzada o amb dificultats de comunicació. | D12: Exposició comprensible però amb falta de fluïdesa o seguretat. | E12: Exposició clara, fluida i ben estructurada. | F12: Exposició excel·lent, segura i convincent. | G12: 0.2 | H12: 5 | I12: =H12*G12 -> 1 | J12: Fluïdesa en la defensa de Projecte
B13: Respostes a les preguntes del Tribunal | C13: Respostes incorrectes, vagues o incapacitat per a justificar el treball. | D13: Respostes correctes però poc argumentades o incompletes. | E13: Respostes clares, ben raonades i tècnicament correctes. | F13: Respostes precises, profundes i amb gran domini del tema. | G13: 0.2 | H13: 5 | I13: =H13*G13 -> 1 | J13: Respostes a les preguntes del Tribunal
A14: SUBTOTAL | I14: =SUM(I11:I13) -> 3.2 | J14: NOTA PRESENTACIÓ
A15: TOTAL NOTA | I15: =I10+I14 -> 5.45 | J15: NOTA FINAL TFM

Sheet Nota TFM (resumen)
B1: RÚBRICA MÀSTER TURISME
D3: Valoració
B4: NORMATIVA | D4: %Nota | E4: TFM NOTA
B5: DOCUMENTACIÓ TFG (40%) | C5: Objectius | D5: 0.05 | E5: ='Rúbrica TFM MuInTur'!I4 -> 0.35
C6: Metodologia | D6: 0.05 | E6: ='Rúbrica TFM MuInTur'!I5 -> 0.4
C7: Estat de l'Art | D7: 0.1 | E7: ='Rúbrica TFM MuInTur'!I6 -> 0.5
C8: Bibliografia | D8: 0.05 | E8: ='Rúbrica TFM MuInTur'!I7 -> 0.45
C9: treball de recerca | D9: 0.1 | E9: ='Rúbrica TFM MuInTur'!I8 -> 0.4
C10: Conclusions | D10: 0.05 | E10: ='Rúbrica TFM MuInTur'!I9 -> 0.15
B11: SUBTOTAL | E11: =SUM(E5:E10) -> 2.25
B12: DEFENSA TFG (60%) | C12: Presentació amb diapositives | D12: 0.2 | E12: ='Rúbrica TFM MuInTur'!I11 -> 1.2
C13: Fluïdesa en la defensa de Projecte | D13: 0.2 | E13: ='Rúbrica TFM MuInTur'!I12 -> 1
C14: Respostes a les preguntes del Tribunal | D14: 0.2 | E14: ='Rúbrica TFM MuInTur'!I13 -> 1
B15: SUBTOTAL | E15: =SUM(E12:E14) -> 3.2
B17: NOTA TFM | E17: =E11+E15 -> 5.45
