BEGIN:VCALENDAR
VERSION:2.0
METHOD:PUBLISH
BEGIN:VEVENT
DTSTART:20260204T000000
LOCATION:
TRANSP: OPAQUE
SEQUENCE:0
UID:
DTSTAMP:20260423T065601Z
SUMMARY:Jornada de concentración CADU de rugby
DESCRIPTION:https://www.upv.es/entidades/ad/eventos/jornada-de-concentracion-cadu-de-rugby/
PRIORITY:1
CLASS:PUBLIC
BEGIN:VALARM
TRIGGER:-PT10080M
ACTION:DISPLAY
DESCRIPTION:Reminder
END:VALARM
END:VEVENT
BEGIN:VEVENT
DTSTART:20260205T000000
LOCATION:Castellón
TRANSP: OPAQUE
SEQUENCE:0
UID:
DTSTAMP:20260423T065601Z
SUMMARY:Campeonato de España Open de Natación master
DESCRIPTION:https://www.upv.es/entidades/ad/eventos/campeonato-de-espana-open-de-natacion-master/
PRIORITY:1
CLASS:PUBLIC
BEGIN:VALARM
TRIGGER:-PT10080M
ACTION:DISPLAY
DESCRIPTION:Reminder
END:VALARM
END:VEVENT
BEGIN:VEVENT
DTSTART:20260206T090000
LOCATION:
TRANSP: OPAQUE
SEQUENCE:0
UID:
DTSTAMP:20260423T065601Z
SUMMARY:Trofeo Active Gaming UPV
DESCRIPTION:https://www.upv.es/entidades/ad/eventos/trofeo-active-gaming-upv/
PRIORITY:1
CLASS:PUBLIC
BEGIN:VALARM
TRIGGER:-PT10080M
ACTION:DISPLAY
DESCRIPTION:Reminder
END:VALARM
END:VEVENT
BEGIN:VEVENT
DTSTART:20260213T173000
LOCATION:Paraninfo UPV
TRANSP: OPAQUE
SEQUENCE:0
UID:
DTSTAMP:20260423T065601Z
SUMMARY:Presentación del equipo ciclista femenino UPV y el quipo de paraciclismo
DESCRIPTION:https://www.upv.es/entidades/ad/eventos/presentacion-del-equipo-ciclista-femenino-upv-y-el-quipo-de-paraciclismo/
PRIORITY:1
CLASS:PUBLIC
BEGIN:VALARM
TRIGGER:-PT10080M
ACTION:DISPLAY
DESCRIPTION:Reminder
END:VALARM
END:VEVENT
BEGIN:VEVENT
DTSTART:20260222T000000
LOCATION:
TRANSP: OPAQUE
SEQUENCE:0
UID:
DTSTAMP:20260423T065601Z
SUMMARY:CADU Carreras de montaña
DESCRIPTION:https://www.upv.es/entidades/ad/eventos/cadu-carreras-de-montana/
PRIORITY:1
CLASS:PUBLIC
BEGIN:VALARM
TRIGGER:-PT10080M
ACTION:DISPLAY
DESCRIPTION:Reminder
END:VALARM
END:VEVENT
BEGIN:VEVENT
DTSTART:20260224T000000
LOCATION:
TRANSP: OPAQUE
SEQUENCE:0
UID:
DTSTAMP:20260423T065601Z
SUMMARY:CADU Ajedrez
DESCRIPTION:https://www.upv.es/entidades/ad/eventos/cadu-carreras-de-montana-2/
PRIORITY:1
CLASS:PUBLIC
BEGIN:VALARM
TRIGGER:-PT10080M
ACTION:DISPLAY
DESCRIPTION:Reminder
END:VALARM
END:VEVENT
BEGIN:VEVENT
DTSTART:20260225T000000
LOCATION:
TRANSP: OPAQUE
SEQUENCE:0
UID:
DTSTAMP:20260423T065601Z
SUMMARY:CADU Bádminton
DESCRIPTION:https://www.upv.es/entidades/ad/eventos/cadu-carreras-de-montana-2-2/
PRIORITY:1
CLASS:PUBLIC
BEGIN:VALARM
TRIGGER:-PT10080M
ACTION:DISPLAY
DESCRIPTION:Reminder
END:VALARM
END:VEVENT
BEGIN:VEVENT
DTSTART:20260226T000000
LOCATION:
TRANSP: OPAQUE
SEQUENCE:0
UID:
DTSTAMP:20260423T065601Z
SUMMARY:CADU Frontenis
DESCRIPTION:https://www.upv.es/entidades/ad/eventos/cadu-carreras-de-montana-2-2-2/
PRIORITY:1
CLASS:PUBLIC
BEGIN:VALARM
TRIGGER:-PT10080M
ACTION:DISPLAY
DESCRIPTION:Reminder
END:VALARM
END:VEVENT
BEGIN:VEVENT
DTSTART:20260226T000000
LOCATION:
TRANSP: OPAQUE
SEQUENCE:0
UID:
DTSTAMP:20260423T065601Z
SUMMARY:CADU Tiro con arco
DESCRIPTION:https://www.upv.es/entidades/ad/eventos/cadu-carreras-de-montana-2-2-2-2/
PRIORITY:1
CLASS:PUBLIC
BEGIN:VALARM
TRIGGER:-PT10080M
ACTION:DISPLAY
DESCRIPTION:Reminder
END:VALARM
END:VEVENT
BEGIN:VEVENT
DTSTART:20260303T000000
LOCATION:
TRANSP: OPAQUE
SEQUENCE:0
UID:
DTSTAMP:20260423T065601Z
SUMMARY:CADU Vela
DESCRIPTION:https://www.upv.es/entidades/ad/eventos/cadu-carreras-de-montana-2-2-2-2-2/
PRIORITY:1
CLASS:PUBLIC
BEGIN:VALARM
TRIGGER:-PT10080M
ACTION:DISPLAY
DESCRIPTION:Reminder
END:VALARM
END:VEVENT
BEGIN:VEVENT
DTSTART:20260304T000000
LOCATION:
TRANSP: OPAQUE
SEQUENCE:0
UID:
DTSTAMP:20260423T065601Z
SUMMARY:Final liga CADU
DESCRIPTION:https://www.upv.es/entidades/ad/eventos/final-liga-cadu/
PRIORITY:1
CLASS:PUBLIC
BEGIN:VALARM
TRIGGER:-PT10080M
ACTION:DISPLAY
DESCRIPTION:Reminder
END:VALARM
END:VEVENT
BEGIN:VEVENT
DTSTART:20260305T000000
LOCATION:
TRANSP: OPAQUE
SEQUENCE:0
UID:
DTSTAMP:20260423T065601Z
SUMMARY:CADU Orientación
DESCRIPTION:https://www.upv.es/entidades/ad/eventos/cadu-carreras-de-montana-2-2-2-2-2-2/
PRIORITY:1
CLASS:PUBLIC
BEGIN:VALARM
TRIGGER:-PT10080M
ACTION:DISPLAY
DESCRIPTION:Reminder
END:VALARM
END:VEVENT
BEGIN:VEVENT
DTSTART:20260306T000000
LOCATION:
TRANSP: OPAQUE
SEQUENCE:0
UID:
DTSTAMP:20260423T065601Z
SUMMARY:CADU Escalada
DESCRIPTION:https://www.upv.es/entidades/ad/eventos/cadu-carreras-de-montana-2-2-2-2-2-2-2/
PRIORITY:1
CLASS:PUBLIC
BEGIN:VALARM
TRIGGER:-PT10080M
ACTION:DISPLAY
DESCRIPTION:Reminder
END:VALARM
END:VEVENT
BEGIN:VEVENT
DTSTART:20260306T000000
LOCATION:
TRANSP: OPAQUE
SEQUENCE:0
UID:
DTSTAMP:20260423T065601Z
SUMMARY:Campeonato de España Universitario de Campo a través
DESCRIPTION:https://www.upv.es/entidades/ad/eventos/cadu-carreras-de-montana-2-2-2-2-2-2-2-2-2-2-2-2-2-2-2-2-2-2-2-2/
PRIORITY:1
CLASS:PUBLIC
BEGIN:VALARM
TRIGGER:-PT10080M
ACTION:DISPLAY
DESCRIPTION:Reminder
END:VALARM
END:VEVENT
BEGIN:VEVENT
DTSTART:20260306T000000
LOCATION:
TRANSP: OPAQUE
SEQUENCE:0
UID:
DTSTAMP:20260423T065601Z
SUMMARY:Campeonato de España Universitario de Halterofilia
DESCRIPTION:https://www.upv.es/entidades/ad/eventos/cadu-carreras-de-montana-2-2-2-2-2-2-2-2-2-2-2-2-2-2-2-2-2-2-2-2-2/
PRIORITY:1
CLASS:PUBLIC
BEGIN:VALARM
TRIGGER:-PT10080M
ACTION:DISPLAY
DESCRIPTION:Reminder
END:VALARM
END:VEVENT
BEGIN:VEVENT
DTSTART:20260310T000000
LOCATION:
TRANSP: OPAQUE
SEQUENCE:0
UID:
DTSTAMP:20260423T065601Z
SUMMARY:CADU Remo
DESCRIPTION:https://www.upv.es/entidades/ad/eventos/cadu-carreras-de-montana-2-2-2-2-2-2-2-2/
PRIORITY:1
CLASS:PUBLIC
BEGIN:VALARM
TRIGGER:-PT10080M
ACTION:DISPLAY
DESCRIPTION:Reminder
END:VALARM
END:VEVENT
BEGIN:VEVENT
DTSTART:20260311T000000
LOCATION:
TRANSP: OPAQUE
SEQUENCE:0
UID:
DTSTAMP:20260423T065601Z
SUMMARY:CADU Ultimate
DESCRIPTION:https://www.upv.es/entidades/ad/eventos/cadu-carreras-de-montana-2-2-2-2-2-2-2-2-2/
PRIORITY:1
CLASS:PUBLIC
BEGIN:VALARM
TRIGGER:-PT10080M
ACTION:DISPLAY
DESCRIPTION:Reminder
END:VALARM
END:VEVENT
BEGIN:VEVENT
DTSTART:20260314T000000
LOCATION:
TRANSP: OPAQUE
SEQUENCE:0
UID:
DTSTAMP:20260423T065601Z
SUMMARY:CADU Kárate
DESCRIPTION:https://www.upv.es/entidades/ad/eventos/cadu-carreras-de-montana-2-2-2-2-2-2-2-2-2-2/
PRIORITY:1
CLASS:PUBLIC
BEGIN:VALARM
TRIGGER:-PT10080M
ACTION:DISPLAY
DESCRIPTION:Reminder
END:VALARM
END:VEVENT
BEGIN:VEVENT
DTSTART:20260316T000000
LOCATION:
TRANSP: OPAQUE
SEQUENCE:0
UID:
DTSTAMP:20260423T065601Z
SUMMARY:Horario especial de fallas
DESCRIPTION:https://www.upv.es/entidades/ad/eventos/horario-especial-de-fallas/
PRIORITY:1
CLASS:PUBLIC
BEGIN:VALARM
TRIGGER:-PT10080M
ACTION:DISPLAY
DESCRIPTION:Reminder
END:VALARM
END:VEVENT
BEGIN:VEVENT
DTSTART:20260321T143000
LOCATION:
TRANSP: OPAQUE
SEQUENCE:0
UID:
DTSTAMP:20260423T065601Z
SUMMARY:Waterpolo 2ª división nacional
DESCRIPTION:https://www.upv.es/entidades/ad/eventos/waterpolo-2a-division-nacional/
PRIORITY:1
CLASS:PUBLIC
BEGIN:VALARM
TRIGGER:-PT10080M
ACTION:DISPLAY
DESCRIPTION:Reminder
END:VALARM
END:VEVENT
BEGIN:VEVENT
DTSTART:20260322T000000
LOCATION:
TRANSP: OPAQUE
SEQUENCE:0
UID:
DTSTAMP:20260423T065601Z
SUMMARY:Campeonato de España Universitario de Golf
DESCRIPTION:https://www.upv.es/entidades/ad/eventos/cadu-carreras-de-montana-2-2-2-2-2-2-2-2-2-2-2-2-2-2-2-2-2-2-2-2-2-2/
PRIORITY:1
CLASS:PUBLIC
BEGIN:VALARM
TRIGGER:-PT10080M
ACTION:DISPLAY
DESCRIPTION:Reminder
END:VALARM
END:VEVENT
BEGIN:VEVENT
DTSTART:20260324T000000
LOCATION:
TRANSP: OPAQUE
SEQUENCE:0
UID:
DTSTAMP:20260423T065601Z
SUMMARY:Campeonato de España Universitario de Surf y Parasurf
DESCRIPTION:https://www.upv.es/entidades/ad/eventos/cadu-carreras-de-montana-2-2-2-2-2-2-2-2-2-2-2-2-2-2-2-2-2-2-2-2-2-2-2/
PRIORITY:1
CLASS:PUBLIC
BEGIN:VALARM
TRIGGER:-PT10080M
ACTION:DISPLAY
DESCRIPTION:Reminder
END:VALARM
END:VEVENT
BEGIN:VEVENT
DTSTART:20260325T000000
LOCATION:
TRANSP: OPAQUE
SEQUENCE:0
UID:
DTSTAMP:20260423T065601Z
SUMMARY:CADU Baloncesto 3*3
DESCRIPTION:https://www.upv.es/entidades/ad/eventos/cadu-carreras-de-montana-2-2-2-2-2-2-2-2-2-2-2/
PRIORITY:1
CLASS:PUBLIC
BEGIN:VALARM
TRIGGER:-PT10080M
ACTION:DISPLAY
DESCRIPTION:Reminder
END:VALARM
END:VEVENT
BEGIN:VEVENT
DTSTART:20260327T090000
LOCATION:Gandia
TRANSP: OPAQUE
SEQUENCE:0
UID:
DTSTAMP:20260423T065601Z
SUMMARY:Torneo Intercampus
DESCRIPTION:https://www.upv.es/entidades/ad/eventos/torneo-intercampus/
PRIORITY:1
CLASS:PUBLIC
BEGIN:VALARM
TRIGGER:-PT10080M
ACTION:DISPLAY
DESCRIPTION:Reminder
END:VALARM
END:VEVENT
BEGIN:VEVENT
DTSTART:20260327T000000
LOCATION:
TRANSP: OPAQUE
SEQUENCE:0
UID:
DTSTAMP:20260423T065601Z
SUMMARY:CADU Atletismo
DESCRIPTION:https://www.upv.es/entidades/ad/eventos/cadu-carreras-de-montana-2-2-2-2-2-2-2-2-2-2-2-2/
PRIORITY:1
CLASS:PUBLIC
BEGIN:VALARM
TRIGGER:-PT10080M
ACTION:DISPLAY
DESCRIPTION:Reminder
END:VALARM
END:VEVENT
BEGIN:VEVENT
DTSTART:20260327T000000
LOCATION:
TRANSP: OPAQUE
SEQUENCE:0
UID:
DTSTAMP:20260423T065601Z
SUMMARY:CADU Voley playa
DESCRIPTION:https://www.upv.es/entidades/ad/eventos/cadu-carreras-de-montana-2-2-2-2-2-2-2-2-2-2-2-2-2/
PRIORITY:1
CLASS:PUBLIC
BEGIN:VALARM
TRIGGER:-PT10080M
ACTION:DISPLAY
DESCRIPTION:Reminder
END:VALARM
END:VEVENT
BEGIN:VEVENT
DTSTART:20260328T080000
LOCATION:Pabellón UPV
TRANSP: OPAQUE
SEQUENCE:0
UID:
DTSTAMP:20260423T065601Z
SUMMARY:Campeonato Autonómico Universitario y Alevín de judo 2026
DESCRIPTION:https://www.upv.es/entidades/ad/eventos/campeonato-autonomico-universitario-y-alevin-de-judo-2026/
PRIORITY:1
CLASS:PUBLIC
BEGIN:VALARM
TRIGGER:-PT10080M
ACTION:DISPLAY
DESCRIPTION:Reminder
END:VALARM
END:VEVENT
BEGIN:VEVENT
DTSTART:20260328T000000
LOCATION:
TRANSP: OPAQUE
SEQUENCE:0
UID:
DTSTAMP:20260423T065601Z
SUMMARY:III Trofeo Féminas Ayuntamiento de Naquera de ciclismo femenino
DESCRIPTION:https://www.upv.es/entidades/ad/eventos/iii-trofeo-feminas-ayuntamiento-de-naquera-de-ciclismo-femenino/
PRIORITY:1
CLASS:PUBLIC
BEGIN:VALARM
TRIGGER:-PT10080M
ACTION:DISPLAY
DESCRIPTION:Reminder
END:VALARM
END:VEVENT
BEGIN:VEVENT
DTSTART:20260329T000000
LOCATION:
TRANSP: OPAQUE
SEQUENCE:0
UID:
DTSTAMP:20260423T065601Z
SUMMARY:10k Femenina
DESCRIPTION:https://www.upv.es/entidades/ad/eventos/10k-femenina/
PRIORITY:1
CLASS:PUBLIC
BEGIN:VALARM
TRIGGER:-PT10080M
ACTION:DISPLAY
DESCRIPTION:Reminder
END:VALARM
END:VEVENT
BEGIN:VEVENT
DTSTART:20260402T000000
LOCATION:
TRANSP: OPAQUE
SEQUENCE:0
UID:
DTSTAMP:20260423T065601Z
SUMMARY:Horario especial de pascua
DESCRIPTION:https://www.upv.es/entidades/ad/eventos/horario-especial-de-pascua/
PRIORITY:1
CLASS:PUBLIC
BEGIN:VALARM
TRIGGER:-PT10080M
ACTION:DISPLAY
DESCRIPTION:Reminder
END:VALARM
END:VEVENT
BEGIN:VEVENT
DTSTART:20260408T000000
LOCATION:
TRANSP: OPAQUE
SEQUENCE:0
UID:
DTSTAMP:20260423T065601Z
SUMMARY:Campeonato de España Universitario de Hípica
DESCRIPTION:https://www.upv.es/entidades/ad/eventos/cadu-carreras-de-montana-2-2-2-2-2-2-2-2-2-2-2-2-2-2-2-2-2-2-2-2-2-2-2-2/
PRIORITY:1
CLASS:PUBLIC
BEGIN:VALARM
TRIGGER:-PT10080M
ACTION:DISPLAY
DESCRIPTION:Reminder
END:VALARM
END:VEVENT
BEGIN:VEVENT
DTSTART:20260409T000000
LOCATION:
TRANSP: OPAQUE
SEQUENCE:0
UID:
DTSTAMP:20260423T065601Z
SUMMARY:Campeonato de España Universitario de Orientación
DESCRIPTION:https://www.upv.es/entidades/ad/eventos/cadu-carreras-de-montana-2-2-2-2-2-2-2-2-2-2-2-2-2-2-2-2-2-2-2-2-2-2-2-2-2/
PRIORITY:1
CLASS:PUBLIC
BEGIN:VALARM
TRIGGER:-PT10080M
ACTION:DISPLAY
DESCRIPTION:Reminder
END:VALARM
END:VEVENT
BEGIN:VEVENT
DTSTART:20260410T000000
LOCATION:
TRANSP: OPAQUE
SEQUENCE:0
UID:
DTSTAMP:20260423T065601Z
SUMMARY:Campeonato de España Universitario de Natación y natación adaptada
DESCRIPTION:https://www.upv.es/entidades/ad/eventos/cadu-carreras-de-montana-2-2-2-2-2-2-2-2-2-2-2-2-2-2-2-2-2-2-2-2-2-2-2-2-2-2/
PRIORITY:1
CLASS:PUBLIC
BEGIN:VALARM
TRIGGER:-PT10080M
ACTION:DISPLAY
DESCRIPTION:Reminder
END:VALARM
END:VEVENT
BEGIN:VEVENT
DTSTART:20260411T000000
LOCATION:
TRANSP: OPAQUE
SEQUENCE:0
UID:
DTSTAMP:20260423T065601Z
SUMMARY:Campeonato de España Universitario de Triatlón
DESCRIPTION:https://www.upv.es/entidades/ad/eventos/cadu-carreras-de-montana-2-2-2-2-2-2-2-2-2-2-2-2-2-2-2-2-2-2-2-2-2-2-2-2-2-2-2/
PRIORITY:1
CLASS:PUBLIC
BEGIN:VALARM
TRIGGER:-PT10080M
ACTION:DISPLAY
DESCRIPTION:Reminder
END:VALARM
END:VEVENT
BEGIN:VEVENT
DTSTART:20260413T000000
LOCATION:
TRANSP: OPAQUE
SEQUENCE:0
UID:
DTSTAMP:20260423T065601Z
SUMMARY:Campeonato de España Universitario de Bádminton
DESCRIPTION:https://www.upv.es/entidades/ad/eventos/cadu-carreras-de-montana-2-2-2-2-2-2-2-2-2-2-2-2-2-2-2-2-2-2-2-2-2-2-2-2-2-2-2-2/
PRIORITY:1
CLASS:PUBLIC
BEGIN:VALARM
TRIGGER:-PT10080M
ACTION:DISPLAY
DESCRIPTION:Reminder
END:VALARM
END:VEVENT
BEGIN:VEVENT
DTSTART:20260414T000000
LOCATION:
TRANSP: OPAQUE
SEQUENCE:0
UID:
DTSTAMP:20260423T065601Z
SUMMARY:Campeonato de España Universitario de Esgrima
DESCRIPTION:https://www.upv.es/entidades/ad/eventos/cadu-carreras-de-montana-2-2-2-2-2-2-2-2-2-2-2-2-2-2-2-2-2-2-2-2-2-2-2-2-2-2-2-2-2/
PRIORITY:1
CLASS:PUBLIC
BEGIN:VALARM
TRIGGER:-PT10080M
ACTION:DISPLAY
DESCRIPTION:Reminder
END:VALARM
END:VEVENT
BEGIN:VEVENT
DTSTART:20260414T000000
LOCATION:
TRANSP: OPAQUE
SEQUENCE:0
UID:
DTSTAMP:20260423T065601Z
SUMMARY:Campeonato de España Universitario de Escalada
DESCRIPTION:https://www.upv.es/entidades/ad/eventos/cadu-carreras-de-montana-2-2-2-2-2-2-2-2-2-2-2-2-2-2-2-2-2-2-2-2-2-2-2-2-2-2-2-2-2-2/
PRIORITY:1
CLASS:PUBLIC
BEGIN:VALARM
TRIGGER:-PT10080M
ACTION:DISPLAY
DESCRIPTION:Reminder
END:VALARM
END:VEVENT
BEGIN:VEVENT
DTSTART:20260414T000000
LOCATION:
TRANSP: OPAQUE
SEQUENCE:0
UID:
DTSTAMP:20260423T065601Z
SUMMARY:Campeonato de España Universitario de Vela
DESCRIPTION:https://www.upv.es/entidades/ad/eventos/cadu-carreras-de-montana-2-2-2-2-2-2-2-2-2-2-2-2-2-2-2-2-2-2-2-2-2-2-2-2-2-2-2-2-2-2-2/
PRIORITY:1
CLASS:PUBLIC
BEGIN:VALARM
TRIGGER:-PT10080M
ACTION:DISPLAY
DESCRIPTION:Reminder
END:VALARM
END:VEVENT
BEGIN:VEVENT
DTSTART:20260417T000000
LOCATION:
TRANSP: OPAQUE
SEQUENCE:0
UID:
DTSTAMP:20260423T065601Z
SUMMARY:Campeonato de España Universitario de kárate
DESCRIPTION:https://www.upv.es/entidades/ad/eventos/cadu-carreras-de-montana-2-2-2-2-2-2-2-2-2-2-2-2-2-2-2-2-2-2-2-2-2-2-2-2-2-2-2-2-2-2-2-2/
PRIORITY:1
CLASS:PUBLIC
BEGIN:VALARM
TRIGGER:-PT10080M
ACTION:DISPLAY
DESCRIPTION:Reminder
END:VALARM
END:VEVENT
BEGIN:VEVENT
DTSTART:20260418T161500
LOCATION:
TRANSP: OPAQUE
SEQUENCE:0
UID:
DTSTAMP:20260423T065601Z
SUMMARY:waterpolo 2ª división nacional
DESCRIPTION:https://www.upv.es/entidades/ad/eventos/waterpolo-2a-division-nacional-2/
PRIORITY:1
CLASS:PUBLIC
BEGIN:VALARM
TRIGGER:-PT10080M
ACTION:DISPLAY
DESCRIPTION:Reminder
END:VALARM
END:VEVENT
BEGIN:VEVENT
DTSTART:20260419T000000
LOCATION:
TRANSP: OPAQUE
SEQUENCE:0
UID:
DTSTAMP:20260423T065601Z
SUMMARY:CADU Maratón
DESCRIPTION:https://www.upv.es/entidades/ad/eventos/cadu-carreras-de-montana-2-2-2-2-2-2-2-2-2-2-2-2-2-2-2/
PRIORITY:1
CLASS:PUBLIC
BEGIN:VALARM
TRIGGER:-PT10080M
ACTION:DISPLAY
DESCRIPTION:Reminder
END:VALARM
END:VEVENT
BEGIN:VEVENT
DTSTART:20260420T000000
LOCATION:
TRANSP: OPAQUE
SEQUENCE:0
UID:
DTSTAMP:20260423T065601Z
SUMMARY:Campeonato de España Universitario de pádel
DESCRIPTION:https://www.upv.es/entidades/ad/eventos/cadu-carreras-de-montana-2-2-2-2-2-2-2-2-2-2-2-2-2-2-2-2-2-2-2-2-2-2-2-2-2-2-2-2-2-2-2-2-2/
PRIORITY:1
CLASS:PUBLIC
BEGIN:VALARM
TRIGGER:-PT10080M
ACTION:DISPLAY
DESCRIPTION:Reminder
END:VALARM
END:VEVENT
BEGIN:VEVENT
DTSTART:20260422T000000
LOCATION:
TRANSP: OPAQUE
SEQUENCE:0
UID:
DTSTAMP:20260423T065601Z
SUMMARY:CADU Squash
DESCRIPTION:https://www.upv.es/entidades/ad/eventos/cadu-carreras-de-montana-2-2-2-2-2-2-2-2-2-2-2-2-2-2-2-2/
PRIORITY:1
CLASS:PUBLIC
BEGIN:VALARM
TRIGGER:-PT10080M
ACTION:DISPLAY
DESCRIPTION:Reminder
END:VALARM
END:VEVENT
BEGIN:VEVENT
DTSTART:20260424T000000
LOCATION:
TRANSP: OPAQUE
SEQUENCE:0
UID:
DTSTAMP:20260423T065601Z
SUMMARY:Campeonato de España Universitario de carreras de montaña
DESCRIPTION:https://www.upv.es/entidades/ad/eventos/cadu-carreras-de-montana-2-2-2-2-2-2-2-2-2-2-2-2-2-2-2-2-2-2-2-2-2-2-2-2-2-2-2-2-2-2-2-2-2-2/
PRIORITY:1
CLASS:PUBLIC
BEGIN:VALARM
TRIGGER:-PT10080M
ACTION:DISPLAY
DESCRIPTION:Reminder
END:VALARM
END:VEVENT
BEGIN:VEVENT
DTSTART:20260427T000000
LOCATION:
TRANSP: OPAQUE
SEQUENCE:0
UID:
DTSTAMP:20260423T065601Z
SUMMARY:Campeonato de España Universitario  de tenis de mesa
DESCRIPTION:https://www.upv.es/entidades/ad/eventos/cadu-carreras-de-montana-2-2-2-2-2-2-2-2-2-2-2-2-2-2-2-2-2-2-2-2-2-2-2-2-2-2-2-2-2-2-2-2-2-2-2/
PRIORITY:1
CLASS:PUBLIC
BEGIN:VALARM
TRIGGER:-PT10080M
ACTION:DISPLAY
DESCRIPTION:Reminder
END:VALARM
END:VEVENT
BEGIN:VEVENT
DTSTART:20260429T000000
LOCATION:
TRANSP: OPAQUE
SEQUENCE:0
UID:
DTSTAMP:20260423T065601Z
SUMMARY:Campeonato de España Universitario  de tiro con arco
DESCRIPTION:https://www.upv.es/entidades/ad/eventos/cadu-carreras-de-montana-2-2-2-2-2-2-2-2-2-2-2-2-2-2-2-2-2-2-2-2-2-2-2-2-2-2-2-2-2-2-2-2-2-2-2-2/
PRIORITY:1
CLASS:PUBLIC
BEGIN:VALARM
TRIGGER:-PT10080M
ACTION:DISPLAY
DESCRIPTION:Reminder
END:VALARM
END:VEVENT
BEGIN:VEVENT
DTSTART:20260502T150000
LOCATION:
TRANSP: OPAQUE
SEQUENCE:0
UID:
DTSTAMP:20260423T065601Z
SUMMARY:waterpolo 2ª división nacional
DESCRIPTION:https://www.upv.es/entidades/ad/eventos/waterpolo-2a-division-nacional-3/
PRIORITY:1
CLASS:PUBLIC
BEGIN:VALARM
TRIGGER:-PT10080M
ACTION:DISPLAY
DESCRIPTION:Reminder
END:VALARM
END:VEVENT
BEGIN:VEVENT
DTSTART:20260504T000000
LOCATION:
TRANSP: OPAQUE
SEQUENCE:0
UID:
DTSTAMP:20260423T065601Z
SUMMARY:Campeonato de España Universitario  de tenis
DESCRIPTION:https://www.upv.es/entidades/ad/eventos/cadu-carreras-de-montana-2-2-2-2-2-2-2-2-2-2-2-2-2-2-2-2-2-2-2-2-2-2-2-2-2-2-2-2-2-2-2-2-2-2-2-2-2/
PRIORITY:1
CLASS:PUBLIC
BEGIN:VALARM
TRIGGER:-PT10080M
ACTION:DISPLAY
DESCRIPTION:Reminder
END:VALARM
END:VEVENT
BEGIN:VEVENT
DTSTART:20260508T000000
LOCATION:
TRANSP: OPAQUE
SEQUENCE:0
UID:
DTSTAMP:20260423T065601Z
SUMMARY:Campeonato de España Universitario de Atletismo
DESCRIPTION:https://www.upv.es/entidades/ad/eventos/cadu-carreras-de-montana-2-2-2-2-2-2-2-2-2-2-2-2-2-2-2-2-2-2-2/
PRIORITY:1
CLASS:PUBLIC
BEGIN:VALARM
TRIGGER:-PT10080M
ACTION:DISPLAY
DESCRIPTION:Reminder
END:VALARM
END:VEVENT
BEGIN:VEVENT
DTSTART:20260508T000000
LOCATION:
TRANSP: OPAQUE
SEQUENCE:0
UID:
DTSTAMP:20260423T065601Z
SUMMARY:Campeonato de España Universitario  de Judo
DESCRIPTION:https://www.upv.es/entidades/ad/eventos/cadu-carreras-de-montana-2-2-2-2-2-2-2-2-2-2-2-2-2-2-2-2-2-2-2-2-2-2-2-2-2-2-2-2-2-2-2-2-2-2-2-2-2-2/
PRIORITY:1
CLASS:PUBLIC
BEGIN:VALARM
TRIGGER:-PT10080M
ACTION:DISPLAY
DESCRIPTION:Reminder
END:VALARM
END:VEVENT
BEGIN:VEVENT
DTSTART:20260508T000000
LOCATION:
TRANSP: OPAQUE
SEQUENCE:0
UID:
DTSTAMP:20260423T065601Z
SUMMARY:Campeonato de España Universitario  de Lucha
DESCRIPTION:https://www.upv.es/entidades/ad/eventos/cadu-carreras-de-montana-2-2-2-2-2-2-2-2-2-2-2-2-2-2-2-2-2-2-2-2-2-2-2-2-2-2-2-2-2-2-2-2-2-2-2-2-2-2-2/
PRIORITY:1
CLASS:PUBLIC
BEGIN:VALARM
TRIGGER:-PT10080M
ACTION:DISPLAY
DESCRIPTION:Reminder
END:VALARM
END:VEVENT
BEGIN:VEVENT
DTSTART:20260508T000000
LOCATION:
TRANSP: OPAQUE
SEQUENCE:0
UID:
DTSTAMP:20260423T065601Z
SUMMARY:Campeonato de España Universitario  de Taekwondo
DESCRIPTION:https://www.upv.es/entidades/ad/eventos/cadu-carreras-de-montana-2-2-2-2-2-2-2-2-2-2-2-2-2-2-2-2-2-2-2-2-2-2-2-2-2-2-2-2-2-2-2-2-2-2-2-2-2-2-2-2/
PRIORITY:1
CLASS:PUBLIC
BEGIN:VALARM
TRIGGER:-PT10080M
ACTION:DISPLAY
DESCRIPTION:Reminder
END:VALARM
END:VEVENT
BEGIN:VEVENT
DTSTART:20260509T161500
LOCATION:
TRANSP: OPAQUE
SEQUENCE:0
UID:
DTSTAMP:20260423T065601Z
SUMMARY:waterpolo 2ª división nacional
DESCRIPTION:https://www.upv.es/entidades/ad/eventos/waterpolo-2a-division-nacional-4/
PRIORITY:1
CLASS:PUBLIC
BEGIN:VALARM
TRIGGER:-PT10080M
ACTION:DISPLAY
DESCRIPTION:Reminder
END:VALARM
END:VEVENT
BEGIN:VEVENT
DTSTART:20260514T000000
LOCATION:
TRANSP: OPAQUE
SEQUENCE:0
UID:
DTSTAMP:20260423T065601Z
SUMMARY:Trofeo UPV
DESCRIPTION:https://www.upv.es/entidades/ad/eventos/trofeo-upv/
PRIORITY:1
CLASS:PUBLIC
BEGIN:VALARM
TRIGGER:-PT10080M
ACTION:DISPLAY
DESCRIPTION:Reminder
END:VALARM
END:VEVENT
BEGIN:VEVENT
DTSTART:20260515T000000
LOCATION:
TRANSP: OPAQUE
SEQUENCE:0
UID:
DTSTAMP:20260423T065601Z
SUMMARY:Campeonato de España Universitario  de Remo
DESCRIPTION:https://www.upv.es/entidades/ad/eventos/cadu-carreras-de-montana-2-2-2-2-2-2-2-2-2-2-2-2-2-2-2-2-2-2-2-2-2-2-2-2-2-2-2-2-2-2-2-2-2-2-2-2-2-2-2-2-2-2/
PRIORITY:1
CLASS:PUBLIC
BEGIN:VALARM
TRIGGER:-PT10080M
ACTION:DISPLAY
DESCRIPTION:Reminder
END:VALARM
END:VEVENT
BEGIN:VEVENT
DTSTART:20260516T000000
LOCATION:
TRANSP: OPAQUE
SEQUENCE:0
UID:
DTSTAMP:20260423T065601Z
SUMMARY:Trofeo de Vela UPV
DESCRIPTION:https://www.upv.es/entidades/ad/eventos/trofeo-de-vela-upv/
PRIORITY:1
CLASS:PUBLIC
BEGIN:VALARM
TRIGGER:-PT10080M
ACTION:DISPLAY
DESCRIPTION:Reminder
END:VALARM
END:VEVENT
BEGIN:VEVENT
DTSTART:20260516T000000
LOCATION:
TRANSP: OPAQUE
SEQUENCE:0
UID:
DTSTAMP:20260423T065601Z
SUMMARY:CADU Triatlón
DESCRIPTION:https://www.upv.es/entidades/ad/eventos/cadu-carreras-de-montana-2-2-2-2-2-2-2-2-2-2-2-2-2-2-2-2-2/
PRIORITY:1
CLASS:PUBLIC
BEGIN:VALARM
TRIGGER:-PT10080M
ACTION:DISPLAY
DESCRIPTION:Reminder
END:VALARM
END:VEVENT
BEGIN:VEVENT
DTSTART:20260516T000000
LOCATION:
TRANSP: OPAQUE
SEQUENCE:0
UID:
DTSTAMP:20260423T065601Z
SUMMARY:Campeonato de España Universitario de Ajedrez
DESCRIPTION:https://www.upv.es/entidades/ad/eventos/cadu-carreras-de-montana-2-2-2-2-2-2-2-2-2-2-2-2-2-2-2-2-2-2/
PRIORITY:1
CLASS:PUBLIC
BEGIN:VALARM
TRIGGER:-PT10080M
ACTION:DISPLAY
DESCRIPTION:Reminder
END:VALARM
END:VEVENT
BEGIN:VEVENT
DTSTART:20260614T000000
LOCATION:
TRANSP: OPAQUE
SEQUENCE:0
UID:
DTSTAMP:20260423T065601Z
SUMMARY:II gran premio de ciclismo  UPV
DESCRIPTION:https://www.upv.es/entidades/ad/eventos/ii-gran-premio-de-ciclismo-upv/
PRIORITY:1
CLASS:PUBLIC
BEGIN:VALARM
TRIGGER:-PT10080M
ACTION:DISPLAY
DESCRIPTION:Reminder
END:VALARM
END:VEVENT
BEGIN:VEVENT
DTSTART:20260615T000000
LOCATION:
TRANSP: OPAQUE
SEQUENCE:0
UID:
DTSTAMP:20260423T065601Z
SUMMARY:Entrega de Trofeos ligas 25-26
DESCRIPTION:https://www.upv.es/entidades/ad/eventos/entrega-de-trofeos-ligas-25-26/
PRIORITY:1
CLASS:PUBLIC
BEGIN:VALARM
TRIGGER:-PT10080M
ACTION:DISPLAY
DESCRIPTION:Reminder
END:VALARM
END:VEVENT
END:VCALENDAR
