BEGIN:VCALENDAR
VERSION:2.0
METHOD:PUBLISH
BEGIN:VEVENT
DTSTART:20240222T000000
LOCATION:
TRANSP: OPAQUE
SEQUENCE:0
UID:
DTSTAMP:20260422T191751Z
SUMMARY:FUNDACIÓN ONCE-CRUE-UPV 2024 CERRADA
DESCRIPTION:https://www.upv.es/contenidos/siepract/eventos/becas-once-crue-upv-2024/
PRIORITY:1
CLASS:PUBLIC
BEGIN:VALARM
TRIGGER:-PT10080M
ACTION:DISPLAY
DESCRIPTION:Reminder
END:VALARM
END:VEVENT
END:VCALENDAR
